BEGIN:VCALENDAR
VERSION:2.0
PRODID:-//Rink 11 - Wickliffe - ECPv6.15.20//NONSGML v1.0//EN
CALSCALE:GREGORIAN
METHOD:PUBLISH
X-WR-CALNAME:Rink 11 - Wickliffe
X-ORIGINAL-URL:https://www.unitedskates.com/wickliffe
X-WR-CALDESC:Events for Rink 11 - Wickliffe
REFRESH-INTERVAL;VALUE=DURATION:PT1H
X-Robots-Tag:noindex
X-PUBLISHED-TTL:PT1H
BEGIN:VTIMEZONE
TZID:America/New_York
BEGIN:DAYLIGHT
TZOFFSETFROM:-0500
TZOFFSETTO:-0400
TZNAME:EDT
DTSTART:20240310T070000
END:DAYLIGHT
BEGIN:STANDARD
TZOFFSETFROM:-0400
TZOFFSETTO:-0500
TZNAME:EST
DTSTART:20241103T060000
END:STANDARD
BEGIN:DAYLIGHT
TZOFFSETFROM:-0500
TZOFFSETTO:-0400
TZNAME:EDT
DTSTART:20250309T070000
END:DAYLIGHT
BEGIN:STANDARD
TZOFFSETFROM:-0400
TZOFFSETTO:-0500
TZNAME:EST
DTSTART:20251102T060000
END:STANDARD
BEGIN:DAYLIGHT
TZOFFSETFROM:-0500
TZOFFSETTO:-0400
TZNAME:EDT
DTSTART:20260308T070000
END:DAYLIGHT
BEGIN:STANDARD
TZOFFSETFROM:-0400
TZOFFSETTO:-0500
TZNAME:EST
DTSTART:20261101T060000
END:STANDARD
END:VTIMEZONE
BEGIN:VEVENT
DTSTART;TZID=America/New_York:20250207T183000
DTEND;TZID=America/New_York:20250207T210000
DTSTAMP:20260424T153942
CREATED:20241219T175008Z
LAST-MODIFIED:20241219T204926Z
UID:19071-1738953000-1738962000@www.unitedskates.com
SUMMARY:Mickey and Minnies Valentine's Day
DESCRIPTION:Get ready for a magical celebration! \nMickey and Minnie are excited to invite you to kick off Valentine’s Day in style! \nJoin us for a night filled with love\, laughter and enchanting moments. \nFriday\, February 7th 6:30pm-9:00pm \nAdmission $12.00 \nSkate Rental $6.00 \nDon’t miss this chance to see your favorite iconic characters! \nPs. Mickey and Minnie even added a fun surprise for all of you! They have a balloon artist coming to create your favorite animal\, she is here from 7:00pm-8:00pm \nParents\, if your child love Mickey and Minnie book their birthday party and Mickey and Minnie will be there! Book Now!
URL:https://www.unitedskates.com/wickliffe/event/mickey-and-minnies-valentines-day/
CATEGORIES:Family Events,Public Skates,Special Events
ATTACH;FMTTYPE=image/jpeg:https://unitedskates-assets.sfo3.digitaloceanspaces.com/wp-content/uploads/sites/12/2024/12/mickey-and-minnie-valentines-page-001-scaled.jpg
END:VEVENT
BEGIN:VEVENT
DTSTART;TZID=America/New_York:20250207T213000
DTEND;TZID=America/New_York:20250208T003000
DTSTAMP:20260424T153942
CREATED:20241219T175629Z
LAST-MODIFIED:20250107T160130Z
UID:19073-1738963800-1738974600@www.unitedskates.com
SUMMARY:Throwback R/B Skate
DESCRIPTION:Adults\, are you ready to relive the magic? \nWe’re throwing it back to the golden era of R&B music! \nJoin us for an unforgettable night filled with soulful tunes\, nostalgic vibes\, and skating like nobody’s watching! \nFriday\, February 7th 9:30pm-12:30am \nAdmission $12.00 \nSkate Rental $6.00 \n18+ with valid ID \n  \n 
URL:https://www.unitedskates.com/wickliffe/event/throwback-r-b-skate/
CATEGORIES:Adult Events,Special Events
ATTACH;FMTTYPE=image/jpeg:https://unitedskates-assets.sfo3.digitaloceanspaces.com/wp-content/uploads/sites/12/2024/12/Throwback-Feb-page-001-scaled.jpg
END:VEVENT
END:VCALENDAR