BEGIN:VCALENDAR
VERSION:2.0
PRODID:-//Rink 11 - Wickliffe - ECPv6.15.20//NONSGML v1.0//EN
CALSCALE:GREGORIAN
METHOD:PUBLISH
X-WR-CALNAME:Rink 11 - Wickliffe
X-ORIGINAL-URL:https://www.unitedskates.com/wickliffe
X-WR-CALDESC:Events for Rink 11 - Wickliffe
REFRESH-INTERVAL;VALUE=DURATION:PT1H
X-Robots-Tag:noindex
X-PUBLISHED-TTL:PT1H
BEGIN:VTIMEZONE
TZID:America/New_York
BEGIN:DAYLIGHT
TZOFFSETFROM:-0500
TZOFFSETTO:-0400
TZNAME:EDT
DTSTART:20240310T070000
END:DAYLIGHT
BEGIN:STANDARD
TZOFFSETFROM:-0400
TZOFFSETTO:-0500
TZNAME:EST
DTSTART:20241103T060000
END:STANDARD
BEGIN:DAYLIGHT
TZOFFSETFROM:-0500
TZOFFSETTO:-0400
TZNAME:EDT
DTSTART:20250309T070000
END:DAYLIGHT
BEGIN:STANDARD
TZOFFSETFROM:-0400
TZOFFSETTO:-0500
TZNAME:EST
DTSTART:20251102T060000
END:STANDARD
BEGIN:DAYLIGHT
TZOFFSETFROM:-0500
TZOFFSETTO:-0400
TZNAME:EDT
DTSTART:20260308T070000
END:DAYLIGHT
BEGIN:STANDARD
TZOFFSETFROM:-0400
TZOFFSETTO:-0500
TZNAME:EST
DTSTART:20261101T060000
END:STANDARD
END:VTIMEZONE
BEGIN:VEVENT
DTSTART;TZID=America/New_York:20250125T093000
DTEND;TZID=America/New_York:20250125T110000
DTSTAMP:20260425T124558
CREATED:20241202T181010Z
LAST-MODIFIED:20241204T190255Z
UID:18972-1737797400-1737802800@www.unitedskates.com
SUMMARY:Glinda's Enchanted Breakfast
DESCRIPTION:Step into a world of magic at Glinda’s Enchanted Breakfast! \nJoin the beloved Glinda\, along with her enchanting princess friends-Snow White\, Tiana and Belle! \nEnjoy a delightful morning filled with joyful singing\, captivating dancing\, and whimsical storytelling. \nHave your littles dress up as their favorite Princess or as their favorite witch. \nIndulge in a scrumptious breakfast buffet featuring a variety of delicious options. \nSaturday\, January 25th 9:30am-11:00am \nOnly $20.00 includes the delicious breakfast buffet of pancakes\, scrambled eggs\, bacon\, pastries\, coffee and juice \nAdults and Children 3 and older must pay. \nChildren 2 and younger are FREE. \nThis enchanting experience requires tickets to be purchased in advance. \nSecure your SPOT NOW for a morning filled with joy and wonder. BUY YOUR TICKETS HERE! \nOf course\, picture opportunities will be available! \nThis is a non-skating event.
URL:https://www.unitedskates.com/wickliffe/event/glindas-enchanted-breakfast/
CATEGORIES:Family Events,Public Skates,Special Events
ATTACH;FMTTYPE=image/jpeg:https://unitedskates-assets.sfo3.digitaloceanspaces.com/wp-content/uploads/sites/12/2024/12/Glindas-Enchanted-Breakfast-2025.jpg
END:VEVENT
BEGIN:VEVENT
DTSTART;TZID=America/New_York:20250125T123000
DTEND;TZID=America/New_York:20250125T150000
DTSTAMP:20260425T124558
CREATED:20241129T214727Z
LAST-MODIFIED:20241202T204807Z
UID:18941-1737808200-1737817200@www.unitedskates.com
SUMMARY:Nerd Skate
DESCRIPTION:Attention all nerd fans! \nGet excited because our Nerd Day is making a triumphant return! \nSaturday\, January 25th 12:30pm-3:00pm \nAdmission $12.00 \nSkate Rental $6.00 \nJoin us for a fantastic event where you’ll have the chance to win awesome nerd-themed prizes throughout the session! \nBut that’s not all=why not take it up a notch? Feel free to come dressed as your favorite nerdy character\, just like Sheldon! \nIt’s a perfect opportunity to showcase your fandom and have a blast with fellow enthusiasts.
URL:https://www.unitedskates.com/wickliffe/event/nerd-skate-2/
CATEGORIES:Family Events,Public Skates,Special Events
ATTACH;FMTTYPE=image/jpeg:https://unitedskates-assets.sfo3.digitaloceanspaces.com/wp-content/uploads/sites/12/2024/11/NERDS-DAY-SKATE-2024-page-001-1-scaled.jpg
END:VEVENT
END:VCALENDAR