BEGIN:VCALENDAR
VERSION:2.0
PRODID:-//Rink 11 - Wickliffe - ECPv6.15.20//NONSGML v1.0//EN
CALSCALE:GREGORIAN
METHOD:PUBLISH
X-WR-CALNAME:Rink 11 - Wickliffe
X-ORIGINAL-URL:https://www.unitedskates.com/wickliffe
X-WR-CALDESC:Events for Rink 11 - Wickliffe
REFRESH-INTERVAL;VALUE=DURATION:PT1H
X-Robots-Tag:noindex
X-PUBLISHED-TTL:PT1H
BEGIN:VTIMEZONE
TZID:America/New_York
BEGIN:DAYLIGHT
TZOFFSETFROM:-0500
TZOFFSETTO:-0400
TZNAME:EDT
DTSTART:20240310T070000
END:DAYLIGHT
BEGIN:STANDARD
TZOFFSETFROM:-0400
TZOFFSETTO:-0500
TZNAME:EST
DTSTART:20241103T060000
END:STANDARD
BEGIN:DAYLIGHT
TZOFFSETFROM:-0500
TZOFFSETTO:-0400
TZNAME:EDT
DTSTART:20250309T070000
END:DAYLIGHT
BEGIN:STANDARD
TZOFFSETFROM:-0400
TZOFFSETTO:-0500
TZNAME:EST
DTSTART:20251102T060000
END:STANDARD
BEGIN:DAYLIGHT
TZOFFSETFROM:-0500
TZOFFSETTO:-0400
TZNAME:EDT
DTSTART:20260308T070000
END:DAYLIGHT
BEGIN:STANDARD
TZOFFSETFROM:-0400
TZOFFSETTO:-0500
TZNAME:EST
DTSTART:20261101T060000
END:STANDARD
END:VTIMEZONE
BEGIN:VEVENT
DTSTART;TZID=America/New_York:20250105T110000
DTEND;TZID=America/New_York:20250105T150000
DTSTAMP:20260425T073902
CREATED:20240904T200506Z
LAST-MODIFIED:20240904T200507Z
UID:17738-1736074800-1736089200@www.unitedskates.com
SUMMARY:Girl Scout Craft and Tinkering STEM Skate
DESCRIPTION:Calling all Girl Scouts! \nWe’re thrilled to invite you to our engaging Craft and Tinker STEM Skate event! \nThis is a fantastic opportunity to combine your love for skating with exciting hands-on STEM activities. \nSunday\, January 5th 11:00am-3:00pm \n1st hour Learn about STEM at United Skates \n2nd & 3rd Hour\, join our public session and earn your STEM Badge! \nChoose between 2 amazing packages \n$19.00 includes admission\, skate rental\, STEM activities\, a hotdog\, bag of chips\, a drink and a cookie \n$22.00 includes admission\, skate rental\, STEM activities\, a hotdog\, bag of chips\, a drink\, a cookie and a Craft and Tinker Patch \nDon’t miss this unique experience filled with fun\, friendship\, and learning-mark your calendars and prepare for a memorable day of skating and crafting! \nAdvanced reservations are required! Call Amber today 440-944-5301 \n 
URL:https://www.unitedskates.com/wickliffe/event/girl-scout-craft-and-tinkering-stem-skate/
CATEGORIES:Family Events,Public Skates,Special Events
ATTACH;FMTTYPE=image/jpeg:https://unitedskates-assets.sfo3.digitaloceanspaces.com/wp-content/uploads/sites/12/2024/09/Girl-Scout-Badge-Craft-Tinker-2024-editable-1-page-001-scaled.jpg
END:VEVENT
END:VCALENDAR