BEGIN:VCALENDAR
VERSION:2.0
PRODID:-//Rink 11 - Wickliffe - ECPv6.15.20//NONSGML v1.0//EN
CALSCALE:GREGORIAN
METHOD:PUBLISH
X-WR-CALNAME:Rink 11 - Wickliffe
X-ORIGINAL-URL:https://www.unitedskates.com/wickliffe
X-WR-CALDESC:Events for Rink 11 - Wickliffe
REFRESH-INTERVAL;VALUE=DURATION:PT1H
X-Robots-Tag:noindex
X-PUBLISHED-TTL:PT1H
BEGIN:VTIMEZONE
TZID:America/New_York
BEGIN:DAYLIGHT
TZOFFSETFROM:-0500
TZOFFSETTO:-0400
TZNAME:EDT
DTSTART:20240310T070000
END:DAYLIGHT
BEGIN:STANDARD
TZOFFSETFROM:-0400
TZOFFSETTO:-0500
TZNAME:EST
DTSTART:20241103T060000
END:STANDARD
BEGIN:DAYLIGHT
TZOFFSETFROM:-0500
TZOFFSETTO:-0400
TZNAME:EDT
DTSTART:20250309T070000
END:DAYLIGHT
BEGIN:STANDARD
TZOFFSETFROM:-0400
TZOFFSETTO:-0500
TZNAME:EST
DTSTART:20251102T060000
END:STANDARD
BEGIN:DAYLIGHT
TZOFFSETFROM:-0500
TZOFFSETTO:-0400
TZNAME:EDT
DTSTART:20260308T070000
END:DAYLIGHT
BEGIN:STANDARD
TZOFFSETFROM:-0400
TZOFFSETTO:-0500
TZNAME:EST
DTSTART:20261101T060000
END:STANDARD
END:VTIMEZONE
BEGIN:VEVENT
DTSTART;TZID=America/New_York:20250102T123000
DTEND;TZID=America/New_York:20250102T150000
DTSTAMP:20260425T195530
CREATED:20241016T195018Z
LAST-MODIFIED:20241023T010658Z
UID:18364-1735821000-1735830000@www.unitedskates.com
SUMMARY:Sno Cone Skate
DESCRIPTION:It’s Sno Cone Day! Come cool off from skating with a refreshing treat-get a FREE snow cone with your paid admission! \nJoin us for a fun-filled day of skating and enjoy this delightful\, icy treat in a variety of flavors. \nWhether you prefer classic cherry\, tropical blue raspberry or something fruity there’s a sno cone waiting just for you! \nThursday\, January 2nd 12:30pm-3:00pm \nAdmission $11.00 \nSkate Rental $6.00 \nIt’s the perfect way spend your day since there’s no school! Add some sweetness to your day! \nDon’t miss out on this delicious offer-grab your friends and family!
URL:https://www.unitedskates.com/wickliffe/event/sno-cone-skate-11/
CATEGORIES:Family Events,Public Skates,Special Events
ATTACH;FMTTYPE=image/jpeg:https://unitedskates-assets.sfo3.digitaloceanspaces.com/wp-content/uploads/sites/12/2023/04/sno-cone-tile.jpg
END:VEVENT
END:VCALENDAR