BEGIN:VCALENDAR
VERSION:2.0
PRODID:-//Rink 11 - Wickliffe - ECPv6.15.20//NONSGML v1.0//EN
CALSCALE:GREGORIAN
METHOD:PUBLISH
X-WR-CALNAME:Rink 11 - Wickliffe
X-ORIGINAL-URL:https://www.unitedskates.com/wickliffe
X-WR-CALDESC:Events for Rink 11 - Wickliffe
REFRESH-INTERVAL;VALUE=DURATION:PT1H
X-Robots-Tag:noindex
X-PUBLISHED-TTL:PT1H
BEGIN:VTIMEZONE
TZID:America/New_York
BEGIN:DAYLIGHT
TZOFFSETFROM:-0500
TZOFFSETTO:-0400
TZNAME:EDT
DTSTART:20250309T070000
END:DAYLIGHT
BEGIN:STANDARD
TZOFFSETFROM:-0400
TZOFFSETTO:-0500
TZNAME:EST
DTSTART:20251102T060000
END:STANDARD
BEGIN:DAYLIGHT
TZOFFSETFROM:-0500
TZOFFSETTO:-0400
TZNAME:EDT
DTSTART:20260308T070000
END:DAYLIGHT
BEGIN:STANDARD
TZOFFSETFROM:-0400
TZOFFSETTO:-0500
TZNAME:EST
DTSTART:20261101T060000
END:STANDARD
BEGIN:DAYLIGHT
TZOFFSETFROM:-0500
TZOFFSETTO:-0400
TZNAME:EDT
DTSTART:20270314T070000
END:DAYLIGHT
BEGIN:STANDARD
TZOFFSETFROM:-0400
TZOFFSETTO:-0500
TZNAME:EST
DTSTART:20271107T060000
END:STANDARD
END:VTIMEZONE
BEGIN:VEVENT
DTSTART;TZID=America/New_York:20260510T170000
DTEND;TZID=America/New_York:20260510T200000
DTSTAMP:20260419T174446
CREATED:20260401T183427Z
LAST-MODIFIED:20260402T201207Z
UID:24041-1778432400-1778443200@www.unitedskates.com
SUMMARY:Mother's Day Skate
DESCRIPTION:💐 Celebrate Mother’s Day the FUN way! 💐 \nJoin us this Mother’s Day for a special evening filled with skating\, music\, laughter\, and unforgettable family memories! Treat Mom to something different this year and spend quality time together on the rink. Whether you’re gliding around the floor\, playing games\, or just enjoying the atmosphere\, it’s the perfect way to celebrate the amazing moms in your life 💖🛼 \n✨ BONUS: All Moms skate FREE! ✨ \n📅 Sunday\, May 10th\n⏰ 5:00pm–8:00pm \n🎟️ Admission: $12 Online | $14 At the Door\n🛼 Skate Rental: $6.00 \nBring the whole family out for a night of fun and celebration—you don’t want to miss this special Mother’s Day event! \n🎟️ Purchase your tickets online now and save—spots may fill quickly! Buy Now!
URL:https://www.unitedskates.com/wickliffe/event/mothers-day-skate-2/
CATEGORIES:Family Events,Public Skates,Special Events
ATTACH;FMTTYPE=image/png:https://unitedskates-assets.sfo3.digitaloceanspaces.com/wp-content/uploads/sites/12/2026/04/Fathers-Day-Skate.png
END:VEVENT
BEGIN:VEVENT
DTSTART;TZID=America/New_York:20260510T210000
DTEND;TZID=America/New_York:20260511T003000
DTSTAMP:20260419T174446
CREATED:20251212T232916Z
LAST-MODIFIED:20260403T201957Z
UID:23104-1778446800-1778459400@www.unitedskates.com
SUMMARY:Sunday Adult Night
DESCRIPTION:Sunday Nights are meant for Skating! \nAdults this night is for you and you only! \nEvery Sunday Night 9:00pm-12:30am \nFeaturing R&B\, Hip-Hop and Skate Music  \nMusic Spun by DJ Ivory \nAdmission $12.00 \nSkate Rental $6.00 \n18+ with valid ID \nSkip the line-buy your tickets online! BUY HERE!
URL:https://www.unitedskates.com/wickliffe/event/sunday-adult-night-2/2026-05-10/
CATEGORIES:Adult Events,Public Skates
ATTACH;FMTTYPE=image/jpeg:https://unitedskates-assets.sfo3.digitaloceanspaces.com/wp-content/uploads/sites/12/2025/12/sunday-adult-1.jpg
END:VEVENT
BEGIN:VEVENT
DTSTART;TZID=America/New_York:20260511T190000
DTEND;TZID=America/New_York:20260511T230000
DTSTAMP:20260419T174446
CREATED:20241023T010008Z
LAST-MODIFIED:20260403T195644Z
UID:22768-1778526000-1778540400@www.unitedskates.com
SUMMARY:Old School Adult Skate
DESCRIPTION:We are taking it back Old School every Monday \nAdults 25+ come skate your Mondays Away \n7:00pm-11:00pm \nFeaturing 80’s\, 90’s\, Jazz and Skate Music  \nMusic spun by DJ Ivory  \nAdmission $12.00 \nSkate Rental $6.00 \n25+ with valid ID \nSkip the line-buy your tickets online! BUY HERE!
URL:https://www.unitedskates.com/wickliffe/event/old-school-adult-skate-4/2026-05-11/
CATEGORIES:Adult Events,Public Skates
ATTACH;FMTTYPE=image/jpeg:https://unitedskates-assets.sfo3.digitaloceanspaces.com/wp-content/uploads/sites/12/2024/10/Old-School-Adult-Skate-rink11-v3.jpg
END:VEVENT
BEGIN:VEVENT
DTSTART;TZID=America/New_York:20260515T180000
DTEND;TZID=America/New_York:20260515T203000
DTSTAMP:20260419T174446
CREATED:20260401T183653Z
LAST-MODIFIED:20260402T192055Z
UID:24043-1778868000-1778877000@www.unitedskates.com
SUMMARY:Cosmic Skate
DESCRIPTION:🌌✨ Cosmic Skates Are BACK! ✨🌌 \nFriday nights just got an upgrade—Cosmic Skate is taking over! Get ready for an electrifying night under the black lights with glowing vibes\, great music\, and nonstop fun on the rink 🛼🔥 \nDress to impress in your best neon or all-white outfits and watch yourself glow as the lights go down and the energy turns up! 🌈⚡ \n💡 Don’t forget to stop by our Stuff Shop to grab your glow gear and light up the night even more! \n📅 Fridays: May 15th\, May 22nd & May 29th\n⏰ 6:00pm–8:30pm \n🎟️ Admission: $12 Online | $14 At the Door\n🛼 Skate Rental: $6.00 \n🎂 Celebrate under the lights! Birthday parties are available book now for a glowing good time! Book Now! \n🚨 Don’t miss out—buy your tickets now and experience the ultimate Friday night vibe! Buy Now!
URL:https://www.unitedskates.com/wickliffe/event/cosmic-skate-4/2026-05-15/
CATEGORIES:Family Events,Public Skates,Special Events
ATTACH;FMTTYPE=image/png:https://unitedskates-assets.sfo3.digitaloceanspaces.com/wp-content/uploads/sites/12/2026/04/Spring-Cosmic-Glow-in-the-Dark-Skate.png
END:VEVENT
BEGIN:VEVENT
DTSTART;TZID=America/New_York:20260516T123000
DTEND;TZID=America/New_York:20260516T150000
DTSTAMP:20260419T174446
CREATED:20260401T184143Z
LAST-MODIFIED:20260402T200527Z
UID:24047-1778934600-1778943600@www.unitedskates.com
SUMMARY:Nacho Skate
DESCRIPTION:🧀🎉 It’s NACHO Day at United Skates of America! 🎉🧀 \nGet ready for a deliciously fun afternoon on wheels! Join us for Nacho Day and enjoy skating\, music\, games\, and your chance to score a tasty treat 🛼✨ \n🌟 Every 30 minutes\, we’ll be giving away nachos with cheese—so keep your skates moving and your fingers crossed\, you could be our next winner! \nBring your friends and family out for a high-energy session filled with fun\, flavor\, and excitement for all ages! \n📅 Saturday\, May 16th\n⏰ 12:30pm–3:00pm \n🎟️ Admission: $12 Online | $14 At the Door\n🛼 Skate Rental: $6.00 \n🎂 Celebrating something special? Birthday parties are available—book now and make your day even more memorable! Book Now! \n🚨 Don’t miss your chance to skate\, snack\, and win—buy your tickets now! Buy Now!
URL:https://www.unitedskates.com/wickliffe/event/nacho-skate/
CATEGORIES:Family Events,Public Skates,Special Events
ATTACH;FMTTYPE=image/png:https://unitedskates-assets.sfo3.digitaloceanspaces.com/wp-content/uploads/sites/12/2026/04/Cinco-de-Mayo-Skate.png
END:VEVENT
BEGIN:VEVENT
DTSTART;TZID=America/New_York:20260516T160000
DTEND;TZID=America/New_York:20260516T183000
DTSTAMP:20260419T174446
CREATED:20260401T185014Z
LAST-MODIFIED:20260402T195107Z
UID:24049-1778947200-1778956200@www.unitedskates.com
SUMMARY:Armed Forces Skate
DESCRIPTION:Armed Forces Celebration Skate \nJoin us as we honor and celebrate the brave men and women who serve our country! Come out for a fun-filled skating session with music\, games\, and a great community atmosphere as we show our appreciation for our Armed Forces 🛼✨ \n🎖️ Active Duty Special:\nReceive $5.00 OFF your admission with a valid active-duty ID\, plus enjoy special discounts at our café during the event! \nBring your friends and family and be part of this exciting celebration—it’s a great way to have fun while supporting those who serve! \n📅 Saturday\, May 16th\n⏰ 4:00pm–6:30pm \n🎟️ Admission: $12 Online | $14 At the Door\n🛼 Skate Rental: $6.00 \n👨‍👩‍👧‍👦 Planning a group outing? Ask about our group rates! Call 440-944-5301 for more details. \n🎂 Celebrating something special? Birthday parties are available—book now and make it unforgettable! Book Now! \n🚨 Don’t wait—buy your tickets now and join us for this special event! Buy Now!
URL:https://www.unitedskates.com/wickliffe/event/armed-forces-skate/
CATEGORIES:Family Events,Public Skates,Special Events
ATTACH;FMTTYPE=image/png:https://unitedskates-assets.sfo3.digitaloceanspaces.com/wp-content/uploads/sites/12/2026/04/ARMED-FORCES-DAY-ROLLER-SKATE.png
END:VEVENT
BEGIN:VEVENT
DTSTART;TZID=America/New_York:20260516T193000
DTEND;TZID=America/New_York:20260516T220000
DTSTAMP:20260419T174446
CREATED:20250805T182845Z
LAST-MODIFIED:20260401T193645Z
UID:22617-1778959800-1778968800@www.unitedskates.com
SUMMARY:Saturday Night Skate
DESCRIPTION:It’s Saturday night\, and that means it’s time to hit the skate floor! \nJoin us every Saturday from 7:30pm-10:00pm for an incredible night of skating fun! \nAdmission at the door $15.00 \nAdmission Online $13.00 \nSkate Rental $6.00 \nWhether you’re planning a date night\, a family outing\, or a fun evening with friends\, there’s something for everyone to enjoy. \nExperience the excitement of gliding on wheels\, meet new people\, and create lasting memories. \nEnjoy the best of R&B and Hip-Hop music all session \nDon’t miss out on the best way to spend your Saturday night! \nBuy your tickets Now! BUY HERE! \nAll 3–17-year-olds must pay admission and skate rental upon entering the facility. Adults 18+ not skating may enter for free. All 12–17-year-olds must come into our facility with a parent or guardian that is 25 years or age or older. We are only allowing two (2) 12–17-year-olds per one parent or guardian 25 and over. The parent/guardian must stay with the teenager the entire time while in the facility. If the parent/guardian leaves the facility the teen must leave with parent/guardian. No drop off of teens or children into our facility is permitted. No drop off of teens or children to another parent into our facility is permitted. Teenagers 12-17 with their own skates are permitted without a parent if they skate the entire time. Teens asked to keep skates on repeatedly will be asked to leave with no refund
URL:https://www.unitedskates.com/wickliffe/event/saturday-night-skate/2026-05-16/
CATEGORIES:Family Events,Public Skates
ATTACH;FMTTYPE=image/jpeg:https://unitedskates-assets.sfo3.digitaloceanspaces.com/wp-content/uploads/sites/12/2025/08/Saturday-Night-Skate-Night-v-4-scaled.jpg
END:VEVENT
END:VCALENDAR