BEGIN:VCALENDAR
VERSION:2.0
PRODID:-//Rink 11 - Wickliffe - ECPv6.15.20//NONSGML v1.0//EN
CALSCALE:GREGORIAN
METHOD:PUBLISH
X-ORIGINAL-URL:https://www.unitedskates.com/wickliffe
X-WR-CALDESC:Events for Rink 11 - Wickliffe
REFRESH-INTERVAL;VALUE=DURATION:PT1H
X-Robots-Tag:noindex
X-PUBLISHED-TTL:PT1H
BEGIN:VTIMEZONE
TZID:America/New_York
BEGIN:DAYLIGHT
TZOFFSETFROM:-0500
TZOFFSETTO:-0400
TZNAME:EDT
DTSTART:20250309T070000
END:DAYLIGHT
BEGIN:STANDARD
TZOFFSETFROM:-0400
TZOFFSETTO:-0500
TZNAME:EST
DTSTART:20251102T060000
END:STANDARD
BEGIN:DAYLIGHT
TZOFFSETFROM:-0500
TZOFFSETTO:-0400
TZNAME:EDT
DTSTART:20260308T070000
END:DAYLIGHT
BEGIN:STANDARD
TZOFFSETFROM:-0400
TZOFFSETTO:-0500
TZNAME:EST
DTSTART:20261101T060000
END:STANDARD
BEGIN:DAYLIGHT
TZOFFSETFROM:-0500
TZOFFSETTO:-0400
TZNAME:EDT
DTSTART:20270314T070000
END:DAYLIGHT
BEGIN:STANDARD
TZOFFSETFROM:-0400
TZOFFSETTO:-0500
TZNAME:EST
DTSTART:20271107T060000
END:STANDARD
END:VTIMEZONE
BEGIN:VEVENT
DTSTART;TZID=America/New_York:20260126T123000
DTEND;TZID=America/New_York:20260126T150000
DTSTAMP:20260420T032119
CREATED:20260125T224546Z
LAST-MODIFIED:20260125T224547Z
UID:23660-1769430600-1769439600@www.unitedskates.com
SUMMARY:School is Out. We are open!
DESCRIPTION:Public Skate from 12:30pm-3:00pm \n$10.00 admission \n$6.00 Skate Rental
URL:https://www.unitedskates.com/wickliffe/event/school-is-out-we-are-open/
CATEGORIES:Family Events,Public Skates,Special Events
ATTACH;FMTTYPE=image/jpeg:https://unitedskates-assets.sfo3.digitaloceanspaces.com/wp-content/uploads/sites/12/2026/01/skatosnowday_1.jpg
END:VEVENT
BEGIN:VEVENT
DTSTART;TZID=America/New_York:20260126T190000
DTEND;TZID=America/New_York:20260126T230000
DTSTAMP:20260420T032119
CREATED:20241023T010008Z
LAST-MODIFIED:20260403T195640Z
UID:22753-1769454000-1769468400@www.unitedskates.com
SUMMARY:Old School Adult Skate
DESCRIPTION:We are taking it back Old School every Monday \nAdults 25+ come skate your Mondays Away \n7:00pm-11:00pm \nFeaturing 80’s\, 90’s\, Jazz and Skate Music  \nMusic spun by DJ Ivory  \nAdmission $12.00 \nSkate Rental $6.00 \n25+ with valid ID \nSkip the line-buy your tickets online! BUY HERE!
URL:https://www.unitedskates.com/wickliffe/event/old-school-adult-skate-4/2026-01-26/
CATEGORIES:Adult Events,Public Skates
ATTACH;FMTTYPE=image/jpeg:https://unitedskates-assets.sfo3.digitaloceanspaces.com/wp-content/uploads/sites/12/2024/10/Old-School-Adult-Skate-rink11-v3.jpg
END:VEVENT
BEGIN:VEVENT
DTSTART;TZID=America/New_York:20260130T160000
DTEND;TZID=America/New_York:20260130T180000
DTSTAMP:20260420T032119
CREATED:20250805T184906Z
LAST-MODIFIED:20260216T200235Z
UID:23135-1769788800-1769796000@www.unitedskates.com
SUMMARY:$8.00 Fridays
DESCRIPTION:🎉 Kick Off Your Weekend Right! 🎉$8.00 Fridays Are Here! 🛼💥 \nWhy wait for the weekend to get exciting? Start the fun early with $8.00 admission every Friday!Skate\, vibe\, and make memories without breaking the bank. \nEvery Friday 4:00pm-6:00pm \n✨ Great music🎯 Fun games🍕 Delicious snacks🛼 Non-stop skating action! \nGrab your friends and roll into the weekend the fun way! \n🎟️ Just $8.00 Admission (Skate rental extra if needed) \nAt the Door Bonus! Get in for the 4pm-6pm and 6pm-8:30pm for only $15.00!! (skate rental extra)
URL:https://www.unitedskates.com/wickliffe/event/8-00-fridays/2026-01-30/
CATEGORIES:Family Events,Public Skates
ATTACH;FMTTYPE=image/jpeg:https://unitedskates-assets.sfo3.digitaloceanspaces.com/wp-content/uploads/sites/12/2025/08/8-Dollar-Fridays-2025-page-001-scaled.jpg
END:VEVENT
BEGIN:VEVENT
DTSTART;TZID=America/New_York:20260130T180000
DTEND;TZID=America/New_York:20260130T203000
DTSTAMP:20260420T032119
CREATED:20251126T203128Z
LAST-MODIFIED:20260107T213831Z
UID:22875-1769796000-1769805000@www.unitedskates.com
SUMMARY:Glow in the Dark Skate
DESCRIPTION:🌟🛼 IT’S A GLOW IN THE DARK SKATE! 🛼🌟Get ready to light up the rink like never before! Join us at United Skates for an electric night of skating\, music\, and glowing fun under the black lights. \n🎉 What to Expect:✨ Dress in your best neon and glow outfits✨ Skate the night away under all the black lights✨ Receive a FREE glow stick with paid admission✨ High-energy music\, fun\, and nonstop glowing excitement \n📅 Friday\, January 30th⏰ 6:00pm–8:30pm💵 Admission at the door: $14.00 \n💵 Admission Online: $12.00⛸️ Skate Rental: $6.00 \n💡✨ Glow & Save! ✨💡💲 Buy your tickets Online! Buy Here!🎉 Make it extra special — host a Glow in the Dark Birthday Party! Book now! Book Here! \nBring your friends\, your brightest neon\, and get ready to shine\, spin\, and glow! \n✨ Glow in the Dark Skate — The Rink Never Looked So Bright! ✨
URL:https://www.unitedskates.com/wickliffe/event/glow-in-the-dark-skate-4/
CATEGORIES:Family Events,Public Skates,Special Events
ATTACH;FMTTYPE=image/jpeg:https://unitedskates-assets.sfo3.digitaloceanspaces.com/wp-content/uploads/sites/12/2025/11/GLOW-ROLL-Extravaganza-updated-page-001-1-scaled.jpg
END:VEVENT
BEGIN:VEVENT
DTSTART;TZID=America/New_York:20260131T103000
DTEND;TZID=America/New_York:20260131T123000
DTSTAMP:20260420T032119
CREATED:20250812T135721Z
LAST-MODIFIED:20260201T221858Z
UID:22541-1769855400-1769862600@www.unitedskates.com
SUMMARY:Saturday Morning Skate
DESCRIPTION:🛼✨ Saturday Mornings = Skate Time! ✨🛼 \nJoin us every Saturday morning from 10:30am – 12:30pm for 2 hours of music\, fun\, and wheels! 🎶🎉 \n💙 FREE Skate Mates are available\, so beginners can roll with confidence!Perfect for families\, friends\, and anyone ready to start the weekend off right. \n🎟️ Admission: $11.00👟 Skate Rental: $6.00 \n📅 Every Saturday🕥 10:30am – 12:30pm \nLet’s roll into the weekend together! 🙌 \nSave a $1.00! Buy your Tickets Here!
URL:https://www.unitedskates.com/wickliffe/event/saturday-morning-skate-2/2026-01-31/
CATEGORIES:Family Events,Public Skates
ATTACH;FMTTYPE=image/jpeg:https://unitedskates-assets.sfo3.digitaloceanspaces.com/wp-content/uploads/sites/12/2025/08/Sat-Morning-Skate-page-001-2-scaled.jpg
END:VEVENT
BEGIN:VEVENT
DTSTART;TZID=America/New_York:20260131T123000
DTEND;TZID=America/New_York:20260131T150000
DTSTAMP:20260420T032119
CREATED:20251126T202709Z
LAST-MODIFIED:20260107T214318Z
UID:22873-1769862600-1769871600@www.unitedskates.com
SUMMARY:Sonic's Hot Chocolate Skate
DESCRIPTION:❄️💙 SONIC IS COMING — AND HE’S BRINGING HOT COCOA! 💙❄️Get ready for a fast\, fun\, and frosty skate with Sonic at United Skates! He wants to warm you up with a free cup of his famous hot cocoa — included with paid admission. \nSkate\, sip\, and enjoy an afternoon of high-energy fun with music\, skating\, and surprises for the whole family. \n📅 Saturday\, January 31st⏰ 12:30pm–3:00pm💵 Admission at the Door: $14.00 \n💵 Admission Online: $12.00⛸️ Skate Rental: $6.00☕ Free Hot Cocoa with Paid Admission \n🎉 Make it extra special!Have Sonic at your birthday party — book now and make your celebration unforgettable! Book Here! \n BUY YOUR TICKETS HERE! \nSkate fast\, sip cocoa\, and have a blast —✨ Sonic Hot Cocoa Skate is the ultimate winter fun! ✨
URL:https://www.unitedskates.com/wickliffe/event/sonics-hot-chocolate-skate/
CATEGORIES:Family Events,Public Skates,Special Events
ATTACH;FMTTYPE=image/jpeg:https://unitedskates-assets.sfo3.digitaloceanspaces.com/wp-content/uploads/sites/12/2025/11/Hot-cocoa-skate-Sonic.jpg
END:VEVENT
BEGIN:VEVENT
DTSTART;TZID=America/New_York:20260131T160000
DTEND;TZID=America/New_York:20260131T183000
DTSTAMP:20260420T032119
CREATED:20241022T215909Z
LAST-MODIFIED:20260401T192741Z
UID:22580-1769875200-1769884200@www.unitedskates.com
SUMMARY:Family Skate/Birthday Parties
DESCRIPTION:Book your Birthday Party! Birthday Parties available from 4:00pm-6:30pm \nAdmission at the door $14.00 \nAdmission Online $12.00 \nSkate Rental $6.00 \nFeaturing Pop and R&B Music Mix \nBuy your Tickets Online! BUY HERE! \nAll 3–17-year-olds must pay admission and skate rental upon entering the facility.  Adults 18+ not skating may enter for free. All 12–17-year-olds must come into our facility with a parent or guardian that is 25 years or age or older. We are only allowing two (2) 12–17-year-olds per one parent or guardian 25 and over. The parent/guardian must stay with the teenager the entire time while in the facility. If the parent/guardian leaves the facility the teen must leave with parent/guardian. No drop off of teens or children into our facility is permitted. No drop off of teens or children to another parent into our facility is permitted. Teenagers 12-17 with their own skates are permitted without a parent if they skate the entire time. Teens asked to keep skates on repeatedly will be asked to leave with no refund.
URL:https://www.unitedskates.com/wickliffe/event/family-skate-birthday-parties-21/2026-01-31/
CATEGORIES:Family Events,Public Skates
ATTACH;FMTTYPE=image/jpeg:https://unitedskates-assets.sfo3.digitaloceanspaces.com/wp-content/uploads/sites/12/2023/07/800px-Family-Skate-1200x900-1.jpg
END:VEVENT
BEGIN:VEVENT
DTSTART;TZID=America/New_York:20260131T193000
DTEND;TZID=America/New_York:20260131T220000
DTSTAMP:20260420T032119
CREATED:20250805T182845Z
LAST-MODIFIED:20260401T193641Z
UID:22602-1769887800-1769896800@www.unitedskates.com
SUMMARY:Saturday Night Skate
DESCRIPTION:It’s Saturday night\, and that means it’s time to hit the skate floor! \nJoin us every Saturday from 7:30pm-10:00pm for an incredible night of skating fun! \nAdmission at the door $15.00 \nAdmission Online $13.00 \nSkate Rental $6.00 \nWhether you’re planning a date night\, a family outing\, or a fun evening with friends\, there’s something for everyone to enjoy. \nExperience the excitement of gliding on wheels\, meet new people\, and create lasting memories. \nEnjoy the best of R&B and Hip-Hop music all session \nDon’t miss out on the best way to spend your Saturday night! \nBuy your tickets Now! BUY HERE! \nAll 3–17-year-olds must pay admission and skate rental upon entering the facility. Adults 18+ not skating may enter for free. All 12–17-year-olds must come into our facility with a parent or guardian that is 25 years or age or older. We are only allowing two (2) 12–17-year-olds per one parent or guardian 25 and over. The parent/guardian must stay with the teenager the entire time while in the facility. If the parent/guardian leaves the facility the teen must leave with parent/guardian. No drop off of teens or children into our facility is permitted. No drop off of teens or children to another parent into our facility is permitted. Teenagers 12-17 with their own skates are permitted without a parent if they skate the entire time. Teens asked to keep skates on repeatedly will be asked to leave with no refund
URL:https://www.unitedskates.com/wickliffe/event/saturday-night-skate/2026-01-31/
CATEGORIES:Family Events,Public Skates
ATTACH;FMTTYPE=image/jpeg:https://unitedskates-assets.sfo3.digitaloceanspaces.com/wp-content/uploads/sites/12/2025/08/Saturday-Night-Skate-Night-v-4-scaled.jpg
END:VEVENT
END:VCALENDAR