BEGIN:VCALENDAR
VERSION:2.0
PRODID:-//Rink 11 - Wickliffe - ECPv6.15.20//NONSGML v1.0//EN
CALSCALE:GREGORIAN
METHOD:PUBLISH
X-ORIGINAL-URL:https://www.unitedskates.com/wickliffe
X-WR-CALDESC:Events for Rink 11 - Wickliffe
REFRESH-INTERVAL;VALUE=DURATION:PT1H
X-Robots-Tag:noindex
X-PUBLISHED-TTL:PT1H
BEGIN:VTIMEZONE
TZID:America/New_York
BEGIN:DAYLIGHT
TZOFFSETFROM:-0500
TZOFFSETTO:-0400
TZNAME:EDT
DTSTART:20250309T070000
END:DAYLIGHT
BEGIN:STANDARD
TZOFFSETFROM:-0400
TZOFFSETTO:-0500
TZNAME:EST
DTSTART:20251102T060000
END:STANDARD
BEGIN:DAYLIGHT
TZOFFSETFROM:-0500
TZOFFSETTO:-0400
TZNAME:EDT
DTSTART:20260308T070000
END:DAYLIGHT
BEGIN:STANDARD
TZOFFSETFROM:-0400
TZOFFSETTO:-0500
TZNAME:EST
DTSTART:20261101T060000
END:STANDARD
BEGIN:DAYLIGHT
TZOFFSETFROM:-0500
TZOFFSETTO:-0400
TZNAME:EDT
DTSTART:20270314T070000
END:DAYLIGHT
BEGIN:STANDARD
TZOFFSETFROM:-0400
TZOFFSETTO:-0500
TZNAME:EST
DTSTART:20271107T060000
END:STANDARD
END:VTIMEZONE
BEGIN:VEVENT
DTSTART;TZID=America/New_York:20260118T120000
DTEND;TZID=America/New_York:20260118T143000
DTSTAMP:20260420T032120
CREATED:20251126T200410Z
LAST-MODIFIED:20260107T211856Z
UID:22856-1768737600-1768746600@www.unitedskates.com
SUMMARY:Mario's Unlimited Game Play Day
DESCRIPTION:🍄⭐ SUNDAY FUNDAY… WITH MARIO! ⭐🍄Get ready for the ultimate gaming & skating adventure because Mario is coming to United Skates! That’s right — your favorite hero in red is bringing UNLIMITED GAME PLAY and tons of fun to your Sunday! \nJoin us for a high-energy afternoon packed with skating\, games\, and character fun the whole family will love. \n🎉 What’s Happening:🎮 UNLIMITED Game Play from 1:00pm–2:00pm on select games🍄 Meet Mario and snap pictures💳 Mario’s Game Card Special — Only $10.00 for 50 game credits!🎈 Family-friendly skating\, music & fun all session long \nThis is the perfect Sunday outing for families\, gamers\, and Mario fans of all ages. Don’t miss out — Mario days are always a crowd favorite! \n📅 Sunday\, January 18th⏰ 12:00pm–2:30pm💵 Admission at the door: $14.00 \n💲Online Admission $12.00 BUY HERE!⛸️ Skate Rental: $6.00 \n🎂 Want Mario at your birthday party?Book now and make your celebration SUPER! \nJump into the fun\, power up your weekend\, and join us for the best Sunday Funday ever! ⭐🍄🛼
URL:https://www.unitedskates.com/wickliffe/event/marios-unlimited-game-play-day/
CATEGORIES:Family Events,Public Skates,Special Events
ATTACH;FMTTYPE=image/jpeg:https://unitedskates-assets.sfo3.digitaloceanspaces.com/wp-content/uploads/sites/12/2025/11/Mario-Unlimited-Game-Play-updated-page-001-scaled.jpg
END:VEVENT
BEGIN:VEVENT
DTSTART;TZID=America/New_York:20260118T180000
DTEND;TZID=America/New_York:20260118T203000
DTSTAMP:20260420T032120
CREATED:20250805T183906Z
LAST-MODIFIED:20260403T203101Z
UID:22666-1768759200-1768768200@www.unitedskates.com
SUMMARY:Sunday Night/Birthday Parties
DESCRIPTION:Book your Birthday Party! Birthday Parties available from 6:00pm-8:30pm \nAdmission at the Door $14.00 \nAdmission Online $12.00 \nSkate Rental $6.00 \nFeaturing Pop and R&B Music Mix \nGet your Tickets Here! BUY HERE! \nAll 3–17-year-olds must pay admission and skate rental upon entering the facility.  Adults 18+ not skating may enter for free. All 12–17-year-olds must come into our facility with a parent or guardian that is 25 years or age or older. We are only allowing two (2) 12–17-year-olds per one parent or guardian 25 and over. The parent/guardian must stay with the teenager the entire time while in the facility. If the parent/guardian leaves the facility the teen must leave with parent/guardian. No drop off of teens or children into our facility is permitted. No drop off of teens or children to another parent into our facility is permitted. Teenagers 12-17 with their own skates are permitted without a parent if they skate the entire time. Teens asked to keep skates on repeatedly will be asked to leave with no refund.
URL:https://www.unitedskates.com/wickliffe/event/sunday-funday-birthday-parties-8/2026-01-18/
CATEGORIES:Family Events,Public Skates
ATTACH;FMTTYPE=image/jpeg:https://unitedskates-assets.sfo3.digitaloceanspaces.com/wp-content/uploads/sites/12/2025/08/Sunday-Nights-page-001-1-scaled.jpg
END:VEVENT
BEGIN:VEVENT
DTSTART;TZID=America/New_York:20260119T100000
DTEND;TZID=America/New_York:20260119T120000
DTSTAMP:20260420T032120
CREATED:20251126T200753Z
LAST-MODIFIED:20251127T011538Z
UID:22858-1768816800-1768824000@www.unitedskates.com
SUMMARY:MLK Early Bird Skate
DESCRIPTION:🌟🛼 MLK EARLY BIRD SKATE! 🛼🌟Rise and roll with us! Kick off your MLK Day with a fun-filled morning of roller skating\, great music\, and family excitement at United Skates! \nStart your day the best way — on wheels! This special early-bird session is perfect for families\, daycares\, youth groups\, and anyone looking to celebrate the day with active fun. \n📅 Monday\, January 19th⏰ 10:00am–12:00pm💵 Admission: $10.00⛸️ Skate Rental: $6.00 \nBring your group and make it a morning to remember! \nWe are now taking bookings for:🎒 Daycares👥 Camps & GroupsGive us a call at 440-944-5301 to reserve your spot! \nStart the day spinning\, smiling\, and skating —✨ MLK Early Bird Skate is the perfect way to roll into the holiday! ✨ \nBuy Tickets Here!
URL:https://www.unitedskates.com/wickliffe/event/mlk-early-bird-skate/
CATEGORIES:Family Events,Public Skates,Special Events
ATTACH;FMTTYPE=image/jpeg:https://unitedskates-assets.sfo3.digitaloceanspaces.com/wp-content/uploads/sites/12/2023/12/early-bird-skate.jpg
END:VEVENT
BEGIN:VEVENT
DTSTART;TZID=America/New_York:20260119T123000
DTEND;TZID=America/New_York:20260119T150000
DTSTAMP:20260420T032120
CREATED:20251126T201056Z
LAST-MODIFIED:20260106T173721Z
UID:22861-1768825800-1768834800@www.unitedskates.com
SUMMARY:Frosty Sno Cone Skate
DESCRIPTION:❄️🍧 ENJOY A TREAT WITH FROSTY! 🍧❄️Get ready for a frosty-cool afternoon of skating fun because Frosty’s Sno Cone Skate is here! Join us for a magical winter celebration filled with chilly treats\, music\, and family excitement. \nEvery guest with paid admission will receive a FREE sno cone — the perfect way to chill out while you roll around the rink! With upbeat music\, winter vibes\, and tons of fun for all ages\, this is the place to be on your day off. \n📅 Monday\, January 19th⏰ 12:30pm–3:00pm💵 Admission: $12.00⛸️ Skate Rental: $6.00🍧 FREE Sno Cone with Paid Admission \nBringing a group? We’ve got you covered!We are now taking bookings for:🎒 Daycares👥 Camps & Groups \nCall 440-944-5301 to reserve your spot! \nCome skate\, sip\, and celebrate with Frosty —✨ Frosty’s Sno Cone Skate is the coolest event of the day! ✨ \nBuy Tickets Here! 
URL:https://www.unitedskates.com/wickliffe/event/frosty-sno-cone-skate/
CATEGORIES:Family Events,Public Skates,Special Events
ATTACH;FMTTYPE=image/png:https://unitedskates-assets.sfo3.digitaloceanspaces.com/wp-content/uploads/sites/12/2025/11/Frostys-Sno-Cone-Skate.png
END:VEVENT
BEGIN:VEVENT
DTSTART;TZID=America/New_York:20260119T153000
DTEND;TZID=America/New_York:20260119T180000
DTSTAMP:20260420T032120
CREATED:20251126T201436Z
LAST-MODIFIED:20251127T011930Z
UID:22863-1768836600-1768845600@www.unitedskates.com
SUMMARY:Glow in the Dark Unlimited Pizza Skate
DESCRIPTION:🌟🍕 UNLIMITED GLOW IN THE DARK PIZZA SKATE! 🍕🌟Get ready to skate\, glow\, and eat—all at the same time! Join us for a one-of-a-kind Glow in the Dark Pizza Skate and make your Monday afternoon unforgettable! \nSkate under the glowing lights\, enjoy the fun music\, and indulge in unlimited pizza—because nothing pairs better with skating than a cheesy slice (or five!). \n🍕 Two Amazing Packages to Choose From:1️⃣ $15.99 Package: Includes skate rental + unlimited pizza2️⃣ $20.00 Package: Includes skate rental\, unlimited pizza\, and a game of laser tag \n👨‍👩‍👧‍👦 Parents\, don’t miss out! You can enjoy the pizza too for only $10.00\, with unlimited pizza included. \n📅 Monday\, January 19th⏰ 3:30pm–6:00pm \nBring the whole family\, grab your glow sticks\, and skate your way through a luminous pizza-filled adventure! \n✨ Unlimited Glow in the Dark Pizza Skate — Skate\, Eat\, Glow! ✨ \nBuy Tickets Here!!
URL:https://www.unitedskates.com/wickliffe/event/glow-in-the-dark-unlimited-pizza-skate/
CATEGORIES:Family Events,Public Skates,Special Events
ATTACH;FMTTYPE=image/jpeg:https://unitedskates-assets.sfo3.digitaloceanspaces.com/wp-content/uploads/sites/12/2025/11/AYCE-Glow-In-The-Dark-skate-page-001-scaled.jpg
END:VEVENT
BEGIN:VEVENT
DTSTART;TZID=America/New_York:20260123T160000
DTEND;TZID=America/New_York:20260123T180000
DTSTAMP:20260420T032120
CREATED:20250805T184906Z
LAST-MODIFIED:20260216T200235Z
UID:22774-1769184000-1769191200@www.unitedskates.com
SUMMARY:$8.00 Fridays
DESCRIPTION:🎉 Kick Off Your Weekend Right! 🎉$8.00 Fridays Are Here! 🛼💥 \nWhy wait for the weekend to get exciting? Start the fun early with $8.00 admission every Friday!Skate\, vibe\, and make memories without breaking the bank. \nEvery Friday 4:00pm-6:00pm \n✨ Great music🎯 Fun games🍕 Delicious snacks🛼 Non-stop skating action! \nGrab your friends and roll into the weekend the fun way! \n🎟️ Just $8.00 Admission (Skate rental extra if needed) \nAt the Door Bonus! Get in for the 4pm-6pm and 6pm-8:30pm for only $15.00!! (skate rental extra)
URL:https://www.unitedskates.com/wickliffe/event/8-00-fridays/2026-01-23/
CATEGORIES:Family Events,Public Skates
ATTACH;FMTTYPE=image/jpeg:https://unitedskates-assets.sfo3.digitaloceanspaces.com/wp-content/uploads/sites/12/2025/08/8-Dollar-Fridays-2025-page-001-scaled.jpg
END:VEVENT
BEGIN:VEVENT
DTSTART;TZID=America/New_York:20260123T213000
DTEND;TZID=America/New_York:20260124T000000
DTSTAMP:20260420T032120
CREATED:20250805T194919Z
LAST-MODIFIED:20251127T030127Z
UID:21854-1769203800-1769212800@www.unitedskates.com
SUMMARY:90's Adult Skate
DESCRIPTION:🎉🛼 90s Adult Skate Night 🛼🎉18+ with Valid ID — Get Ready to Bust a Move! \nThrow on your flannel\, lace up those skates\, and step back into the decade of grunge\, boy bands\, and unforgettable hits! Our 90s Adult Skate Night is the perfect way to rewind\, relive\, and roll with all your favorite tunes. \n🎶 Skating all night to iconic 90s jams from: \n\n\nNirvana \n\n\nSpice Girls \n\n\nBackstreet Boys \n\n\nTLC \n\n\nBlink-182…and so many more! \n\n\n🛼 Neon lights and nostalgic vibes set the perfect scene🎤 Dress in your best 90s gear — think crop tops\, denim\, chokers\, and platform shoes!🎟️ 18+ ONLY — Valid ID Required at the door \n📅 Friday\, January 23rd🕘 9:30pm-12:00am💲Admission $12.00 Skate Rental $6.00 \nBring your crew\, your best dance moves\, and skate into the 90s night you won’t forget! \nBuy your Tickets Here!
URL:https://www.unitedskates.com/wickliffe/event/90s-adult-skate/
CATEGORIES:Adult Events,Public Skates,Special Events
ATTACH;FMTTYPE=image/jpeg:https://unitedskates-assets.sfo3.digitaloceanspaces.com/wp-content/uploads/sites/12/2025/08/v2-90s-Adult-Night-1.jpg
END:VEVENT
BEGIN:VEVENT
DTSTART;TZID=America/New_York:20260124T103000
DTEND;TZID=America/New_York:20260124T123000
DTSTAMP:20260420T032120
CREATED:20250812T135721Z
LAST-MODIFIED:20260201T221858Z
UID:22540-1769250600-1769257800@www.unitedskates.com
SUMMARY:Saturday Morning Skate
DESCRIPTION:🛼✨ Saturday Mornings = Skate Time! ✨🛼 \nJoin us every Saturday morning from 10:30am – 12:30pm for 2 hours of music\, fun\, and wheels! 🎶🎉 \n💙 FREE Skate Mates are available\, so beginners can roll with confidence!Perfect for families\, friends\, and anyone ready to start the weekend off right. \n🎟️ Admission: $11.00👟 Skate Rental: $6.00 \n📅 Every Saturday🕥 10:30am – 12:30pm \nLet’s roll into the weekend together! 🙌 \nSave a $1.00! Buy your Tickets Here!
URL:https://www.unitedskates.com/wickliffe/event/saturday-morning-skate-2/2026-01-24/
CATEGORIES:Family Events,Public Skates
ATTACH;FMTTYPE=image/jpeg:https://unitedskates-assets.sfo3.digitaloceanspaces.com/wp-content/uploads/sites/12/2025/08/Sat-Morning-Skate-page-001-2-scaled.jpg
END:VEVENT
BEGIN:VEVENT
DTSTART;TZID=America/New_York:20260124T123000
DTEND;TZID=America/New_York:20260124T150000
DTSTAMP:20260420T032120
CREATED:20251126T202054Z
LAST-MODIFIED:20260107T212313Z
UID:22867-1769257800-1769266800@www.unitedskates.com
SUMMARY:Barbie Skate
DESCRIPTION:💖✨ BARBIE IS BACK! ✨💖She’s had a long vacation\, and now Barbie is ready to roll into United Skates for a super fun\, pink-filled afternoon! Don’t miss your chance to meet Barbie in person and celebrate in style. \n📸 Meet Barbie from 1:00pm–2:00pmSkate\, take photos\, and enjoy a magical experience for the whole family! \n📅 Saturday\, January 24th⏰ 12:30pm–3:00pm💵 Admission at the door: $14.00 \n💵 Admission online: $12.00⛸️ Skate Rental: $6.00 \n🎂 Planning a Barbie Birthday Party? Book Here!Book now and have Barbie there to make your celebration unforgettable! \n Buy Here Your Tickets Here! \nCome sparkle\, skate\, and shine—✨ Barbie is back\, and the rink is pink\, fun\, and fabulous! ✨
URL:https://www.unitedskates.com/wickliffe/event/barbie-skate-4/
CATEGORIES:Family Events,Public Skates,Special Events
ATTACH;FMTTYPE=image/jpeg:https://unitedskates-assets.sfo3.digitaloceanspaces.com/wp-content/uploads/sites/12/2025/11/Barbie-Pinks-Skate-Poster-EDITABLE-updated-page-001-scaled.jpg
END:VEVENT
BEGIN:VEVENT
DTSTART;TZID=America/New_York:20260124T160000
DTEND;TZID=America/New_York:20260124T183000
DTSTAMP:20260420T032120
CREATED:20241022T215909Z
LAST-MODIFIED:20260401T192740Z
UID:22579-1769270400-1769279400@www.unitedskates.com
SUMMARY:Family Skate/Birthday Parties
DESCRIPTION:Book your Birthday Party! Birthday Parties available from 4:00pm-6:30pm \nAdmission at the door $14.00 \nAdmission Online $12.00 \nSkate Rental $6.00 \nFeaturing Pop and R&B Music Mix \nBuy your Tickets Online! BUY HERE! \nAll 3–17-year-olds must pay admission and skate rental upon entering the facility.  Adults 18+ not skating may enter for free. All 12–17-year-olds must come into our facility with a parent or guardian that is 25 years or age or older. We are only allowing two (2) 12–17-year-olds per one parent or guardian 25 and over. The parent/guardian must stay with the teenager the entire time while in the facility. If the parent/guardian leaves the facility the teen must leave with parent/guardian. No drop off of teens or children into our facility is permitted. No drop off of teens or children to another parent into our facility is permitted. Teenagers 12-17 with their own skates are permitted without a parent if they skate the entire time. Teens asked to keep skates on repeatedly will be asked to leave with no refund.
URL:https://www.unitedskates.com/wickliffe/event/family-skate-birthday-parties-21/2026-01-24/
CATEGORIES:Family Events,Public Skates
ATTACH;FMTTYPE=image/jpeg:https://unitedskates-assets.sfo3.digitaloceanspaces.com/wp-content/uploads/sites/12/2023/07/800px-Family-Skate-1200x900-1.jpg
END:VEVENT
BEGIN:VEVENT
DTSTART;TZID=America/New_York:20260124T193000
DTEND;TZID=America/New_York:20260124T220000
DTSTAMP:20260420T032120
CREATED:20250805T182845Z
LAST-MODIFIED:20260401T193641Z
UID:22601-1769283000-1769292000@www.unitedskates.com
SUMMARY:Saturday Night Skate
DESCRIPTION:It’s Saturday night\, and that means it’s time to hit the skate floor! \nJoin us every Saturday from 7:30pm-10:00pm for an incredible night of skating fun! \nAdmission at the door $15.00 \nAdmission Online $13.00 \nSkate Rental $6.00 \nWhether you’re planning a date night\, a family outing\, or a fun evening with friends\, there’s something for everyone to enjoy. \nExperience the excitement of gliding on wheels\, meet new people\, and create lasting memories. \nEnjoy the best of R&B and Hip-Hop music all session \nDon’t miss out on the best way to spend your Saturday night! \nBuy your tickets Now! BUY HERE! \nAll 3–17-year-olds must pay admission and skate rental upon entering the facility. Adults 18+ not skating may enter for free. All 12–17-year-olds must come into our facility with a parent or guardian that is 25 years or age or older. We are only allowing two (2) 12–17-year-olds per one parent or guardian 25 and over. The parent/guardian must stay with the teenager the entire time while in the facility. If the parent/guardian leaves the facility the teen must leave with parent/guardian. No drop off of teens or children into our facility is permitted. No drop off of teens or children to another parent into our facility is permitted. Teenagers 12-17 with their own skates are permitted without a parent if they skate the entire time. Teens asked to keep skates on repeatedly will be asked to leave with no refund
URL:https://www.unitedskates.com/wickliffe/event/saturday-night-skate/2026-01-24/
CATEGORIES:Family Events,Public Skates
ATTACH;FMTTYPE=image/jpeg:https://unitedskates-assets.sfo3.digitaloceanspaces.com/wp-content/uploads/sites/12/2025/08/Saturday-Night-Skate-Night-v-4-scaled.jpg
END:VEVENT
END:VCALENDAR