BEGIN:VCALENDAR
VERSION:2.0
PRODID:-//Rink 11 - Wickliffe - ECPv6.15.20//NONSGML v1.0//EN
CALSCALE:GREGORIAN
METHOD:PUBLISH
X-WR-CALNAME:Rink 11 - Wickliffe
X-ORIGINAL-URL:https://www.unitedskates.com/wickliffe
X-WR-CALDESC:Events for Rink 11 - Wickliffe
REFRESH-INTERVAL;VALUE=DURATION:PT1H
X-Robots-Tag:noindex
X-PUBLISHED-TTL:PT1H
BEGIN:VTIMEZONE
TZID:America/New_York
BEGIN:DAYLIGHT
TZOFFSETFROM:-0500
TZOFFSETTO:-0400
TZNAME:EDT
DTSTART:20240310T070000
END:DAYLIGHT
BEGIN:STANDARD
TZOFFSETFROM:-0400
TZOFFSETTO:-0500
TZNAME:EST
DTSTART:20241103T060000
END:STANDARD
BEGIN:DAYLIGHT
TZOFFSETFROM:-0500
TZOFFSETTO:-0400
TZNAME:EDT
DTSTART:20250309T070000
END:DAYLIGHT
BEGIN:STANDARD
TZOFFSETFROM:-0400
TZOFFSETTO:-0500
TZNAME:EST
DTSTART:20251102T060000
END:STANDARD
BEGIN:DAYLIGHT
TZOFFSETFROM:-0500
TZOFFSETTO:-0400
TZNAME:EDT
DTSTART:20260308T070000
END:DAYLIGHT
BEGIN:STANDARD
TZOFFSETFROM:-0400
TZOFFSETTO:-0500
TZNAME:EST
DTSTART:20261101T060000
END:STANDARD
END:VTIMEZONE
BEGIN:VEVENT
DTSTART;TZID=America/New_York:20251126T123000
DTEND;TZID=America/New_York:20251201T230000
DTSTAMP:20260421T000740
CREATED:20251022T175854Z
LAST-MODIFIED:20251022T175854Z
UID:22360-1764160200-1764630000@www.unitedskates.com
SUMMARY:🦃 Thanksgiving Break Skating Week at United Skates Wickliffe!
DESCRIPTION:School’s Out — Let’s Roll! \nThanksgiving Break just got a whole lot more exciting! From Wednesday\, November 26th through Monday\, December 1st\, \nthe rink is packed with holiday-themed sessions\, special guests\, and non-stop skating fun for the whole family. \nWhether you’re coming for the food\, the music\, or the memories\, there’s something for everyone to enjoy! \n\nHere’s What’s Happening All Week: \n🛼 Wednesday\, November 26 \n\n\nPublic Skate: 12:30PM–3:00PM — $10 Admission \n\n\nThanksgiving with Stitch: 5:30PM–8:00PM — $12 Admission \n\n\nThanksgiving Eve Adult Skate (18+): 9:00PM–1:00AM — $13 Admission \n\n\n🍕 Thursday\, November 27 – Thanksgiving Night Skate \n\n\n7:00PM–10:00PM — $12 AdmissionEnjoy a relaxed night on wheels after the turkey! Try our incredible pizza and ICEE specials. \n\n\n🎅 Friday\, November 28 – Black Friday Fun! \n\n\nPublic Skate: 12:00PM–2:30PM & 3:00PM–5:30PM — $10 Admission \n\n\nSanta’s Holiday Kickoff: 6:30PM–9:30PM — $13 AdmissionMeet Santa from 7:00PM–9:00PM and take photos while skating to your favorite holiday jams! \n\n\n⛄ Saturday\, November 29 – Family Skate Saturday \n\n\nSaturday Morning Skate: 10:30AM–12:30PM — $10 Admission \n\n\nOlaf Sno-Cone Skate: 12:30PM–3:00PM — $13 Admission (includes a free sno-cone!) \n\n\nFamily Skate: 4:00PM–6:30PM — $13 Admission \n\n\nSaturday Night: 7:30PM–10:30PM — $14 Admission \n\n\n🎄 Sunday\, November 30 – Holiday Family Day \n\n\nGrinch’s Indoor Snowball Fight: 12:00PM–2:30PM — $13 Admission (Snowball fight at 2:00PM!) \n\n\nFamily Skates: 3:00PM–5:30PM & 6:00PM–8:30PM — $13 Admission \n\n\nSunday Night Adult Skate (18+): 9:30PM–1:30AM — $12 Admission \n\n\n✨ Monday\, December 1 – Keep the Fun Going! \n\n\nPublic Skate: 12:30PM–3:00PM — $10 Admission \n\n\nOld School Adult Night (25+): 7:00PM–11:00PM — $12 Admission
URL:https://www.unitedskates.com/wickliffe/event/%f0%9f%a6%83-thanksgiving-break-skating-week-at-united-skates-wickliffe/
CATEGORIES:Family Events,Public Skates,Special Events
ATTACH;FMTTYPE=image/jpeg:https://unitedskates-assets.sfo3.digitaloceanspaces.com/wp-content/uploads/sites/12/2025/10/11-Thanksgiving-Break-Roller-Skate-2025-8.5-x-11-in.jpg
END:VEVENT
BEGIN:VEVENT
DTSTART;TZID=America/New_York:20251130T120000
DTEND;TZID=America/New_York:20251130T143000
DTSTAMP:20260421T000740
CREATED:20251001T144926Z
LAST-MODIFIED:20251001T173643Z
UID:22308-1764504000-1764513000@www.unitedskates.com
SUMMARY:❄️💚Grinch's Indoor Snowball Fight❄️💚
DESCRIPTION:🎄💚 He’s a Mean One… and He’s Taking Over the Rink! 💚🎄Get ready\, skaters! THE GRINCH is rolling into United Skates of America for a day full of mischief\, laughs\, and snowball fun – and he’s waiting for YOU! \n🗓 Sunday\, November 30th🕛 12:00pm – 2:30pm🎟 Admission: $13 | Skate Rental: $6 \n✨ Grinch-tastic Fun:❄️ He’s ready to roll\, go\, and throw snowballs – join his indoor snowball fight from 2:15pm – 3:00pm!💻 Save $1 when you buy your tickets online – don’t miss your chance to skate and play with the Grinch! BUY HERE!🎂 Want the Grinch at your birthday? Book now for a mischievous celebration your guests will never forget! BOOK HERE! \nCome out\, skate\, laugh\, and join the indoor holiday chaos – fun\, snowballs\, and Grinchy surprises await! 🛼🎉💚
URL:https://www.unitedskates.com/wickliffe/event/%e2%9d%84%ef%b8%8f%f0%9f%92%9agrinchs-indoor-snowball-fight%e2%9d%84%ef%b8%8f%f0%9f%92%9a/
CATEGORIES:Family Events,Public Skates,Special Events
ATTACH;FMTTYPE=image/png:https://unitedskates-assets.sfo3.digitaloceanspaces.com/wp-content/uploads/sites/12/2025/10/Grinchs-Indoor-Snowball-Fight.png
END:VEVENT
BEGIN:VEVENT
DTSTART;TZID=America/New_York:20251130T180000
DTEND;TZID=America/New_York:20251130T203000
DTSTAMP:20260421T000740
CREATED:20250805T183906Z
LAST-MODIFIED:20260403T203100Z
UID:21645-1764525600-1764534600@www.unitedskates.com
SUMMARY:Sunday Night/Birthday Parties
DESCRIPTION:Book your Birthday Party! Birthday Parties available from 6:00pm-8:30pm \nAdmission at the Door $14.00 \nAdmission Online $12.00 \nSkate Rental $6.00 \nFeaturing Pop and R&B Music Mix \nGet your Tickets Here! BUY HERE! \nAll 3–17-year-olds must pay admission and skate rental upon entering the facility.  Adults 18+ not skating may enter for free. All 12–17-year-olds must come into our facility with a parent or guardian that is 25 years or age or older. We are only allowing two (2) 12–17-year-olds per one parent or guardian 25 and over. The parent/guardian must stay with the teenager the entire time while in the facility. If the parent/guardian leaves the facility the teen must leave with parent/guardian. No drop off of teens or children into our facility is permitted. No drop off of teens or children to another parent into our facility is permitted. Teenagers 12-17 with their own skates are permitted without a parent if they skate the entire time. Teens asked to keep skates on repeatedly will be asked to leave with no refund.
URL:https://www.unitedskates.com/wickliffe/event/sunday-funday-birthday-parties-8/2025-11-30/
CATEGORIES:Family Events,Public Skates
ATTACH;FMTTYPE=image/jpeg:https://unitedskates-assets.sfo3.digitaloceanspaces.com/wp-content/uploads/sites/12/2025/08/Sunday-Nights-page-001-1-scaled.jpg
END:VEVENT
BEGIN:VEVENT
DTSTART;TZID=America/New_York:20251130T213000
DTEND;TZID=America/New_York:20251201T013000
DTSTAMP:20260421T000740
CREATED:20241023T003041Z
LAST-MODIFIED:20251212T232606Z
UID:21682-1764538200-1764552600@www.unitedskates.com
SUMMARY:Sunday Night Adult Skate
DESCRIPTION:Sunday Nights are meant for Skating! \nAdults this night is for you and you only! \nEvery Sunday Night 9:30pm-1:30am \nFeaturing R&B\, Hip-Hop and Skate Music  \nMusic Spun by DJ Ivory \nAdmission $12.00 \nSkate Rental $6.00 \n18+ with valid ID \nSkip the line-buy your tickets online! BUY HERE!
URL:https://www.unitedskates.com/wickliffe/event/sunday-night-adult-skate/2025-11-30/
CATEGORIES:Adult Events,Public Skates
ATTACH;FMTTYPE=image/jpeg:https://unitedskates-assets.sfo3.digitaloceanspaces.com/wp-content/uploads/sites/12/2024/10/new-Sunday-Night-Adult-Skate-r-11-1.jpg
END:VEVENT
BEGIN:VEVENT
DTSTART;TZID=America/New_York:20251201T123000
DTEND;TZID=America/New_York:20251201T150000
DTSTAMP:20260421T000740
CREATED:20251001T145445Z
LAST-MODIFIED:20251001T171529Z
UID:22310-1764592200-1764601200@www.unitedskates.com
SUMMARY:🎉🛼No School Skate🎉🛼
DESCRIPTION:🛼🎉 No School? Let’s Skate! 🎉🛼It’s the last day of Thanksgiving break\, so why not spend it rolling\, playing\, and having fun with friends and family at United Skates of America? \n🗓 Monday\, December 1st🕧 12:30pm – 3:00pm🎟 Admission: $10 | Skate Rental: $6 \n✨ Fun for Everyone:🎶 Roller skating to your favorite hits🎮 Arcade games & laser tag💻 Secure your spot and buy tickets online – skip the line and jump straight into the fun! BUY HERE!👥 Group rates available – call 440-944-5301 for details. \nMake the most of your last day off – skate\, play\, and create memories that will last long after the break! 🛼
URL:https://www.unitedskates.com/wickliffe/event/%f0%9f%8e%89%f0%9f%9b%bcno-school-skate%f0%9f%8e%89%f0%9f%9b%bc/
CATEGORIES:Family Events,Public Skates
ATTACH;FMTTYPE=image/jpeg:https://unitedskates-assets.sfo3.digitaloceanspaces.com/wp-content/uploads/sites/12/2025/10/SIO-SKATE-2022-1200x900-1.jpg
END:VEVENT
BEGIN:VEVENT
DTSTART;TZID=America/New_York:20251201T190000
DTEND;TZID=America/New_York:20251201T230000
DTSTAMP:20260421T000740
CREATED:20241023T010008Z
LAST-MODIFIED:20260403T195639Z
UID:21662-1764615600-1764630000@www.unitedskates.com
SUMMARY:Old School Adult Skate
DESCRIPTION:We are taking it back Old School every Monday \nAdults 25+ come skate your Mondays Away \n7:00pm-11:00pm \nFeaturing 80’s\, 90’s\, Jazz and Skate Music  \nMusic spun by DJ Ivory  \nAdmission $12.00 \nSkate Rental $6.00 \n25+ with valid ID \nSkip the line-buy your tickets online! BUY HERE!
URL:https://www.unitedskates.com/wickliffe/event/old-school-adult-skate-4/2025-12-01/
CATEGORIES:Adult Events,Public Skates
ATTACH;FMTTYPE=image/jpeg:https://unitedskates-assets.sfo3.digitaloceanspaces.com/wp-content/uploads/sites/12/2024/10/Old-School-Adult-Skate-rink11-v3.jpg
END:VEVENT
BEGIN:VEVENT
DTSTART;TZID=America/New_York:20251202T180000
DTEND;TZID=America/New_York:20251202T203000
DTSTAMP:20260421T000740
CREATED:20251202T154758Z
LAST-MODIFIED:20251202T160505Z
UID:23003-1764698400-1764707400@www.unitedskates.com
SUMMARY:❄️ SNOW DAY SKATE ❄️
DESCRIPTION:❄️🎉 FUN • EXCITING • URGENT ANNOUNCEMENT! 🎉❄️ \n🌨️☃️ IT’S A SNOW DAY!!!! ☃️🌨️\nAnd you know what THAT means…It’s time to SKATE & CELEBRATE! 🛼❄️💙 \nWe’re rolling out an AMAZING SNOW-DAY SPECIAL —👉 ONLY $10.00!!That’s right… Admission + Skate Rental = JUST $10.00! 😱🔥 \n⭐ TONIGHT ONLY!\n📅 Tuesday\, December 2nd🕕 6:00pm–8:30pm \nGrab your friends\, bundle up\, and head to the rink for a night of snow-day fun\, glowing lights\, great music\, and nonstop skating! 🎶💙✨ \nDon’t miss this one-night-only celebration of SNOW DAY MAGIC! ❄️🎉
URL:https://www.unitedskates.com/wickliffe/event/%e2%9d%84%ef%b8%8f-snow-day-skate-%e2%9d%84%ef%b8%8f/
CATEGORIES:Family Events,Public Skates,Special Events
ATTACH;FMTTYPE=image/jpeg:https://unitedskates-assets.sfo3.digitaloceanspaces.com/wp-content/uploads/sites/12/2025/12/no-school.jpg
END:VEVENT
BEGIN:VEVENT
DTSTART;TZID=America/New_York:20251205T180000
DTEND;TZID=America/New_York:20251205T203000
DTSTAMP:20260421T000740
CREATED:20251001T150551Z
LAST-MODIFIED:20251001T160714Z
UID:22312-1764957600-1764966600@www.unitedskates.com
SUMMARY:⚡🕰️Stranger Things Hawkens Roller Rewind⚡🕰️
DESCRIPTION:🕰️⚡ Stranger Things is Taking Over the Rink! ⚡🕰️Calling all Stranger Things fans – it’s time to step into the Upside Down and skate like never before! \n🗓 Friday\, December 5th🕕 6:00pm – 8:30pm🎟 Admission: $13 | Skate Rental: $6 \n✨ What’s Waiting for You:🧇 11’s Eggo Waffle Bar – fuel up for your adventure!🍕 Surfer Boy Pizza Specials – enjoy tasty treats while you skate.📸 Upside Down Photo Ops – capture your Stranger Things moments.🎉 Limbo contests\, games\, and surprises all session long! \n💻 Save $1 when you buy your tickets online – secure your spot before it’s too late! BUY HERE!🎂 Want to celebrate your birthday in Hawkins style? Book your party now! BOOK HERE! \nGrab your friends\, skate into the Upside Down\, and make this a Stranger Things night you’ll never forget! 🛼✨👾
URL:https://www.unitedskates.com/wickliffe/event/%e2%9a%a1%f0%9f%95%b0%ef%b8%8fstranger-things-hawkens-roller-rewind%e2%9a%a1%f0%9f%95%b0%ef%b8%8f/
CATEGORIES:Family Events,Public Skates,Special Events
ATTACH;FMTTYPE=image/png:https://unitedskates-assets.sfo3.digitaloceanspaces.com/wp-content/uploads/sites/12/2025/10/Copy-of-Stranger-Things-Hawkins-Roller-Rewind.png
END:VEVENT
BEGIN:VEVENT
DTSTART;TZID=America/New_York:20251206T103000
DTEND;TZID=America/New_York:20251206T123000
DTSTAMP:20260421T000740
CREATED:20250812T135721Z
LAST-MODIFIED:20260201T221856Z
UID:21975-1765017000-1765024200@www.unitedskates.com
SUMMARY:Saturday Morning Skate
DESCRIPTION:🛼✨ Saturday Mornings = Skate Time! ✨🛼 \nJoin us every Saturday morning from 10:30am – 12:30pm for 2 hours of music\, fun\, and wheels! 🎶🎉 \n💙 FREE Skate Mates are available\, so beginners can roll with confidence!Perfect for families\, friends\, and anyone ready to start the weekend off right. \n🎟️ Admission: $11.00👟 Skate Rental: $6.00 \n📅 Every Saturday🕥 10:30am – 12:30pm \nLet’s roll into the weekend together! 🙌 \nSave a $1.00! Buy your Tickets Here!
URL:https://www.unitedskates.com/wickliffe/event/saturday-morning-skate-2/2025-12-06/
CATEGORIES:Family Events,Public Skates
ATTACH;FMTTYPE=image/jpeg:https://unitedskates-assets.sfo3.digitaloceanspaces.com/wp-content/uploads/sites/12/2025/08/Sat-Morning-Skate-page-001-2-scaled.jpg
END:VEVENT
BEGIN:VEVENT
DTSTART;TZID=America/New_York:20251206T123000
DTEND;TZID=America/New_York:20251206T150000
DTSTAMP:20260421T000740
CREATED:20251030T191424Z
LAST-MODIFIED:20251104T184312Z
UID:22387-1765024200-1765033200@www.unitedskates.com
SUMMARY:Grinch's Glow Roll
DESCRIPTION:💚✨ He’s Back… and Ready to GLOW! ✨💚 \nIt’s the GRINCH GLOW PARTY you’ve been waiting for! Join us Saturday\, December 6th for not one but TWO glowing sessions of fun:🕐 12:30 PM – 3:00 PM🕓 4:00 PM – 6:30 PM \n💥 Admission: $13.00🛼 Skate Rental: $6.00 \nGet ready to roll\, dance\, and shine — every guest gets a FREE glow stick with paid admission! 🌟 The Grinch is bringing the glow\, the groove\, and all the laughs. \nWant to make your day extra special? 🎉🎂 Book your birthday party and have The Grinch there to celebrate! Book Here!Don’t wait — this one’s going to light up the rink! 💚✨ \nSave a $1.00! Buy your tickets online! BUY HERE!
URL:https://www.unitedskates.com/wickliffe/event/grinchs-glow-roll/2025-12-06/
CATEGORIES:Family Events,Public Skates,Special Events
ATTACH;FMTTYPE=image/jpeg:https://unitedskates-assets.sfo3.digitaloceanspaces.com/wp-content/uploads/sites/12/2025/10/Grinch-Glow-Skate-2025-page-001-scaled.jpg
END:VEVENT
BEGIN:VEVENT
DTSTART;TZID=America/New_York:20251206T160000
DTEND;TZID=America/New_York:20251206T183000
DTSTAMP:20260421T000740
CREATED:20241022T215909Z
LAST-MODIFIED:20260401T192738Z
UID:23395-1765036800-1765045800@www.unitedskates.com
SUMMARY:Family Skate/Birthday Parties
DESCRIPTION:Book your Birthday Party! Birthday Parties available from 4:00pm-6:30pm \nAdmission at the door $14.00 \nAdmission Online $12.00 \nSkate Rental $6.00 \nFeaturing Pop and R&B Music Mix \nBuy your Tickets Online! BUY HERE! \nAll 3–17-year-olds must pay admission and skate rental upon entering the facility.  Adults 18+ not skating may enter for free. All 12–17-year-olds must come into our facility with a parent or guardian that is 25 years or age or older. We are only allowing two (2) 12–17-year-olds per one parent or guardian 25 and over. The parent/guardian must stay with the teenager the entire time while in the facility. If the parent/guardian leaves the facility the teen must leave with parent/guardian. No drop off of teens or children into our facility is permitted. No drop off of teens or children to another parent into our facility is permitted. Teenagers 12-17 with their own skates are permitted without a parent if they skate the entire time. Teens asked to keep skates on repeatedly will be asked to leave with no refund.
URL:https://www.unitedskates.com/wickliffe/event/family-skate-birthday-parties-21/2025-12-06/
CATEGORIES:Family Events,Public Skates
ATTACH;FMTTYPE=image/jpeg:https://unitedskates-assets.sfo3.digitaloceanspaces.com/wp-content/uploads/sites/12/2023/07/800px-Family-Skate-1200x900-1.jpg
END:VEVENT
BEGIN:VEVENT
DTSTART;TZID=America/New_York:20251206T160000
DTEND;TZID=America/New_York:20251206T183000
DTSTAMP:20260421T000740
CREATED:20251030T191424Z
LAST-MODIFIED:20251104T184312Z
UID:22389-1765036800-1765045800@www.unitedskates.com
SUMMARY:Grinch's Glow Roll
DESCRIPTION:💚✨ He’s Back… and Ready to GLOW! ✨💚 \nIt’s the GRINCH GLOW PARTY you’ve been waiting for! Join us Saturday\, December 6th for not one but TWO glowing sessions of fun:🕐 12:30 PM – 3:00 PM🕓 4:00 PM – 6:30 PM \n💥 Admission: $13.00🛼 Skate Rental: $6.00 \nGet ready to roll\, dance\, and shine — every guest gets a FREE glow stick with paid admission! 🌟 The Grinch is bringing the glow\, the groove\, and all the laughs. \nWant to make your day extra special? 🎉🎂 Book your birthday party and have The Grinch there to celebrate! Book Here!Don’t wait — this one’s going to light up the rink! 💚✨ \nSave a $1.00! Buy your tickets online! BUY HERE!
URL:https://www.unitedskates.com/wickliffe/event/grinchs-glow-roll/2025-12-06/2/
CATEGORIES:Family Events,Public Skates,Special Events
ATTACH;FMTTYPE=image/jpeg:https://unitedskates-assets.sfo3.digitaloceanspaces.com/wp-content/uploads/sites/12/2025/10/Grinch-Glow-Skate-2025-page-001-scaled.jpg
END:VEVENT
BEGIN:VEVENT
DTSTART;TZID=America/New_York:20251206T193000
DTEND;TZID=America/New_York:20251206T220000
DTSTAMP:20260421T000740
CREATED:20250805T182845Z
LAST-MODIFIED:20260401T193639Z
UID:21592-1765049400-1765058400@www.unitedskates.com
SUMMARY:Saturday Night Skate
DESCRIPTION:It’s Saturday night\, and that means it’s time to hit the skate floor! \nJoin us every Saturday from 7:30pm-10:00pm for an incredible night of skating fun! \nAdmission at the door $15.00 \nAdmission Online $13.00 \nSkate Rental $6.00 \nWhether you’re planning a date night\, a family outing\, or a fun evening with friends\, there’s something for everyone to enjoy. \nExperience the excitement of gliding on wheels\, meet new people\, and create lasting memories. \nEnjoy the best of R&B and Hip-Hop music all session \nDon’t miss out on the best way to spend your Saturday night! \nBuy your tickets Now! BUY HERE! \nAll 3–17-year-olds must pay admission and skate rental upon entering the facility. Adults 18+ not skating may enter for free. All 12–17-year-olds must come into our facility with a parent or guardian that is 25 years or age or older. We are only allowing two (2) 12–17-year-olds per one parent or guardian 25 and over. The parent/guardian must stay with the teenager the entire time while in the facility. If the parent/guardian leaves the facility the teen must leave with parent/guardian. No drop off of teens or children into our facility is permitted. No drop off of teens or children to another parent into our facility is permitted. Teenagers 12-17 with their own skates are permitted without a parent if they skate the entire time. Teens asked to keep skates on repeatedly will be asked to leave with no refund
URL:https://www.unitedskates.com/wickliffe/event/saturday-night-skate/2025-12-06/
CATEGORIES:Family Events,Public Skates
ATTACH;FMTTYPE=image/jpeg:https://unitedskates-assets.sfo3.digitaloceanspaces.com/wp-content/uploads/sites/12/2025/08/Saturday-Night-Skate-Night-v-4-scaled.jpg
END:VEVENT
END:VCALENDAR