BEGIN:VCALENDAR
VERSION:2.0
PRODID:-//Rink 11 - Wickliffe - ECPv6.15.20//NONSGML v1.0//EN
CALSCALE:GREGORIAN
METHOD:PUBLISH
X-WR-CALNAME:Rink 11 - Wickliffe
X-ORIGINAL-URL:https://www.unitedskates.com/wickliffe
X-WR-CALDESC:Events for Rink 11 - Wickliffe
REFRESH-INTERVAL;VALUE=DURATION:PT1H
X-Robots-Tag:noindex
X-PUBLISHED-TTL:PT1H
BEGIN:VTIMEZONE
TZID:America/New_York
BEGIN:DAYLIGHT
TZOFFSETFROM:-0500
TZOFFSETTO:-0400
TZNAME:EDT
DTSTART:20240310T070000
END:DAYLIGHT
BEGIN:STANDARD
TZOFFSETFROM:-0400
TZOFFSETTO:-0500
TZNAME:EST
DTSTART:20241103T060000
END:STANDARD
BEGIN:DAYLIGHT
TZOFFSETFROM:-0500
TZOFFSETTO:-0400
TZNAME:EDT
DTSTART:20250309T070000
END:DAYLIGHT
BEGIN:STANDARD
TZOFFSETFROM:-0400
TZOFFSETTO:-0500
TZNAME:EST
DTSTART:20251102T060000
END:STANDARD
BEGIN:DAYLIGHT
TZOFFSETFROM:-0500
TZOFFSETTO:-0400
TZNAME:EDT
DTSTART:20260308T070000
END:DAYLIGHT
BEGIN:STANDARD
TZOFFSETFROM:-0400
TZOFFSETTO:-0500
TZNAME:EST
DTSTART:20261101T060000
END:STANDARD
END:VTIMEZONE
BEGIN:VEVENT
DTSTART;TZID=America/New_York:20250824T130000
DTEND;TZID=America/New_York:20250824T153000
DTSTAMP:20260421T205633
CREATED:20250604T173952Z
LAST-MODIFIED:20250615T022122Z
UID:20793-1756040400-1756049400@www.unitedskates.com
SUMMARY:Unlimited Game Play
DESCRIPTION:🕹️🎉 For the First Time Ever – Unlimited Game Play Day at United Skates! 🎉🕹️Get ready for a Sunday Funday like never before — we’re bringing the arcade magic with UNLIMITED game play! \nThat’s right… play as much as you want on select games and enjoy non-stop fun\, only at United Skates! \n📅 Sunday\, August 24th | 1:00–3:30 PM🕹️ Unlimited Game Play from 1:30 PM – 2:30 PM on select games🎟️ Skating\, music\, and arcade fun all in one unforgettable afternoon! \nAdmission $13.00 \nSkate Rental $6.00 \nGet our Amazing Game Card Deal 50 game credits only $10.00 \nGrab your friends\, bring your game face\, and don’t miss this epic chance to play till you drop! \nSkip the line-buy your tickets online! BUY HERE!
URL:https://www.unitedskates.com/wickliffe/event/unlimited-game-play/
CATEGORIES:Family Events,Public Skates,Special Events
ATTACH;FMTTYPE=image/jpeg:https://unitedskates-assets.sfo3.digitaloceanspaces.com/wp-content/uploads/sites/12/2025/06/Unlim-game-day-skate-page-001-scaled.jpg
END:VEVENT
BEGIN:VEVENT
DTSTART;TZID=America/New_York:20250824T153000
DTEND;TZID=America/New_York:20250824T180000
DTSTAMP:20260421T205633
CREATED:20250604T143007Z
LAST-MODIFIED:20250615T014302Z
UID:20542-1756049400-1756058400@www.unitedskates.com
SUMMARY:Sunday Funday Skate
DESCRIPTION:Book your Birthday Party! Birthday Parties available from 3:30pm-6:00pm \nAdmission $13.00 \nSkate Rental $6.00 \nFeaturing Pop and R&B Music Mix \nSkip the line-buy your tickets online! BUY HERE! \nAll 3–17-year-olds must pay admission and skate rental upon entering the facility.  Adults 18+ not skating may enter for free. All 12–17-year-olds must come into our facility with a parent or guardian that is 25 years or age or older. We are only allowing two (2) 12–17-year-olds per one parent or guardian 25 and over. The parent/guardian must stay with the teenager the entire time while in the facility. If the parent/guardian leaves the facility the teen must leave with parent/guardian. No drop off of teens or children into our facility is permitted. No drop off of teens or children to another parent into our facility is permitted. Teenagers 12-17 with their own skates are permitted without a parent if they skate the entire time. Teens asked to keep skates on repeatedly will be asked to leave with no refund.
URL:https://www.unitedskates.com/wickliffe/event/sunday-funday-skate/2025-08-24/
CATEGORIES:Family Events,Public Skates
ATTACH;FMTTYPE=image/jpeg:https://unitedskates-assets.sfo3.digitaloceanspaces.com/wp-content/uploads/sites/12/2023/07/800px-Sunday-Funday-2022-1200x900-1.jpg
END:VEVENT
BEGIN:VEVENT
DTSTART;TZID=America/New_York:20250824T183000
DTEND;TZID=America/New_York:20250824T210000
DTSTAMP:20260421T205633
CREATED:20241019T121436Z
LAST-MODIFIED:20250615T014439Z
UID:19528-1756060200-1756069200@www.unitedskates.com
SUMMARY:Sunday Family Skate/Birthday Parties
DESCRIPTION:Book your Birthday Party! Birthday Parties available from 6:30pm-9:00pm \nAdmission $13.00 \nSkate Rental $6.00 \nFeaturing Pop and R&B Music Mix \nSkip the line-buy your tickets online! BUY HERE! \nAll 3–17-year-olds must pay admission and skate rental upon entering the facility.  Adults 18+ not skating may enter for free. All 12–17-year-olds must come into our facility with a parent or guardian that is 25 years or age or older. We are only allowing two (2) 12–17-year-olds per one parent or guardian 25 and over. The parent/guardian must stay with the teenager the entire time while in the facility. If the parent/guardian leaves the facility the teen must leave with parent/guardian. No drop off of teens or children into our facility is permitted. No drop off of teens or children to another parent into our facility is permitted. Teenagers 12-17 with their own skates are permitted without a parent if they skate the entire time. Teens asked to keep skates on repeatedly will be asked to leave with no refund.
URL:https://www.unitedskates.com/wickliffe/event/sunday-family-skate-birthday-parties/2025-08-24/
CATEGORIES:Family Events,Public Skates
ATTACH;FMTTYPE=image/jpeg:https://unitedskates-assets.sfo3.digitaloceanspaces.com/wp-content/uploads/sites/12/2024/10/Sunday-Nights-page-001-scaled.jpg
END:VEVENT
BEGIN:VEVENT
DTSTART;TZID=America/New_York:20250824T213000
DTEND;TZID=America/New_York:20250825T013000
DTSTAMP:20260421T205633
CREATED:20241023T003041Z
LAST-MODIFIED:20251212T232602Z
UID:19542-1756071000-1756085400@www.unitedskates.com
SUMMARY:Sunday Night Adult Skate
DESCRIPTION:Sunday Nights are meant for Skating! \nAdults this night is for you and you only! \nEvery Sunday Night 9:30pm-1:30am \nFeaturing R&B\, Hip-Hop and Skate Music  \nMusic Spun by DJ Ivory \nAdmission $12.00 \nSkate Rental $6.00 \n18+ with valid ID \nSkip the line-buy your tickets online! BUY HERE!
URL:https://www.unitedskates.com/wickliffe/event/sunday-night-adult-skate/2025-08-24/
CATEGORIES:Adult Events,Public Skates
ATTACH;FMTTYPE=image/jpeg:https://unitedskates-assets.sfo3.digitaloceanspaces.com/wp-content/uploads/sites/12/2024/10/new-Sunday-Night-Adult-Skate-r-11-1.jpg
END:VEVENT
BEGIN:VEVENT
DTSTART;TZID=America/New_York:20250827T180000
DTEND;TZID=America/New_York:20250827T203000
DTSTAMP:20260421T205633
CREATED:20250805T182026Z
LAST-MODIFIED:20250826T153629Z
UID:21521-1756317600-1756326600@www.unitedskates.com
SUMMARY:KPOP Skate: Demon Hunters Glow Party
DESCRIPTION:🔥💫 Calling All Demon Hunter Fans! 💫🔥It’s Time to Light Up the Night – K-POP Style! \nGet ready to SLAY (on the dance floor) at our K-POP DEMON HUNTERS GLOW PARTY 🎶💀⚔️We’re fusing your favorite K-pop beats with an epic glow-in-the-dark vibe and a touch of supernatural flair. \nWednesday\, August 27th 6:00pm-8:30pm \nOnly $12.00 includes skate rental \n✨ Neon lights\, glowing gear\, epic photo ops🎧 All your favorite K-pop hits all night long👻 Demon-slaying vibes meet K-idol energy💥 Dress to impress – glow up and show out! \nWhether you’re here to save the world or just dance like your bias is watching – this party is for YOU! \nDon’t miss it – the fate of the night depends on you!
URL:https://www.unitedskates.com/wickliffe/event/kpop-skate-demon-hunters-glow-party/
CATEGORIES:Family Events,Public Skates,Special Events
ATTACH;FMTTYPE=image/jpeg:https://unitedskates-assets.sfo3.digitaloceanspaces.com/wp-content/uploads/sites/12/2025/08/K-Pop-Demon-Hunters-2025.jpg
END:VEVENT
BEGIN:VEVENT
DTSTART;TZID=America/New_York:20250830T123000
DTEND;TZID=America/New_York:20250830T150000
DTSTAMP:20260421T205633
CREATED:20250604T173703Z
LAST-MODIFIED:20250615T022314Z
UID:20791-1756557000-1756566000@www.unitedskates.com
SUMMARY:Mario's Glow Day
DESCRIPTION:🌟🎮 Look at Mario GLOW! 🎮🌟He’s taking a break from saving the day and is ready to light up the rink — it’s time for an afternoon of glow-tastic fun with Mario! \nJoin us for a high-energy glow skate filled with your favorite pop music\, awesome vibes\, and plenty of glowing fun under the lights. \nSaturday\, August 30th 12:30pm-3:00pm \nAdmission $13.00 \nSkate Rental $6.00 \n🎉 BONUS:💫 Get a FREE glow stick with your paid admission — courtesy of Mario himself! \nDon’t miss this chance to skate\, shine\, and party with everyone’s favorite video game hero. Let’s GLOW crazy! \nSkip the line-buy your tickets online! BUY HERE!
URL:https://www.unitedskates.com/wickliffe/event/marios-glow-day/
CATEGORIES:Family Events,Public Skates,Special Events
ATTACH;FMTTYPE=image/jpeg:https://unitedskates-assets.sfo3.digitaloceanspaces.com/wp-content/uploads/sites/12/2025/06/Mario-Glow-Day-2024-1-page-001-scaled.jpg
END:VEVENT
BEGIN:VEVENT
DTSTART;TZID=America/New_York:20250830T190000
DTEND;TZID=America/New_York:20250830T220000
DTSTAMP:20260421T205633
CREATED:20241022T221118Z
LAST-MODIFIED:20250615T013506Z
UID:20701-1756580400-1756591200@www.unitedskates.com
SUMMARY:Saturday Night Skate
DESCRIPTION:It’s Saturday night\, and that means it’s time to hit the skate floor! \nJoin us every Saturday from 7:00pm-10:00pm for an incredible night of skating fun! \nAdmission $14.00 \nSkate Rental $6.00 \nWhether you’re planning a date night\, a family outing\, or a fun evening with friends\, there’s something for everyone to enjoy. \nExperience the excitement of gliding on wheels\, meet new people\, and create lasting memories. \nEnjoy the best of R&B and Hip-Hop music all session \nDon’t miss out on the best way to spend your Saturday night! \nSkip the line-buy your tickets online! BUY HERE! \nAll 3–17-year-olds must pay admission and skate rental upon entering the facility. Adults 18+ not skating may enter for free. All 12–17-year-olds must come into our facility with a parent or guardian that is 25 years or age or older. We are only allowing two (2) 12–17-year-olds per one parent or guardian 25 and over. The parent/guardian must stay with the teenager the entire time while in the facility. If the parent/guardian leaves the facility the teen must leave with parent/guardian. No drop off of teens or children into our facility is permitted. No drop off of teens or children to another parent into our facility is permitted. Teenagers 12-17 with their own skates are permitted without a parent if they skate the entire time. Teens asked to keep skates on repeatedly will be asked to leave with no refund
URL:https://www.unitedskates.com/wickliffe/event/family-hip-hop-skate/2025-08-30/
CATEGORIES:Family Events,Public Skates
ATTACH;FMTTYPE=image/jpeg:https://unitedskates-assets.sfo3.digitaloceanspaces.com/wp-content/uploads/sites/12/2024/10/Saturday-Night-Skate-Night-v2.jpg
END:VEVENT
END:VCALENDAR