BEGIN:VCALENDAR
VERSION:2.0
PRODID:-//Rink 11 - Wickliffe - ECPv6.15.20//NONSGML v1.0//EN
CALSCALE:GREGORIAN
METHOD:PUBLISH
X-WR-CALNAME:Rink 11 - Wickliffe
X-ORIGINAL-URL:https://www.unitedskates.com/wickliffe
X-WR-CALDESC:Events for Rink 11 - Wickliffe
REFRESH-INTERVAL;VALUE=DURATION:PT1H
X-Robots-Tag:noindex
X-PUBLISHED-TTL:PT1H
BEGIN:VTIMEZONE
TZID:America/New_York
BEGIN:DAYLIGHT
TZOFFSETFROM:-0500
TZOFFSETTO:-0400
TZNAME:EDT
DTSTART:20240310T070000
END:DAYLIGHT
BEGIN:STANDARD
TZOFFSETFROM:-0400
TZOFFSETTO:-0500
TZNAME:EST
DTSTART:20241103T060000
END:STANDARD
BEGIN:DAYLIGHT
TZOFFSETFROM:-0500
TZOFFSETTO:-0400
TZNAME:EDT
DTSTART:20250309T070000
END:DAYLIGHT
BEGIN:STANDARD
TZOFFSETFROM:-0400
TZOFFSETTO:-0500
TZNAME:EST
DTSTART:20251102T060000
END:STANDARD
BEGIN:DAYLIGHT
TZOFFSETFROM:-0500
TZOFFSETTO:-0400
TZNAME:EDT
DTSTART:20260308T070000
END:DAYLIGHT
BEGIN:STANDARD
TZOFFSETFROM:-0400
TZOFFSETTO:-0500
TZNAME:EST
DTSTART:20261101T060000
END:STANDARD
END:VTIMEZONE
BEGIN:VEVENT
DTSTART;TZID=America/New_York:20250720T130000
DTEND;TZID=America/New_York:20250720T153000
DTSTAMP:20260421T205640
CREATED:20250604T153609Z
LAST-MODIFIED:20250615T020337Z
UID:20734-1753016400-1753025400@www.unitedskates.com
SUMMARY:Shark Attack Skate
DESCRIPTION:🦈🛼 Ready to Roll into Shark Week? 🛼🦈Dive into the fun and kick off Shark Week with us in jaws-dropping style! \nCome skate the day away with our fin-tastic friend Jabberjaws the Shark — he’s making waves and handing out shark-tastic prizes all day long! \nSunday\, July 20th 1:00pm-3:30pm\, 3:30pm-6:00pm and 6:30pm-9:00pm \nAdmission $13.00 \nSkate Rental $6.00 \n🌊 Event Highlights:🦈 Meet Jabberjaws🎁 Shark prizes given away throughout the event🥤 Stop by the café for your very own Shark Attack drink — it’s dangerously delicious! \nSkate\, sip\, and celebrate the start of Shark Week like never before — it’s going to be a bite of a good time! \nSkip the line-buy your tickets online! BUY HERE!
URL:https://www.unitedskates.com/wickliffe/event/shark-attack-skate-8/2025-07-20/
CATEGORIES:Family Events,Public Skates,Special Events
ATTACH;FMTTYPE=image/jpeg:https://unitedskates-assets.sfo3.digitaloceanspaces.com/wp-content/uploads/sites/12/2025/06/Shark-Attack-Skate-2024-editable-7-page-001-scaled.jpg
END:VEVENT
BEGIN:VEVENT
DTSTART;TZID=America/New_York:20250721T123000
DTEND;TZID=America/New_York:20250721T150000
DTSTAMP:20260421T205640
CREATED:20250127T184511Z
LAST-MODIFIED:20250615T012142Z
UID:19647-1753101000-1753110000@www.unitedskates.com
SUMMARY:$9.00 Mondays
DESCRIPTION:We’re rolling into the week with excitement! \nJoin us every Monday afternoon from 12:30pm-3:00pm for an unforgettable time filled with affordable fun and laughter. \nOnly $9.00 for Admission \n$6.00 skate rental \nIt’s the perfect opportunity to lace up your skates\, enjoy great company\, and kickstart the week on a high note! \nWe are taking reservations for organized groups\, daycares\, YMCA’s\, Summer Camps\, Rec Center and more! \nCall our Sales Team Today 440-944-5301 \nSkip the line-buy your tickets online! BUY HERE!
URL:https://www.unitedskates.com/wickliffe/event/9-00-mondays-2/2025-07-21/
CATEGORIES:Family Events,Public Skates
ATTACH;FMTTYPE=image/jpeg:https://unitedskates-assets.sfo3.digitaloceanspaces.com/wp-content/uploads/sites/12/2025/01/9-DOLLAR-MONDAY-1.jpg
END:VEVENT
BEGIN:VEVENT
DTSTART;TZID=America/New_York:20250722T123000
DTEND;TZID=America/New_York:20250722T150000
DTSTAMP:20260421T205640
CREATED:20250326T231723Z
LAST-MODIFIED:20250615T020428Z
UID:20136-1753187400-1753196400@www.unitedskates.com
SUMMARY:Popsicles with SpongeBob
DESCRIPTION:Dive into a fun-filled day with SpongeBob and enjoy a popsicle party! \nThat’s right he is coming back from Bikini Bottom and bringing one of his favorite treats to share. \nTuesday\, July 22nd 12:30pm-3:00pm \nAdmission $11.00 \nSkate Rental $6.00 \nEnjoy a delicious popsicle with every paid admission \nOf course you’ll meet your favorite yellow sponge \nBook your daycare\, YMCA\, Summer Camp etc. Call our Sales Team 440-944-5301 \nSkip the line-buy your tickets online! BUY HERE!
URL:https://www.unitedskates.com/wickliffe/event/popsicles-with-spongebob-6/
CATEGORIES:Family Events,Public Skates,Special Events
ATTACH;FMTTYPE=image/png:https://unitedskates-assets.sfo3.digitaloceanspaces.com/wp-content/uploads/sites/12/2023/10/Popscile-with-Spongebob-Tile.png
END:VEVENT
BEGIN:VEVENT
DTSTART;TZID=America/New_York:20250722T180000
DTEND;TZID=America/New_York:20250722T203000
DTSTAMP:20260421T205640
CREATED:20250604T145902Z
LAST-MODIFIED:20250615T014620Z
UID:20709-1753207200-1753216200@www.unitedskates.com
SUMMARY:Character Craze-Pizza Tuesdays with a Twist
DESCRIPTION:Are you ready for a Pizza Tuesday like you’ve never seen before? We’ve got something EXTRA special for you! Join us for an unforgettable night with character appearances – from Mario to Poppy\, Garfield\, and more! 🤩 \nEvery Tuesday Night from 6:00pm-8:30pm\, a new surprise character will be joining the fun\, so be sure to come back for more. \nFor just $12\, you get: \n\n\nAdmission \n\n\nSkate Rental \n\n\nAnd of course\, a Slice of Cheese Pizza 🍕 \n\n\nParents\, no need to cook dinner – bring the whole family for a night full of fun\, laughter\, and memories. It’s quality time for everyone! \nDon’t miss out on this deal! See you on Tuesday for a night of fun\, food\, and favorite characters! 🎈 \nPizza is served from 6:30pm-8:00pm \nSkip the line-buy your tickets online! BUY HERE!
URL:https://www.unitedskates.com/wickliffe/event/character-craze-pizza-tuesdays-with-a-twist/2025-07-22/
CATEGORIES:Family Events,Public Skates,Special Events
ATTACH;FMTTYPE=image/jpeg:https://unitedskates-assets.sfo3.digitaloceanspaces.com/wp-content/uploads/sites/12/2025/06/Character-Craze-Pizza-Skate-2025-page-001-1-scaled.jpg
END:VEVENT
BEGIN:VEVENT
DTSTART;TZID=America/New_York:20250723T123000
DTEND;TZID=America/New_York:20250723T150000
DTSTAMP:20260421T205640
CREATED:20250326T232110Z
LAST-MODIFIED:20250615T020542Z
UID:20138-1753273800-1753282800@www.unitedskates.com
SUMMARY:Neon Glow Day
DESCRIPTION:Are you ready to glow your day away! \nThis event is all about bright colors and glowing fun. \nWear your most colorful neon outfits and accessories to light up our skate floor. \nWednesday\, July 23rd 12:30pm-3:00pm \nAdmission $10.00 \nSkate Rental $6.00 \nYou get to pick!! Choose between a glowing pacifier or a light up mouthpiece for free with every paid admission \nBook your daycare\, YMCA\, Summer Camp etc. Call our Sales Team 440-944-5301 \nSkip the line-buy your tickets online! BUY HERE!
URL:https://www.unitedskates.com/wickliffe/event/neon-glow-day-2/
CATEGORIES:Family Events,Public Skates,Special Events
ATTACH;FMTTYPE=image/jpeg:https://unitedskates-assets.sfo3.digitaloceanspaces.com/wp-content/uploads/sites/12/2024/03/NEON-GLOW-SKATE.jpg
END:VEVENT
BEGIN:VEVENT
DTSTART;TZID=America/New_York:20250723T180000
DTEND;TZID=America/New_York:20250723T203000
DTSTAMP:20260421T205640
CREATED:20250127T185222Z
LAST-MODIFIED:20250725T174050Z
UID:21466-1753293600-1753302600@www.unitedskates.com
SUMMARY:Summer Fun Nights
DESCRIPTION:It’s Summer Time!! \nReady for some fun on the rink! \nJoin us Tuesday-Thursday from 6:00pm-8:30pm \nAdmission $10.00 \nSkate Rental $6.00 \nSkip the line-buy your tickets online! BUY HERE!
URL:https://www.unitedskates.com/wickliffe/event/summer-fun-nights/2025-07-23/
CATEGORIES:Family Events,Public Skates
ATTACH;FMTTYPE=image/jpeg:https://unitedskates-assets.sfo3.digitaloceanspaces.com/wp-content/uploads/sites/12/2025/01/Summer-Fun-Skate-1200x1200-1.jpg
END:VEVENT
BEGIN:VEVENT
DTSTART;TZID=America/New_York:20250724T123000
DTEND;TZID=America/New_York:20250724T150000
DTSTAMP:20260421T205640
CREATED:20250326T232352Z
LAST-MODIFIED:20250703T184217Z
UID:20140-1753360200-1753369200@www.unitedskates.com
SUMMARY:One in a Minion Skate
DESCRIPTION:🍌💛 Get Ready… The Minion is Coming! 💛🍌 \nThat’s right – your favorite little yellow friend is rolling into town\, and he’s bringing a SWEET TREAT just for YOU! 🎉 \n🛼 Join us for a fun-filled day of skating and silliness —🎉 Every paid admission gets a FREE Sno Cone! 🍧 \nBring your friends\, meet the Minion\, and cool off with a tasty treat while you skate the day away! \nThursday\, July 24th 12:30pm-3:00pm \nAdmission $10.00 \nSkate Rental $6.00 \nDon’t miss the fun – it’s going to be BANANAS! 🍌😄 \nCall NOW to schedule your daycare\, summer camp\, YMCA and more 440-944-5301! \nSkip the line-buy your tickets online! BUY HERE!
URL:https://www.unitedskates.com/wickliffe/event/one-in-a-minion-skate/
CATEGORIES:Family Events,Public Skates,Special Events
ATTACH;FMTTYPE=image/jpeg:https://unitedskates-assets.sfo3.digitaloceanspaces.com/wp-content/uploads/sites/12/2025/03/Sno-Cones-with-a-Minion-11.jpg
END:VEVENT
BEGIN:VEVENT
DTSTART;TZID=America/New_York:20250724T180000
DTEND;TZID=America/New_York:20250724T203000
DTSTAMP:20260421T205640
CREATED:20250127T185222Z
LAST-MODIFIED:20250725T174050Z
UID:19713-1753380000-1753389000@www.unitedskates.com
SUMMARY:Summer Fun Nights
DESCRIPTION:It’s Summer Time!! \nReady for some fun on the rink! \nJoin us Tuesday-Thursday from 6:00pm-8:30pm \nAdmission $10.00 \nSkate Rental $6.00 \nSkip the line-buy your tickets online! BUY HERE!
URL:https://www.unitedskates.com/wickliffe/event/summer-fun-nights/2025-07-24/
CATEGORIES:Family Events,Public Skates
ATTACH;FMTTYPE=image/jpeg:https://unitedskates-assets.sfo3.digitaloceanspaces.com/wp-content/uploads/sites/12/2025/01/Summer-Fun-Skate-1200x1200-1.jpg
END:VEVENT
BEGIN:VEVENT
DTSTART;TZID=America/New_York:20250725T123000
DTEND;TZID=America/New_York:20250725T150000
DTSTAMP:20260421T205640
CREATED:20250326T215206Z
LAST-MODIFIED:20250615T013902Z
UID:20113-1753446600-1753455600@www.unitedskates.com
SUMMARY:Bounce House Skate
DESCRIPTION:Get ready to Bounce into your weekend! \nJoin us for a thrilling day where skating meets bouncing fun. \nEnjoy the best of both worlds! Perfect for kids and families. \nFriday\, June 27th and Friday\, July 25th 12:30pm-3:00pm \nAdmission $11.00 \nSkate Rental $6.00 \nFree bounce house with every paid admission \nBook your daycare\, YMCA\, Summer Camp etc. Call our Sales Team 440-944-5301 \nSkip the line-buy your tickets online! BUY HERE!
URL:https://www.unitedskates.com/wickliffe/event/bounce-house-skate-2/2025-07-25/
CATEGORIES:Family Events,Public Skates,Special Events
ATTACH;FMTTYPE=image/jpeg:https://unitedskates-assets.sfo3.digitaloceanspaces.com/wp-content/uploads/sites/12/2024/03/bounce-house-skate.jpg
END:VEVENT
BEGIN:VEVENT
DTSTART;TZID=America/New_York:20250725T180000
DTEND;TZID=America/New_York:20250725T210000
DTSTAMP:20260421T205640
CREATED:20250604T152852Z
LAST-MODIFIED:20250615T020703Z
UID:20718-1753466400-1753477200@www.unitedskates.com
SUMMARY:Bikini Bottom Luau Skate
DESCRIPTION:🌺🛼 It’s Bikini Bottom Like Never Before! 🛼🌺Get ready for a tropical twist on your favorite undersea adventure at the FIRST-EVER Bikini Bottom Luau — only at United Skates! \nJoin us for an epic mash-up of island vibes\, skating fun\, and character magic! SpongeBob\, Stitch\, and even The Little Mermaid are coming together for one unforgettable night of music\, dancing\, and summer fun! \nFriday\, July 25th 6:00pm-9:00pm \n🌊 Event Highlights:🎉 Meet & Greet with your favorite characters🌺 Hawaiian-themed fun & tropical music🍧 $13 Admission includes entry\, a colorful lei\, and a cool sno cone!🛼 Skate rental just $6 \nDon’t miss the luau of the summer — where the ocean meets the rink for one magical night. Costumes\, smiles\, and good vibes encouraged! \nLittle Mermaid will be here 6:30pm-7:30pm \nSkip the line-buy your tickets online! BUY HERE!
URL:https://www.unitedskates.com/wickliffe/event/bikini-bottom-luau-skate/
CATEGORIES:Family Events,Public Skates,Special Events
ATTACH;FMTTYPE=image/jpeg:https://unitedskates-assets.sfo3.digitaloceanspaces.com/wp-content/uploads/sites/12/2025/06/Bikini-Bottom-Under-the-Sea-Luau-Stitch-Spongebob-v3-page-001-1-scaled.jpg
END:VEVENT
BEGIN:VEVENT
DTSTART;TZID=America/New_York:20250726T123000
DTEND;TZID=America/New_York:20250726T150000
DTSTAMP:20260421T205640
CREATED:20250604T153929Z
LAST-MODIFIED:20250615T020749Z
UID:20748-1753533000-1753542000@www.unitedskates.com
SUMMARY:Air Head Skate
DESCRIPTION:🍬😋 Calling All Candy Lovers – Especially Airheads! 😋🍬Get ready for a sweet session of fun and flavor you won’t want to miss! \nJoin us for a candy-filled celebration where Airheads take center stage! Win Airhead-themed prizes all session long and enjoy the ultimate sugar rush on skates. \nSaturday\, July 26th 12:30pm-3:00pm \nAdmission $13.00 \nSkate Rental $6.00 \n🎉 What’s in store:🎁 Chance to win Airhead prizes throughout the session🍭 FREE Airhead candy with paid admission🛼 Sweet vibes\, cool prizes\, and tons of fun! \nDon’t miss this flavor-packed event — it’s going to be a real treat! \nSkip the line-buy your tickets online! BUY HERE!
URL:https://www.unitedskates.com/wickliffe/event/air-head-skate/
CATEGORIES:Family Events,Public Skates,Special Events
ATTACH;FMTTYPE=image/jpeg:https://unitedskates-assets.sfo3.digitaloceanspaces.com/wp-content/uploads/sites/12/2025/06/AIR-HEADS-SKATE-page-001-scaled.jpg
END:VEVENT
BEGIN:VEVENT
DTSTART;TZID=America/New_York:20250726T190000
DTEND;TZID=America/New_York:20250726T220000
DTSTAMP:20260421T205640
CREATED:20241022T221118Z
LAST-MODIFIED:20250615T013504Z
UID:20696-1753556400-1753567200@www.unitedskates.com
SUMMARY:Saturday Night Skate
DESCRIPTION:It’s Saturday night\, and that means it’s time to hit the skate floor! \nJoin us every Saturday from 7:00pm-10:00pm for an incredible night of skating fun! \nAdmission $14.00 \nSkate Rental $6.00 \nWhether you’re planning a date night\, a family outing\, or a fun evening with friends\, there’s something for everyone to enjoy. \nExperience the excitement of gliding on wheels\, meet new people\, and create lasting memories. \nEnjoy the best of R&B and Hip-Hop music all session \nDon’t miss out on the best way to spend your Saturday night! \nSkip the line-buy your tickets online! BUY HERE! \nAll 3–17-year-olds must pay admission and skate rental upon entering the facility. Adults 18+ not skating may enter for free. All 12–17-year-olds must come into our facility with a parent or guardian that is 25 years or age or older. We are only allowing two (2) 12–17-year-olds per one parent or guardian 25 and over. The parent/guardian must stay with the teenager the entire time while in the facility. If the parent/guardian leaves the facility the teen must leave with parent/guardian. No drop off of teens or children into our facility is permitted. No drop off of teens or children to another parent into our facility is permitted. Teenagers 12-17 with their own skates are permitted without a parent if they skate the entire time. Teens asked to keep skates on repeatedly will be asked to leave with no refund
URL:https://www.unitedskates.com/wickliffe/event/family-hip-hop-skate/2025-07-26/
CATEGORIES:Family Events,Public Skates
ATTACH;FMTTYPE=image/jpeg:https://unitedskates-assets.sfo3.digitaloceanspaces.com/wp-content/uploads/sites/12/2024/10/Saturday-Night-Skate-Night-v2.jpg
END:VEVENT
END:VCALENDAR