BEGIN:VCALENDAR
VERSION:2.0
PRODID:-//Rink 11 - Wickliffe - ECPv6.15.20//NONSGML v1.0//EN
CALSCALE:GREGORIAN
METHOD:PUBLISH
X-ORIGINAL-URL:https://www.unitedskates.com/wickliffe
X-WR-CALDESC:Events for Rink 11 - Wickliffe
REFRESH-INTERVAL;VALUE=DURATION:PT1H
X-Robots-Tag:noindex
X-PUBLISHED-TTL:PT1H
BEGIN:VTIMEZONE
TZID:America/New_York
BEGIN:DAYLIGHT
TZOFFSETFROM:-0500
TZOFFSETTO:-0400
TZNAME:EDT
DTSTART:20240310T070000
END:DAYLIGHT
BEGIN:STANDARD
TZOFFSETFROM:-0400
TZOFFSETTO:-0500
TZNAME:EST
DTSTART:20241103T060000
END:STANDARD
BEGIN:DAYLIGHT
TZOFFSETFROM:-0500
TZOFFSETTO:-0400
TZNAME:EDT
DTSTART:20250309T070000
END:DAYLIGHT
BEGIN:STANDARD
TZOFFSETFROM:-0400
TZOFFSETTO:-0500
TZNAME:EST
DTSTART:20251102T060000
END:STANDARD
BEGIN:DAYLIGHT
TZOFFSETFROM:-0500
TZOFFSETTO:-0400
TZNAME:EDT
DTSTART:20260308T070000
END:DAYLIGHT
BEGIN:STANDARD
TZOFFSETFROM:-0400
TZOFFSETTO:-0500
TZNAME:EST
DTSTART:20261101T060000
END:STANDARD
END:VTIMEZONE
BEGIN:VEVENT
DTSTART;TZID=America/New_York:20250615T153000
DTEND;TZID=America/New_York:20250615T183000
DTSTAMP:20260422T031014
CREATED:20250430T215125Z
LAST-MODIFIED:20250615T011752Z
UID:20323-1750001400-1750012200@www.unitedskates.com
SUMMARY:Public Skate
DESCRIPTION:Join us for open skating! \nWe’re excited to welcome skaters of all ages from 3:30pm-6:30pm. \nWhether you’re a seasoned pro or just starting out\, everyone is invited. \nSunday\, June 15th 3:30pm-6:30pm \nAdmission $13.00 \nSkate Rental $6.00 \nBring your friends and family for a great time filled with laughter and joy. \nSkip the line-buy your tickets online! BUY HERE!
URL:https://www.unitedskates.com/wickliffe/event/public-skate-5/
CATEGORIES:Family Events,Public Skates,Special Events
ATTACH;FMTTYPE=image/jpeg:https://unitedskates-assets.sfo3.digitaloceanspaces.com/wp-content/uploads/sites/12/2023/03/public-skate-tile.jpg
END:VEVENT
BEGIN:VEVENT
DTSTART;TZID=America/New_York:20250615T183000
DTEND;TZID=America/New_York:20250615T210000
DTSTAMP:20260422T031014
CREATED:20250430T214130Z
LAST-MODIFIED:20250615T011829Z
UID:20319-1750012200-1750021200@www.unitedskates.com
SUMMARY:Father's Day-Old School Skate
DESCRIPTION:It’s Father’s Day! \nBring out your dad and celebrate this special day on the rink! \nWe are kicking off the festivities with a throwback skate featuring the best R&B and hip-hop hits from the 70s\, 80s\, and 90s. \nAs a special bonus\, all dads get to skate for FREE! \nSunday\, June 15th 6:30pm-9:00pm \nAdmission $13.00 \nSkate Rental $6.00 \nSo gather your family\, lace up those skates\, and enjoy a nostalgic evening filled with great music and fun memories. \nLet’s make this Father’s Day one to remember. \nSkip the line-buy your tickets online! BUY HERE!
URL:https://www.unitedskates.com/wickliffe/event/fathers-day-old-school-skate-4/
CATEGORIES:Family Events,Public Skates,Special Events
ATTACH;FMTTYPE=image/jpeg:https://unitedskates-assets.sfo3.digitaloceanspaces.com/wp-content/uploads/sites/12/2025/04/Fathers-Day-OLD-School-Skate-page-001.jpg
END:VEVENT
BEGIN:VEVENT
DTSTART;TZID=America/New_York:20250617T123000
DTEND;TZID=America/New_York:20250617T150000
DTSTAMP:20260422T031014
CREATED:20250326T211823Z
LAST-MODIFIED:20250615T012430Z
UID:20095-1750163400-1750172400@www.unitedskates.com
SUMMARY:Ninja Turtle Skate
DESCRIPTION:Join us for an action-packed day of skating while celebrating with some of your favorite turtles. \nCome show your spirit! Dress up as Leonardo\, Michelangelo\, Donatello\, or Raphael! \nTuesday\, June 17th 12:30pm-3:00pm \nAdmission $10.00 \nSkate Rental $6.00 \nBook your daycare\, YMCA\, Summer Camp etc. Call our Sales Team 440-944-5301 \nSkip the line-buy your tickets online! BUY HERE!
URL:https://www.unitedskates.com/wickliffe/event/ninja-turtle-skate-4/
CATEGORIES:Family Events,Public Skates,Special Events
ATTACH;FMTTYPE=image/jpeg:https://unitedskates-assets.sfo3.digitaloceanspaces.com/wp-content/uploads/sites/12/2024/03/ninja-turtles-skate-rink-11-1.jpg
END:VEVENT
BEGIN:VEVENT
DTSTART;TZID=America/New_York:20250617T180000
DTEND;TZID=America/New_York:20250617T203000
DTSTAMP:20260422T031014
CREATED:20250430T220226Z
LAST-MODIFIED:20250615T012507Z
UID:20325-1750183200-1750192200@www.unitedskates.com
SUMMARY:Pop Punk Family Skate
DESCRIPTION:Calling all Pop Punk Fans! \nGet ready for an unforgettable family night dedicated to all your favorite pop punk music. \nJoin us we jam to hits from iconic bands like Green Day\, Simple Plan\, Sum 41 and so much more. \nTuesday\, June 17th 6:00pm-8:30pm \nAdmission $10.00 \nSkate Rental $6.00 \nIt’s the perfect opportunity to rock out with your loved ones and create some amazing memories together. \nDon’t miss out on this fun-filled night celebrating the vibrant energy of pop punk. \nSkip the line-buy your tickets online! BUY HERE!
URL:https://www.unitedskates.com/wickliffe/event/pop-punk-family-skate/
CATEGORIES:Family Events,Public Skates,Special Events
ATTACH;FMTTYPE=image/jpeg:https://unitedskates-assets.sfo3.digitaloceanspaces.com/wp-content/uploads/sites/12/2025/04/Pop-Punk-Skate-2025-page-001.jpg
END:VEVENT
BEGIN:VEVENT
DTSTART;TZID=America/New_York:20250618T123000
DTEND;TZID=America/New_York:20250618T150000
DTSTAMP:20260422T031014
CREATED:20250326T212814Z
LAST-MODIFIED:20250716T165742Z
UID:20099-1750249800-1750258800@www.unitedskates.com
SUMMARY:Jungle Terry Skate
DESCRIPTION:Jungle Terry is back and bringing his friends! \nGet ready to meet snakes\, skunks\, turtles and more in this exciting event. \nJoin us for a wild adventure filled with fun and learning about these amazing animals. \nWednesday\, June 18th and Tuesday\, July 15th 12:30pm-3:00pm \nAdmission $12.00 \nSkate Rental $6.00 \nJungle Terry’s show is from 2:15pm-3:00pm \nBook your daycare\, YMCA\, Summer Camp etc. Call our Sales Team 440-944-5301 \nSkip the line-buy your tickets online! BUY HERE!
URL:https://www.unitedskates.com/wickliffe/event/jungle-terry-skate-4/
CATEGORIES:Family Events,Public Skates,Special Events
ATTACH;FMTTYPE=image/png:https://unitedskates-assets.sfo3.digitaloceanspaces.com/wp-content/uploads/sites/12/2023/10/jungle-terry-tile-updated.png
END:VEVENT
BEGIN:VEVENT
DTSTART;TZID=America/New_York:20250619T123000
DTEND;TZID=America/New_York:20250619T150000
DTSTAMP:20260422T031014
CREATED:20250326T212304Z
LAST-MODIFIED:20250615T012923Z
UID:20097-1750336200-1750345200@www.unitedskates.com
SUMMARY:Sno Cone Skate
DESCRIPTION:Enjoy a refreshing day of skating paired with delicious sno cones. \nBring your friends and family for a fun-filled experience with music\, games\, laser tag and more. \nThursday\, June 19th 12:30pm-3:00pm \nAdmission $11.00 \nSkate Rental $6.00 \nFree sno cone with every paid admission \nBook your daycare\, YMCA\, Summer Camp etc. Call our Sales Team 440-944-5301 \nSkip the line-buy your tickets online! BUY HERE!
URL:https://www.unitedskates.com/wickliffe/event/sno-cone-skate-13/
CATEGORIES:Family Events,Public Skates,Special Events
ATTACH;FMTTYPE=image/jpeg:https://unitedskates-assets.sfo3.digitaloceanspaces.com/wp-content/uploads/sites/12/2022/11/snow-cone-tile.jpg
END:VEVENT
BEGIN:VEVENT
DTSTART;TZID=America/New_York:20250619T180000
DTEND;TZID=America/New_York:20250619T203000
DTSTAMP:20260422T031014
CREATED:20250430T224840Z
LAST-MODIFIED:20250615T013013Z
UID:20328-1750356000-1750365000@www.unitedskates.com
SUMMARY:Juneteenth AYCE Skate
DESCRIPTION:It’s Juneteenth! \nGather your friends and family and come celebrate with us on the rink! \nTo make this night even more special\, we’re offering unlimited pizza and drinks for only $18.99 \nNon-skating adults $12.00 includes unlimited pizza and drinks \nThursday\, June 19th 6:00pm-8:30pm \nIt’s a fantastic way to enjoy the holiday together\, filled with fun\, food and skating. \nDon’t miss out on this amazing celebration-let’s make it a night to remember. \nSkip the line-buy your tickets online! BUY HERE!
URL:https://www.unitedskates.com/wickliffe/event/juneteenth-ayce-skate/
CATEGORIES:Family Events,Public Skates,Special Events
ATTACH;FMTTYPE=image/jpeg:https://unitedskates-assets.sfo3.digitaloceanspaces.com/wp-content/uploads/sites/12/2025/04/Juneteenth-AYCE-Skate-editable-v2-page-001-1-scaled.jpg
END:VEVENT
BEGIN:VEVENT
DTSTART;TZID=America/New_York:20250620T123000
DTEND;TZID=America/New_York:20250620T150000
DTSTAMP:20260422T031014
CREATED:20250326T213204Z
LAST-MODIFIED:20250615T013103Z
UID:20102-1750422600-1750431600@www.unitedskates.com
SUMMARY:Unlimited Laser Tag Day
DESCRIPTION:Join us for an action-packed day of non-stop laser tag fun. \nPlay as many games as you want with your friends and family and compete for the highest scores. \nFriday\, June 20th 12:30pm-3:00pm \nAdmission $10.00 \nSkate Rental $6.00 \nBook your daycare\, YMCA\, Summer Camp etc. Call our Sales Team 440-944-5301 \nSkip the line-buy your tickets online! BUY HERE!
URL:https://www.unitedskates.com/wickliffe/event/unlimited-laser-tag-day-2/
CATEGORIES:Family Events,Public Skates,Special Events
ATTACH;FMTTYPE=image/jpeg:https://unitedskates-assets.sfo3.digitaloceanspaces.com/wp-content/uploads/sites/12/2023/04/laser-tag-tile.jpg
END:VEVENT
BEGIN:VEVENT
DTSTART;TZID=America/New_York:20250620T180000
DTEND;TZID=America/New_York:20250620T210000
DTSTAMP:20260422T031014
CREATED:20250501T000005Z
LAST-MODIFIED:20250615T013208Z
UID:20331-1750442400-1750453200@www.unitedskates.com
SUMMARY:Pickle Fest Skate
DESCRIPTION:Calling all pickle lovers! \nGet ready to join us for our amazing Pickle Fest\, a two-day extravaganza packed with pickle-themed fun! \nWith your paid admission. you’ll receive a FREE pickle to kick off the festivities. \nThroughout the event\, we’ll be giving away exciting pickle-themed prizes during all sessions\, so don’t miss your chance to win! \nFriday\, June 20th 6:00pm-9:00pm & Saturday\, June 21st 12:30pm-3:00pm \nAdmission $13.00 \nSkate Rental $6.00 \nWhether you’re a fan of pickles or just looking for a fun time\, this is the perfect event for you! \nSkip the line-buy your tickets online! BUY HERE!
URL:https://www.unitedskates.com/wickliffe/event/pickle-fest-skate/2025-06-20/
CATEGORIES:Family Events,Public Skates,Special Events
ATTACH;FMTTYPE=image/jpeg:https://unitedskates-assets.sfo3.digitaloceanspaces.com/wp-content/uploads/sites/12/2025/04/Picklefest-Skate-page-001-scaled.jpg
END:VEVENT
END:VCALENDAR