BEGIN:VCALENDAR
VERSION:2.0
PRODID:-//Rink 11 - Wickliffe - ECPv6.15.20//NONSGML v1.0//EN
CALSCALE:GREGORIAN
METHOD:PUBLISH
X-WR-CALNAME:Rink 11 - Wickliffe
X-ORIGINAL-URL:https://www.unitedskates.com/wickliffe
X-WR-CALDESC:Events for Rink 11 - Wickliffe
REFRESH-INTERVAL;VALUE=DURATION:PT1H
X-Robots-Tag:noindex
X-PUBLISHED-TTL:PT1H
BEGIN:VTIMEZONE
TZID:America/New_York
BEGIN:DAYLIGHT
TZOFFSETFROM:-0500
TZOFFSETTO:-0400
TZNAME:EDT
DTSTART:20240310T070000
END:DAYLIGHT
BEGIN:STANDARD
TZOFFSETFROM:-0400
TZOFFSETTO:-0500
TZNAME:EST
DTSTART:20241103T060000
END:STANDARD
BEGIN:DAYLIGHT
TZOFFSETFROM:-0500
TZOFFSETTO:-0400
TZNAME:EDT
DTSTART:20250309T070000
END:DAYLIGHT
BEGIN:STANDARD
TZOFFSETFROM:-0400
TZOFFSETTO:-0500
TZNAME:EST
DTSTART:20251102T060000
END:STANDARD
BEGIN:DAYLIGHT
TZOFFSETFROM:-0500
TZOFFSETTO:-0400
TZNAME:EDT
DTSTART:20260308T070000
END:DAYLIGHT
BEGIN:STANDARD
TZOFFSETFROM:-0400
TZOFFSETTO:-0500
TZNAME:EST
DTSTART:20261101T060000
END:STANDARD
END:VTIMEZONE
BEGIN:VEVENT
DTSTART;TZID=America/New_York:20250608T130000
DTEND;TZID=America/New_York:20250608T153000
DTSTAMP:20260422T080432
CREATED:20250430T204110Z
LAST-MODIFIED:20250430T204110Z
UID:20307-1749387600-1749396600@www.unitedskates.com
SUMMARY:Cotton Candy Everything
DESCRIPTION:We are absolutely crazy about cotton candy\, and we hope you are too! \nIt’s time to go wild for cotton candy because we have some delightful surprises in store! \nJoin us at United Skates for a chance to win exciting cotton candy-flavored prizes throughout the event! \nSunday\, June 8th 1:00pm-3:30pm \nAdmission $13.00 \nSkate Rental $6.00 \nDon’t forget to stop by our cafe to check out our brand-new cotton candy icee-it’s a treat you won’t want to miss!
URL:https://www.unitedskates.com/wickliffe/event/cotton-candy-everything/
CATEGORIES:Family Events,Public Skates,Special Events
ATTACH;FMTTYPE=image/jpeg:https://unitedskates-assets.sfo3.digitaloceanspaces.com/wp-content/uploads/sites/12/2025/04/Cotton-Candy-Everything-Skate-page-001-scaled.jpg
END:VEVENT
BEGIN:VEVENT
DTSTART;TZID=America/New_York:20250608T153000
DTEND;TZID=America/New_York:20250608T180000
DTSTAMP:20260422T080432
CREATED:20250604T143007Z
LAST-MODIFIED:20250615T014300Z
UID:20530-1749396600-1749405600@www.unitedskates.com
SUMMARY:Sunday Funday Skate
DESCRIPTION:Book your Birthday Party! Birthday Parties available from 3:30pm-6:00pm \nAdmission $13.00 \nSkate Rental $6.00 \nFeaturing Pop and R&B Music Mix \nSkip the line-buy your tickets online! BUY HERE! \nAll 3–17-year-olds must pay admission and skate rental upon entering the facility.  Adults 18+ not skating may enter for free. All 12–17-year-olds must come into our facility with a parent or guardian that is 25 years or age or older. We are only allowing two (2) 12–17-year-olds per one parent or guardian 25 and over. The parent/guardian must stay with the teenager the entire time while in the facility. If the parent/guardian leaves the facility the teen must leave with parent/guardian. No drop off of teens or children into our facility is permitted. No drop off of teens or children to another parent into our facility is permitted. Teenagers 12-17 with their own skates are permitted without a parent if they skate the entire time. Teens asked to keep skates on repeatedly will be asked to leave with no refund.
URL:https://www.unitedskates.com/wickliffe/event/sunday-funday-skate/2025-06-08/
CATEGORIES:Family Events,Public Skates
ATTACH;FMTTYPE=image/jpeg:https://unitedskates-assets.sfo3.digitaloceanspaces.com/wp-content/uploads/sites/12/2023/07/800px-Sunday-Funday-2022-1200x900-1.jpg
END:VEVENT
BEGIN:VEVENT
DTSTART;TZID=America/New_York:20250609T123000
DTEND;TZID=America/New_York:20250609T150000
DTSTAMP:20260422T080432
CREATED:20250127T184511Z
LAST-MODIFIED:20250615T012140Z
UID:19640-1749472200-1749481200@www.unitedskates.com
SUMMARY:$9.00 Mondays
DESCRIPTION:We’re rolling into the week with excitement! \nJoin us every Monday afternoon from 12:30pm-3:00pm for an unforgettable time filled with affordable fun and laughter. \nOnly $9.00 for Admission \n$6.00 skate rental \nIt’s the perfect opportunity to lace up your skates\, enjoy great company\, and kickstart the week on a high note! \nWe are taking reservations for organized groups\, daycares\, YMCA’s\, Summer Camps\, Rec Center and more! \nCall our Sales Team Today 440-944-5301 \nSkip the line-buy your tickets online! BUY HERE!
URL:https://www.unitedskates.com/wickliffe/event/9-00-mondays-2/2025-06-09/
CATEGORIES:Family Events,Public Skates
ATTACH;FMTTYPE=image/jpeg:https://unitedskates-assets.sfo3.digitaloceanspaces.com/wp-content/uploads/sites/12/2025/01/9-DOLLAR-MONDAY-1.jpg
END:VEVENT
BEGIN:VEVENT
DTSTART;TZID=America/New_York:20250610T123000
DTEND;TZID=America/New_York:20250610T150000
DTSTAMP:20260422T080432
CREATED:20250326T205742Z
LAST-MODIFIED:20250421T182602Z
UID:20086-1749558600-1749567600@www.unitedskates.com
SUMMARY:Stitch Skate
DESCRIPTION:Get ready for a fun-filled day at the Stitch Skate event! \nJoin us for a fantastic time where you can skate\, play games and so much more! \nPlus\, meet the one and only Stitch! \nTuesday\, June 10th 12:30pm-3:00pm \nAdmission $10.00 \nSkate Rental $6.00 \nDisney Prizes all session long! \nBook your daycare\, YMCA\, Summer Camp etc. Call our Sales Team 440-944-5301
URL:https://www.unitedskates.com/wickliffe/event/stitch-skate-5/
CATEGORIES:Family Events,Public Skates,Special Events
ATTACH;FMTTYPE=image/jpeg:https://unitedskates-assets.sfo3.digitaloceanspaces.com/wp-content/uploads/sites/12/2025/03/stitch-june-page-001-scaled.jpg
END:VEVENT
BEGIN:VEVENT
DTSTART;TZID=America/New_York:20250610T180000
DTEND;TZID=America/New_York:20250610T203000
DTSTAMP:20260422T080432
CREATED:20250430T204858Z
LAST-MODIFIED:20250430T204858Z
UID:20310-1749578400-1749587400@www.unitedskates.com
SUMMARY:Free Laser Tag Night
DESCRIPTION:Get ready to unleash your competitive spirit with our exclusive free laser tag night\, happening just once. \nThis is an event you won’t want to miss! \nWith your paid admission\, you’ll receive a complimentary (free) game of laser tag to challenge your friends and family in an epic showdown. \nTuesday\, June 10th 6:00pm-8:30pm \nAdmission $10.00 \nSkate Rental $6.00 \nGather your crew\, strategize your moves\, and join us for a thrilling night of fun and excitement!
URL:https://www.unitedskates.com/wickliffe/event/free-laser-tag-night/
CATEGORIES:Family Events,Public Skates,Special Events
ATTACH;FMTTYPE=image/jpeg:https://unitedskates-assets.sfo3.digitaloceanspaces.com/wp-content/uploads/sites/12/2023/04/laser-tag-tile.jpg
END:VEVENT
BEGIN:VEVENT
DTSTART;TZID=America/New_York:20250611T123000
DTEND;TZID=America/New_York:20250611T150000
DTSTAMP:20260422T080432
CREATED:20250326T210242Z
LAST-MODIFIED:20250421T183500Z
UID:20088-1749645000-1749654000@www.unitedskates.com
SUMMARY:Ice-Cream Sandwich Skate
DESCRIPTION:Get ready for something sweet! \nEnjoy skating while indulging in tasty ice cream sandwiches. \nWednesday\, June 11th 12:30pm-3:00pm \nAdmission $11.00 \nSkate Rental $6.00 \nGet a free ice cream sandwich with every paid admission \nBook your daycare\, YMCA\, Summer Camp etc. Call our Sales Team 440-944-5301
URL:https://www.unitedskates.com/wickliffe/event/ice-cream-sandwich-skate-8/
CATEGORIES:Family Events,Public Skates,Special Events
ATTACH;FMTTYPE=image/jpeg:https://unitedskates-assets.sfo3.digitaloceanspaces.com/wp-content/uploads/sites/12/2023/10/ice-sand-skate-rink-11-1.jpg
END:VEVENT
BEGIN:VEVENT
DTSTART;TZID=America/New_York:20250611T180000
DTEND;TZID=America/New_York:20250611T203000
DTSTAMP:20260422T080432
CREATED:20250127T185222Z
LAST-MODIFIED:20250725T174048Z
UID:19692-1749664800-1749673800@www.unitedskates.com
SUMMARY:Summer Fun Nights
DESCRIPTION:It’s Summer Time!! \nReady for some fun on the rink! \nJoin us Tuesday-Thursday from 6:00pm-8:30pm \nAdmission $10.00 \nSkate Rental $6.00 \nSkip the line-buy your tickets online! BUY HERE!
URL:https://www.unitedskates.com/wickliffe/event/summer-fun-nights/2025-06-11/
CATEGORIES:Family Events,Public Skates
ATTACH;FMTTYPE=image/jpeg:https://unitedskates-assets.sfo3.digitaloceanspaces.com/wp-content/uploads/sites/12/2025/01/Summer-Fun-Skate-1200x1200-1.jpg
END:VEVENT
BEGIN:VEVENT
DTSTART;TZID=America/New_York:20250612T123000
DTEND;TZID=America/New_York:20250612T150000
DTSTAMP:20260422T080432
CREATED:20250326T210954Z
LAST-MODIFIED:20250730T155309Z
UID:20090-1749731400-1749740400@www.unitedskates.com
SUMMARY:Game Card Day
DESCRIPTION:Join us for an exciting day filled with fun and games! \nThursday\, June 12th and Wednesday\, July 30th 12:30pm-3:00pm \nAdmission $10.00 \nSkate Rental $6.00 \nEvery paid admission will receive a 10-credit game card \nBring your friends and compete for high scores while making awesome memories. \nBook your daycare\, YMCA\, Summer Camp etc. Call our Sales Team 440-944-5301 \nSkip the line-buy your tickets online! BUY HERE! \n 
URL:https://www.unitedskates.com/wickliffe/event/game-card-day-3/
CATEGORIES:Family Events,Public Skates,Special Events
ATTACH;FMTTYPE=image/jpeg:https://unitedskates-assets.sfo3.digitaloceanspaces.com/wp-content/uploads/sites/12/2024/03/GAME-card-day-2024.jpg
END:VEVENT
BEGIN:VEVENT
DTSTART;TZID=America/New_York:20250613T123000
DTEND;TZID=America/New_York:20250613T150000
DTSTAMP:20260422T080432
CREATED:20250326T211421Z
LAST-MODIFIED:20250513T201937Z
UID:20093-1749817800-1749826800@www.unitedskates.com
SUMMARY:Jack Skellington Skate
DESCRIPTION:It’s Friday the 13th!! \nCelebrate the spirit of Halloween Town while skating to some of your favorite music. \nFriday\, June 13th 12:30pm-3:00pm \nAdmission $10.00 \nSkate Rental $6.00 \nDress up as your favorite character and enjoy a spooky good time! \nBonus! Meet Jack Skellington live and in person. \nBook your daycare\, YMCA\, Summer Camp etc. Call our Sales Team 440-944-5301
URL:https://www.unitedskates.com/wickliffe/event/jack-skellington-skate/
CATEGORIES:Family Events,Public Skates,Special Events
ATTACH;FMTTYPE=image/gif:https://unitedskates-assets.sfo3.digitaloceanspaces.com/wp-content/uploads/sites/12/2025/03/jack-skellington-skate.gif
END:VEVENT
BEGIN:VEVENT
DTSTART;TZID=America/New_York:20250613T180000
DTEND;TZID=America/New_York:20250613T210000
DTSTAMP:20260422T080432
CREATED:20250430T210133Z
LAST-MODIFIED:20250430T210133Z
UID:20312-1749837600-1749848400@www.unitedskates.com
SUMMARY:Friday the 13th Skate
DESCRIPTION:For the first time ever\, Jason is making a thrilling grand appearance for Friday the 13th! \nGet ready for an unforgettable experience as you try to spot him during our rolling blackouts and surprise pop-up visits. \nYou’ll never know where he might show up next. \nFriday\, June 13th 6:00pm-9:00pm \nAdmission $13.00 \nSkate Rental $6.00 \nDon’t miss out on our exciting dress-up contest-come dressed as your best version of Jason\, and you could WIN! \nBe sure to swing by cafe and check out our spooky cafe deals! \nCapture the moment at our eerie photo ops! \nThis event is also a perfect opportunity for a birthday party\, so make sure to book yours today! \nMake sure to join us for a night of fun\, fright and festivities.
URL:https://www.unitedskates.com/wickliffe/event/friday-the-13th-skate/
CATEGORIES:Family Events,Public Skates,Special Events
ATTACH;FMTTYPE=image/jpeg:https://unitedskates-assets.sfo3.digitaloceanspaces.com/wp-content/uploads/sites/12/2025/04/friday-13-skate-summer-page-001-scaled.jpg
END:VEVENT
BEGIN:VEVENT
DTSTART;TZID=America/New_York:20250614T123000
DTEND;TZID=America/New_York:20250614T150000
DTSTAMP:20260422T080432
CREATED:20250430T211803Z
LAST-MODIFIED:20250430T211803Z
UID:20315-1749904200-1749913200@www.unitedskates.com
SUMMARY:Scratch and Sniff Sticker Day
DESCRIPTION:Are you a fan of scratch-and-sniff stickers? \nIf so\, this event is tailor-made for you! \nJoin us for an exciting day where\, with your paid admission\, you’ll receive two tickets to our exclusive scratch-and-sniff sticker station! \nBut that’s not all- we’ll also be raffling off some delightful silly-scented markers to two lucky winners! \nSaturday\, June 14th 12:30pm-3:00pm \nAdmission $13.00 \nSkate Rental $6.00 \nDon’t miss your chance to experience the fun and whimsey of these unique stickers and markers!
URL:https://www.unitedskates.com/wickliffe/event/scratch-and-sniff-sticker-day/
CATEGORIES:Family Events,Public Skates,Special Events
ATTACH;FMTTYPE=image/jpeg:https://unitedskates-assets.sfo3.digitaloceanspaces.com/wp-content/uploads/sites/12/2025/04/Scratch-and-Sniff-SKATE-page-001.jpg
END:VEVENT
END:VCALENDAR