BEGIN:VCALENDAR
VERSION:2.0
PRODID:-//Rink 11 - Wickliffe - ECPv6.15.20//NONSGML v1.0//EN
CALSCALE:GREGORIAN
METHOD:PUBLISH
X-ORIGINAL-URL:https://www.unitedskates.com/wickliffe
X-WR-CALDESC:Events for Rink 11 - Wickliffe
REFRESH-INTERVAL;VALUE=DURATION:PT1H
X-Robots-Tag:noindex
X-PUBLISHED-TTL:PT1H
BEGIN:VTIMEZONE
TZID:America/New_York
BEGIN:DAYLIGHT
TZOFFSETFROM:-0500
TZOFFSETTO:-0400
TZNAME:EDT
DTSTART:20240310T070000
END:DAYLIGHT
BEGIN:STANDARD
TZOFFSETFROM:-0400
TZOFFSETTO:-0500
TZNAME:EST
DTSTART:20241103T060000
END:STANDARD
BEGIN:DAYLIGHT
TZOFFSETFROM:-0500
TZOFFSETTO:-0400
TZNAME:EDT
DTSTART:20250309T070000
END:DAYLIGHT
BEGIN:STANDARD
TZOFFSETFROM:-0400
TZOFFSETTO:-0500
TZNAME:EST
DTSTART:20251102T060000
END:STANDARD
BEGIN:DAYLIGHT
TZOFFSETFROM:-0500
TZOFFSETTO:-0400
TZNAME:EDT
DTSTART:20260308T070000
END:DAYLIGHT
BEGIN:STANDARD
TZOFFSETFROM:-0400
TZOFFSETTO:-0500
TZNAME:EST
DTSTART:20261101T060000
END:STANDARD
END:VTIMEZONE
BEGIN:VEVENT
DTSTART;TZID=America/New_York:20250525T123000
DTEND;TZID=America/New_York:20250525T150000
DTSTAMP:20260423T011309
CREATED:20250326T184220Z
LAST-MODIFIED:20250326T184220Z
UID:20023-1748176200-1748185200@www.unitedskates.com
SUMMARY:National Family Fun Day
DESCRIPTION:It’s National Family Fun Day\, and there’s no better way to celebrate than by enjoying a day filled with skating\, games\, laughter and more! \nWe’ve put together an incredible deal just for you and your family: for only $14.99 you’ll receive admission\, skate rental\, a delicious slice of pizza\, refreshing drink\, and exciting game of laser tag! \nOnly available on Sunday\, May 25th 12:30pm-3:00pm\, 3:30pm-6:00pm and 6:30pm-9:00pm \nBring the whole family and make unforgettable memories together while having a blast. \nDon’t miss out on this fantastic opportunity to enjoy a day of fun and togetherness.
URL:https://www.unitedskates.com/wickliffe/event/national-family-fun-day/2025-05-25/
CATEGORIES:Family Events,Public Skates,Special Events
ATTACH;FMTTYPE=image/jpeg:https://unitedskates-assets.sfo3.digitaloceanspaces.com/wp-content/uploads/sites/12/2025/03/National-Family-Skate-2023-v2-page-001-scaled.jpg
END:VEVENT
BEGIN:VEVENT
DTSTART;TZID=America/New_York:20250526T123000
DTEND;TZID=America/New_York:20250526T150000
DTSTAMP:20260423T011309
CREATED:20250326T203606Z
LAST-MODIFIED:20250401T194431Z
UID:20041-1748262600-1748271600@www.unitedskates.com
SUMMARY:Party in the USA
DESCRIPTION:It’s Memorial Day\, and we’re ready to celebrate with you! \nIf you’re looking for fun plans to get out of the house\, look no further. \nJoin us for an exciting day filled with activities from skating\, laser tag and more! \nMonday May 26th 12:30pm-3:00pm and 3:30pm-6:00pm \nJust $15.99 includes skate rental\, unlimited pizza\, and a thrilling game of laser tag \nNon-skating adults $10.00 includes unlimited pizza \nBring your friends and family for a day of laughter! \nPizza served from 1:00pm-2:30pm and 4:00pm-5:30pm
URL:https://www.unitedskates.com/wickliffe/event/party-in-the-usa/2025-05-26/
CATEGORIES:Adult Events,Public Skates,Special Events
ATTACH;FMTTYPE=image/jpeg:https://unitedskates-assets.sfo3.digitaloceanspaces.com/wp-content/uploads/sites/12/2025/03/Party-in-Usa-Skate-2025-page-001-scaled.jpg
END:VEVENT
BEGIN:VEVENT
DTSTART;TZID=America/New_York:20250526T190000
DTEND;TZID=America/New_York:20250526T230000
DTSTAMP:20260423T011309
CREATED:20250401T202803Z
LAST-MODIFIED:20250401T202804Z
UID:20186-1748286000-1748300400@www.unitedskates.com
SUMMARY:Old School Memorial Adult Skate
DESCRIPTION:Get ready for an Old School Memorial Day Skate! \nJoin us for a night of nostalgia featuring the best jazz\, 80s and 90s hits\, and classic skate music that will take you back in time. \nGather your friends for an evening of fun\, laughter and great tunes as we celebrate this Memorial Day together. \nMonday\, May 26th 7:00pm-11:00pm \nAdmission $12.00 \nSkate Rental $6.00 \n 
URL:https://www.unitedskates.com/wickliffe/event/old-school-memorial-adult-skate/
CATEGORIES:Family Events,Public Skates,Special Events
ATTACH;FMTTYPE=image/jpeg:https://unitedskates-assets.sfo3.digitaloceanspaces.com/wp-content/uploads/sites/12/2025/04/memorial-day-old-school-adult-skate-25-page-001-scaled.jpg
END:VEVENT
BEGIN:VEVENT
DTSTART;TZID=America/New_York:20250528T180000
DTEND;TZID=America/New_York:20250528T203000
DTSTAMP:20260423T011309
CREATED:20250401T200116Z
LAST-MODIFIED:20250401T200609Z
UID:20181-1748455200-1748464200@www.unitedskates.com
SUMMARY:Faith and Family Glow Skate
DESCRIPTION:Get ready for an unforgettable evening at our Faith and Family Glow Skate event. \nExperience a vibrant night filled with glowing lights and uplifting music from Christian rock\, worship favorites and so much more! \nIt’s a wonderful opportunity to connect with family and friends while embracing the spirit of faith through music and skating. \nWednesday\, May 28th 6:00pm-8:30pm \nAdmission $12.00 \nSkate Rental $6.00 \nFree glow stick with every paid admission \nFundraising opportunities are available\, call our Sales Team Today 440-944-5301 \nLet’s come together to roll\, rejoice\, and celebrate the bonds that unite us. \n 
URL:https://www.unitedskates.com/wickliffe/event/faith-and-family-skate/
CATEGORIES:Family Events,Public Skates,Special Events
ATTACH;FMTTYPE=image/jpeg:https://unitedskates-assets.sfo3.digitaloceanspaces.com/wp-content/uploads/sites/12/2025/04/Family-and-Faith-Glow-Skate-page-001-scaled.jpg
END:VEVENT
BEGIN:VEVENT
DTSTART;TZID=America/New_York:20250529T180000
DTEND;TZID=America/New_York:20250529T203000
DTSTAMP:20260423T011309
CREATED:20250528T182538Z
LAST-MODIFIED:20250528T182729Z
UID:20488-1748541600-1748550600@www.unitedskates.com
SUMMARY:End of School Year Extravaganza
DESCRIPTION:🎉 School’s Out & the Party’s On! 🎉Get ready to roll into summer with our End-of-School-Year Skating Extravaganza—the ultimate celebration you won’t want to miss! \n📅 Thursday\, May 29th | 6:00 PM – 8:30 PM🛼 ONLY $5.00 – Includes admission AND skate rental! \nCome meet some of your favorite characters\, including the mischievous Stitch\, our high-energy mascot Skato\, and many more surprise guests! Snap a selfie\, share a hug\, and make magical memories with the characters you love. \n🎮 But that’s not all! Your night will be packed with:✨ Roller Skating Fun Exciting Laser Tag Battles🎯 Awesome Arcade Games🎁 Surprises Around Every Corner! \nGrab your friends\, bring your best moves\, and celebrate the start of summer in style! With all this fun for just $5\, you know it’s going to be a night to remember! \n🎊 One Night Only – Don’t Miss Out!
URL:https://www.unitedskates.com/wickliffe/event/end-of-school-year-extravaganza/
CATEGORIES:Family Events,Public Skates,Special Events
ATTACH;FMTTYPE=image/jpeg:https://unitedskates-assets.sfo3.digitaloceanspaces.com/wp-content/uploads/sites/12/2025/05/end-of-school-year-skate-2025-page-001-1-scaled.jpg
END:VEVENT
BEGIN:VEVENT
DTSTART;TZID=America/New_York:20250530T163000
DTEND;TZID=America/New_York:20250530T183000
DTSTAMP:20260423T011309
CREATED:20250521T132728Z
LAST-MODIFIED:20250521T132729Z
UID:20445-1748622600-1748629800@www.unitedskates.com
SUMMARY:$5.00 Stitch Skate
DESCRIPTION:🌟 Stitch is Taking a Break from the Big Screen… Just to Hang Out with YOU! 🌀🛼 \nThis Friday\, May 30th from 4:30–6:30 PM\, everyone’s favorite blue troublemaker is trading movie magic for real-life fun—and you’re invited! \n💙 Stitch is rolling in to kick off the weekend with dancing\, laughs\, and out-of-this-world excitement… and guess what? He even dropped the admission to just $5.00 to celebrate! 🚨 \nBring your friends\, bring the family\, and don’t miss this limited-time appearance. It’s the perfect way to start your weekend with a little mischief and a whole lot of fun! \nSkate Rental $6.00 \nLet’s get a little wild—Stitch-style!
URL:https://www.unitedskates.com/wickliffe/event/5-00-stitch-skate/
CATEGORIES:Family Events,Public Skates,Special Events
ATTACH;FMTTYPE=image/jpeg:https://unitedskates-assets.sfo3.digitaloceanspaces.com/wp-content/uploads/sites/12/2025/05/stitch-may-page-001-scaled.jpg
END:VEVENT
BEGIN:VEVENT
DTSTART;TZID=America/New_York:20250530T183000
DTEND;TZID=America/New_York:20250530T210000
DTSTAMP:20260423T011309
CREATED:20250326T204841Z
LAST-MODIFIED:20250326T204841Z
UID:20044-1748629800-1748638800@www.unitedskates.com
SUMMARY:Brain Freeze Skate
DESCRIPTION:Let’s cool you down!! \nJoin us for a fun night and enjoy a sweet and cold treat. \nWith every paid admission you’ll receive a delicious popsicle to beat the heat. \nFriday\, May 30th 6:30pm-9:00pm \nAdmission $12.00 \nSkate Rental $6.00 \nCome on down to enjoy laughter\, games and refreshing treats.
URL:https://www.unitedskates.com/wickliffe/event/brain-freeze-skate/
CATEGORIES:Family Events,Public Skates,Special Events
ATTACH;FMTTYPE=image/jpeg:https://unitedskates-assets.sfo3.digitaloceanspaces.com/wp-content/uploads/sites/12/2025/03/brain-freeze-skate-2022-1200x1200-v3.jpg
END:VEVENT
BEGIN:VEVENT
DTSTART;TZID=America/New_York:20250530T213000
DTEND;TZID=America/New_York:20250531T000000
DTSTAMP:20260423T011309
CREATED:20250414T180812Z
LAST-MODIFIED:20250414T181444Z
UID:20207-1748640600-1748649600@www.unitedskates.com
SUMMARY:Summer Gospel Kick Off
DESCRIPTION:Get ready to embrace the summer vibes at our Gospel Kick-Off Skate Night! \nIt’s going to be an unforgettable evening packed with excitement\, community spirit\, and fantastic giveaways throughout the entire session. \nFriday\, May 30th 9:30pm-12:00am \nAdmission $12.00 \nSkate Rental $6.00 \nAre you interested in raising funds for your church while having a blast? \nThis is the perfect opportunity for a fun night out with your church\, friends and families. \nFor more information\, don’t hesitate to reach out to our dedicated sales team\, 440-944-5301
URL:https://www.unitedskates.com/wickliffe/event/summer-gospel-kick-off/
CATEGORIES:Family Events,Public Skates,Special Events
ATTACH;FMTTYPE=image/jpeg:https://unitedskates-assets.sfo3.digitaloceanspaces.com/wp-content/uploads/sites/12/2025/04/Summer-Gospel-Kick-Off-Party-page-001-scaled.jpg
END:VEVENT
END:VCALENDAR