BEGIN:VCALENDAR
VERSION:2.0
PRODID:-//Rink 11 - Wickliffe - ECPv6.15.20//NONSGML v1.0//EN
CALSCALE:GREGORIAN
METHOD:PUBLISH
X-ORIGINAL-URL:https://www.unitedskates.com/wickliffe
X-WR-CALDESC:Events for Rink 11 - Wickliffe
REFRESH-INTERVAL;VALUE=DURATION:PT1H
X-Robots-Tag:noindex
X-PUBLISHED-TTL:PT1H
BEGIN:VTIMEZONE
TZID:America/New_York
BEGIN:DAYLIGHT
TZOFFSETFROM:-0500
TZOFFSETTO:-0400
TZNAME:EDT
DTSTART:20240310T070000
END:DAYLIGHT
BEGIN:STANDARD
TZOFFSETFROM:-0400
TZOFFSETTO:-0500
TZNAME:EST
DTSTART:20241103T060000
END:STANDARD
BEGIN:DAYLIGHT
TZOFFSETFROM:-0500
TZOFFSETTO:-0400
TZNAME:EDT
DTSTART:20250309T070000
END:DAYLIGHT
BEGIN:STANDARD
TZOFFSETFROM:-0400
TZOFFSETTO:-0500
TZNAME:EST
DTSTART:20251102T060000
END:STANDARD
BEGIN:DAYLIGHT
TZOFFSETFROM:-0500
TZOFFSETTO:-0400
TZNAME:EDT
DTSTART:20260308T070000
END:DAYLIGHT
BEGIN:STANDARD
TZOFFSETFROM:-0400
TZOFFSETTO:-0500
TZNAME:EST
DTSTART:20261101T060000
END:STANDARD
END:VTIMEZONE
BEGIN:VEVENT
DTSTART;TZID=America/New_York:20250518T123000
DTEND;TZID=America/New_York:20250518T150000
DTSTAMP:20260422T063200
CREATED:20250326T201854Z
LAST-MODIFIED:20250326T201854Z
UID:20038-1747571400-1747580400@www.unitedskates.com
SUMMARY:Friendship Skate
DESCRIPTION:It’s all about friendships\, and we’re celebrating with an amazing Sunday Funday! \nBring your friends and enjoy a day filled with fun and laughter. \nTo make it even more special\, we’re offering a fantastic deal: buy one admission and get one FREE \nSunday\, May 18th 12:30pm-3:00pm \nAdmission $12.00 \nSkate Rental $6.00 \nThis is the perfect opportunity to enjoy some quality time with your friends\, skate\, play games\, and create unforgettable memories together. \nDon’t miss out on this great offer-let’s make this Sunday a day to remember.
URL:https://www.unitedskates.com/wickliffe/event/friendship-skate/
CATEGORIES:Family Events,Public Skates,Special Events
ATTACH;FMTTYPE=image/jpeg:https://unitedskates-assets.sfo3.digitaloceanspaces.com/wp-content/uploads/sites/12/2025/03/Friendship-Skate-page-001-scaled.jpg
END:VEVENT
BEGIN:VEVENT
DTSTART;TZID=America/New_York:20250520T180000
DTEND;TZID=America/New_York:20250520T203000
DTSTAMP:20260422T063200
CREATED:20250515T194952Z
LAST-MODIFIED:20250515T194952Z
UID:20425-1747764000-1747773000@www.unitedskates.com
SUMMARY:$5.00 Tuesday
DESCRIPTION:Get ready to kick off your week with an awesome deal! \nThis Tuesday night only\, admission is just $5.00!! \nSkate Rental $6.00 \nTuesday\, May 20th 6:00pm-8:30pm \nDon’t miss out on the fun-grab your friends and family for a game of laser tag too only $6.00 per person/per game. \nLet’s make it a night to remember!
URL:https://www.unitedskates.com/wickliffe/event/5-00-tuesday/
CATEGORIES:Family Events,Public Skates
ATTACH;FMTTYPE=image/jpeg:https://unitedskates-assets.sfo3.digitaloceanspaces.com/wp-content/uploads/sites/12/2025/05/5-tuesday-page-001-scaled.jpg
END:VEVENT
BEGIN:VEVENT
DTSTART;TZID=America/New_York:20250523T183000
DTEND;TZID=America/New_York:20250523T210000
DTSTAMP:20260422T063200
CREATED:20250326T181724Z
LAST-MODIFIED:20250326T181724Z
UID:20016-1748025000-1748034000@www.unitedskates.com
SUMMARY:Laffy Taffy Skate
DESCRIPTION:It’s National Laffy Taffy Day!! \nWe’re ready to kick off the weekend and celebrate it in style! \nFriday\, May 23rd 6:30pm-9:00pm \nAdmission $12.00 \nSkate Rental $6.00 \nJoin us for a fun night of skating\, games\, laughter and so much more! \nYou also get to enjoy the sweet and chewy goodness of Laffy Taffy! \nWith every paid admission. you’ll receive a FREE Laffy Taffy! \n 
URL:https://www.unitedskates.com/wickliffe/event/laffy-taffy-skate/
CATEGORIES:Family Events,Public Skates,Special Events
ATTACH;FMTTYPE=image/jpeg:https://unitedskates-assets.sfo3.digitaloceanspaces.com/wp-content/uploads/sites/12/2025/03/LAFFY-TAFFY-SKATE-page-001-scaled.jpg
END:VEVENT
BEGIN:VEVENT
DTSTART;TZID=America/New_York:20250524T123000
DTEND;TZID=America/New_York:20250524T150000
DTSTAMP:20260422T063200
CREATED:20250326T183140Z
LAST-MODIFIED:20250326T183140Z
UID:20020-1748089800-1748098800@www.unitedskates.com
SUMMARY:Scooby Doo's Scavenger Hunt
DESCRIPTION:Are you ready to dive into some thrilling mystery? \nJoin us for an exciting scavenger hunt at the rink! \nBring your detective skills and prepare for an adventure filled with clues and surprises \nSaturday\, May 24th 12:30pm-3:00pm \nAdmission $12.00 \nSkate Rental $6.00 \nTo make things even more fun\, you’ll have assistance from the ultimate mystery-solving canine\, Scooby-Doo! \nGather your friends and family for a day of exploration\, teamwork and laughter as you search for hidden treasures. \nScavenger hunt from 2:30pm-3:00pm
URL:https://www.unitedskates.com/wickliffe/event/scooby-doos-scavenger-hunt/
CATEGORIES:Family Events,Public Skates,Special Events
ATTACH;FMTTYPE=image/jpeg:https://unitedskates-assets.sfo3.digitaloceanspaces.com/wp-content/uploads/sites/12/2025/03/Scooby-Mystery-Scavenger-Hunt-25-page-001-scaled.jpg
END:VEVENT
END:VCALENDAR