BEGIN:VCALENDAR
VERSION:2.0
PRODID:-//Rink 11 - Wickliffe - ECPv6.15.20//NONSGML v1.0//EN
CALSCALE:GREGORIAN
METHOD:PUBLISH
X-ORIGINAL-URL:https://www.unitedskates.com/wickliffe
X-WR-CALDESC:Events for Rink 11 - Wickliffe
REFRESH-INTERVAL;VALUE=DURATION:PT1H
X-Robots-Tag:noindex
X-PUBLISHED-TTL:PT1H
BEGIN:VTIMEZONE
TZID:America/New_York
BEGIN:DAYLIGHT
TZOFFSETFROM:-0500
TZOFFSETTO:-0400
TZNAME:EDT
DTSTART:20240310T070000
END:DAYLIGHT
BEGIN:STANDARD
TZOFFSETFROM:-0400
TZOFFSETTO:-0500
TZNAME:EST
DTSTART:20241103T060000
END:STANDARD
BEGIN:DAYLIGHT
TZOFFSETFROM:-0500
TZOFFSETTO:-0400
TZNAME:EDT
DTSTART:20250309T070000
END:DAYLIGHT
BEGIN:STANDARD
TZOFFSETFROM:-0400
TZOFFSETTO:-0500
TZNAME:EST
DTSTART:20251102T060000
END:STANDARD
BEGIN:DAYLIGHT
TZOFFSETFROM:-0500
TZOFFSETTO:-0400
TZNAME:EDT
DTSTART:20260308T070000
END:DAYLIGHT
BEGIN:STANDARD
TZOFFSETFROM:-0400
TZOFFSETTO:-0500
TZNAME:EST
DTSTART:20261101T060000
END:STANDARD
END:VTIMEZONE
BEGIN:VEVENT
DTSTART;TZID=America/New_York:20250511T173000
DTEND;TZID=America/New_York:20250511T203000
DTSTAMP:20260423T051452
CREATED:20250326T191243Z
LAST-MODIFIED:20250331T191559Z
UID:20028-1746984600-1746995400@www.unitedskates.com
SUMMARY:Mother's Day-Old School Skate
DESCRIPTION:It’s Mother’s Day\, and we’re ready to celebrate all the amazing moms out there on the rink! \nJoin us for a nostalgic trip back to the 80’s\, 90’s and 2000’s\, complete with fun music and great vibes. \nTo make this day even more special\, all moms get to skate for FREE! \nSunday\, March 11th 5:30pm-8:30pm \nAdmission $12.00 \nSkate Rental $6.00 \nTreat your mom to a day filled with laughter\, skating\, love and wonderful memories. \nBring the whole family out to show your appreciation and enjoy some quality time together.
URL:https://www.unitedskates.com/wickliffe/event/mothers-day-old-school-skate/
CATEGORIES:Family Events,Public Skates,Special Events
ATTACH;FMTTYPE=image/jpeg:https://unitedskates-assets.sfo3.digitaloceanspaces.com/wp-content/uploads/sites/12/2025/03/Mother-s-Day-Old-School-Skate-new-page-001-scaled.jpg
END:VEVENT
BEGIN:VEVENT
DTSTART;TZID=America/New_York:20250516T183000
DTEND;TZID=America/New_York:20250516T210000
DTSTAMP:20260423T051452
CREATED:20250326T195346Z
LAST-MODIFIED:20250326T195347Z
UID:20032-1747420200-1747429200@www.unitedskates.com
SUMMARY:Spring Carnival Skate
DESCRIPTION:Carnival season is just around the corner\, and we’re excited to kick it off with our very own Spring Carnival Skate! \nJoin us for a night filled with fun activities\, including skating\, exciting carnival games\, and a bounce house for everyone to enjoy. \nFriday\, May 16th 6:30pm-9:00pm \n$16.00 includes admission\, skate rental\, and bounce house \nBring your family and friends for a fantastic time filled with laughter\, competition\, and memories. \nDon’t miss out on this thrilling start to the carnival season-come join the fun.
URL:https://www.unitedskates.com/wickliffe/event/spring-carnival-skate/
CATEGORIES:Family Events,Public Skates,Special Events
ATTACH;FMTTYPE=image/jpeg:https://unitedskates-assets.sfo3.digitaloceanspaces.com/wp-content/uploads/sites/12/2025/03/Spring-Carnival-Skate-25-page-001-scaled.jpg
END:VEVENT
BEGIN:VEVENT
DTSTART;TZID=America/New_York:20250517T123000
DTEND;TZID=America/New_York:20250517T150000
DTSTAMP:20260423T051452
CREATED:20250326T200955Z
LAST-MODIFIED:20250326T200956Z
UID:20035-1747485000-1747494000@www.unitedskates.com
SUMMARY:Pokémon Go Skate
DESCRIPTION:Calling all Pokémon fans! \nIt’s time to catch ’em all! \nJoin us at our designated Pokémon Go spot for an exciting day of Pokémon hunting and fun! \nSaturday\, May 17th 12:30pm-3:00pm \nAdmission $12.00 \nSkate Rental $6.00 \nBut that’s not all-get ready for a special bonus opportunity to meet a live Pokémon\, the one and only Pikachu!! \nDon’t miss this chance to snap a photo and make unforgettable memories with your favorite Pokémon. \nGrab your friends and family\, and let’s embark on this adventure together.
URL:https://www.unitedskates.com/wickliffe/event/pokemon-go-skate/
CATEGORIES:Family Events,Public Skates,Special Events
ATTACH;FMTTYPE=image/jpeg:https://unitedskates-assets.sfo3.digitaloceanspaces.com/wp-content/uploads/sites/12/2025/03/Pokemon-Go-Skate-2025-page-001-scaled.jpg
END:VEVENT
END:VCALENDAR