BEGIN:VCALENDAR
VERSION:2.0
PRODID:-//Rink 11 - Wickliffe - ECPv6.15.20//NONSGML v1.0//EN
CALSCALE:GREGORIAN
METHOD:PUBLISH
X-ORIGINAL-URL:https://www.unitedskates.com/wickliffe
X-WR-CALDESC:Events for Rink 11 - Wickliffe
REFRESH-INTERVAL;VALUE=DURATION:PT1H
X-Robots-Tag:noindex
X-PUBLISHED-TTL:PT1H
BEGIN:VTIMEZONE
TZID:America/New_York
BEGIN:DAYLIGHT
TZOFFSETFROM:-0500
TZOFFSETTO:-0400
TZNAME:EDT
DTSTART:20240310T070000
END:DAYLIGHT
BEGIN:STANDARD
TZOFFSETFROM:-0400
TZOFFSETTO:-0500
TZNAME:EST
DTSTART:20241103T060000
END:STANDARD
BEGIN:DAYLIGHT
TZOFFSETFROM:-0500
TZOFFSETTO:-0400
TZNAME:EDT
DTSTART:20250309T070000
END:DAYLIGHT
BEGIN:STANDARD
TZOFFSETFROM:-0400
TZOFFSETTO:-0500
TZNAME:EST
DTSTART:20251102T060000
END:STANDARD
BEGIN:DAYLIGHT
TZOFFSETFROM:-0500
TZOFFSETTO:-0400
TZNAME:EDT
DTSTART:20260308T070000
END:DAYLIGHT
BEGIN:STANDARD
TZOFFSETFROM:-0400
TZOFFSETTO:-0500
TZNAME:EST
DTSTART:20261101T060000
END:STANDARD
END:VTIMEZONE
BEGIN:VEVENT
DTSTART;TZID=America/New_York:20250427T123000
DTEND;TZID=America/New_York:20250427T150000
DTSTAMP:20260422T000706
CREATED:20250123T184616Z
LAST-MODIFIED:20250129T204459Z
UID:19328-1745757000-1745766000@www.unitedskates.com
SUMMARY:National Gummy Bear Day
DESCRIPTION:Happy National Gummy Bear Day! \nWe’re absolutely thrilled to celebrate this delightful occasion all day long! \nSunday\, April 27th 12:30pm-3:00pm\, 3:30pm-6:00pm and 6:30pm-9:00pm \nAdmission $12.00 \nSkate Rental $6.00 \nDo you share our love for gummy bears? \nJoin us for a sweet celebration where we’ll be giving away fantastic gummy prizes throughout the day\, including an enormous gummy bear that you won’t want to miss! \n 
URL:https://www.unitedskates.com/wickliffe/event/national-gummy-bear-day/2025-04-27/
CATEGORIES:Family Events,Public Skates,Special Events
ATTACH;FMTTYPE=image/jpeg:https://unitedskates-assets.sfo3.digitaloceanspaces.com/wp-content/uploads/sites/12/2025/01/National-Gummi-Bear-Day-Skate-page-001-scaled.jpg
END:VEVENT
BEGIN:VEVENT
DTSTART;TZID=America/New_York:20250502T183000
DTEND;TZID=America/New_York:20250502T210000
DTSTAMP:20260422T000706
CREATED:20250326T143820Z
LAST-MODIFIED:20250326T145504Z
UID:20001-1746210600-1746219600@www.unitedskates.com
SUMMARY:Mega Neon Glow Skate
DESCRIPTION:Get ready to shine at our Mega Neon Glow Skate! \nDress in your brightest neon or all-white outfits and glow under the lights \nFriday\, May 2nd 6:30pm-9:00pm \nAdmission $12.00 \nSkate Rental $6.00 \nBonus: Score a FREE pacifier or mouthpiece with your paid admission! \nDon’t miss out-let’s light up the skate floor!
URL:https://www.unitedskates.com/wickliffe/event/mega-neon-glow-skate/
CATEGORIES:Family Events,Public Skates,Special Events
ATTACH;FMTTYPE=image/jpeg:https://unitedskates-assets.sfo3.digitaloceanspaces.com/wp-content/uploads/sites/12/2025/03/mega-neon-glow-may-page-001-1-scaled.jpg
END:VEVENT
BEGIN:VEVENT
DTSTART;TZID=America/New_York:20250502T213000
DTEND;TZID=America/New_York:20250503T003000
DTSTAMP:20260422T000706
CREATED:20250326T151721Z
LAST-MODIFIED:20250326T151722Z
UID:20005-1746221400-1746232200@www.unitedskates.com
SUMMARY:Pop Punk Adult Skate
DESCRIPTION:Get ready for our first-ever Pop Punk Skate! \nJoin us for an unforgettable night filled with the best hits from Green Day\, The Wonder Years\, Blink-182\, and many more! \nFriday\, May 2nd 9:30pm-12:30am \nAdmission $12.00 \nSkate Rental $6.00 \n18+ with valid ID \nBring your crew and let’s skate to the music that defined a generation.
URL:https://www.unitedskates.com/wickliffe/event/pop-punk-adult-skate/
CATEGORIES:Family Events,Public Skates,Special Events
ATTACH;FMTTYPE=image/jpeg:https://unitedskates-assets.sfo3.digitaloceanspaces.com/wp-content/uploads/sites/12/2025/03/Pop-Punk-Skate-2025-v3-page-001-scaled.jpg
END:VEVENT
BEGIN:VEVENT
DTSTART;TZID=America/New_York:20250503T123000
DTEND;TZID=America/New_York:20250503T150000
DTSTAMP:20260422T000706
CREATED:20250326T153717Z
LAST-MODIFIED:20250326T153717Z
UID:20008-1746275400-1746284400@www.unitedskates.com
SUMMARY:Superhero Day
DESCRIPTION:Attention all Comic and Superhero Fans!! \nIt’s national Comic Book Day and we are celebrating it with superheroes! \nThis exciting day is all about celebrating YOU! \nWe invite you to come dressed in your most beloved superhero outfits\, showcasing your unique style and creativity. \nSaturday\, May 3rd 12:30pm-3:00pm \nAdmission $12.00 \nSkate Rental $6.00 \nThroughout the session\, we’ll have a variety of superhero-themed giveaways that will keep the excitement going strong! \nDon’t miss this incredible opportunity to join in the fun and camaraderie with fellow heroes as we unite to save the day. \nGreat idea for a birthday party! Book Now!
URL:https://www.unitedskates.com/wickliffe/event/superhero-day-2/
CATEGORIES:Family Events,Public Skates,Special Events
ATTACH;FMTTYPE=image/jpeg:https://unitedskates-assets.sfo3.digitaloceanspaces.com/wp-content/uploads/sites/12/2025/03/super-hero-day-skate-editable-page-001-scaled.jpg
END:VEVENT
END:VCALENDAR