BEGIN:VCALENDAR
VERSION:2.0
PRODID:-//Rink 11 - Wickliffe - ECPv6.15.20//NONSGML v1.0//EN
CALSCALE:GREGORIAN
METHOD:PUBLISH
X-ORIGINAL-URL:https://www.unitedskates.com/wickliffe
X-WR-CALDESC:Events for Rink 11 - Wickliffe
REFRESH-INTERVAL;VALUE=DURATION:PT1H
X-Robots-Tag:noindex
X-PUBLISHED-TTL:PT1H
BEGIN:VTIMEZONE
TZID:America/New_York
BEGIN:DAYLIGHT
TZOFFSETFROM:-0500
TZOFFSETTO:-0400
TZNAME:EDT
DTSTART:20240310T070000
END:DAYLIGHT
BEGIN:STANDARD
TZOFFSETFROM:-0400
TZOFFSETTO:-0500
TZNAME:EST
DTSTART:20241103T060000
END:STANDARD
BEGIN:DAYLIGHT
TZOFFSETFROM:-0500
TZOFFSETTO:-0400
TZNAME:EDT
DTSTART:20250309T070000
END:DAYLIGHT
BEGIN:STANDARD
TZOFFSETFROM:-0400
TZOFFSETTO:-0500
TZNAME:EST
DTSTART:20251102T060000
END:STANDARD
BEGIN:DAYLIGHT
TZOFFSETFROM:-0500
TZOFFSETTO:-0400
TZNAME:EDT
DTSTART:20260308T070000
END:DAYLIGHT
BEGIN:STANDARD
TZOFFSETFROM:-0400
TZOFFSETTO:-0500
TZNAME:EST
DTSTART:20261101T060000
END:STANDARD
END:VTIMEZONE
BEGIN:VEVENT
DTSTART;TZID=America/New_York:20250209T123000
DTEND;TZID=America/New_York:20250209T150000
DTSTAMP:20260425T181546
CREATED:20241219T185610Z
LAST-MODIFIED:20241220T225547Z
UID:19104-1739104200-1739113200@www.unitedskates.com
SUMMARY:Super Bowl Sunday
DESCRIPTION:It’s Super Bowl Sunday\, and the excitement is in the air! \nAre you ready to join the fun? \nCome dressed in your favorite team’s gear or represent the team you believe will take home the trophy! \nJoin us for an exhilarating day of skating while enjoying the game on the big screen! \nSunday\, February 9th 12:30pm-3:00pm\, 3:30pm-6:00pm and 6:30pm-9:00pm \nAdmission $12.00 Skate Rental $6.00 or get our Super Bowl Special only $20.00 includes admission\, skate rental\, a slice of cheese pizza\, a drink\, 1 game of laser tag and 20 game credits \nGather your friends and family\, and let’s make this Super Bowl Sunday an unforgettable celebration filled with cheers\, laughter\, and great memories. \n 
URL:https://www.unitedskates.com/wickliffe/event/super-bowl-sunday/2025-02-09/
CATEGORIES:Family Events,Public Skates,Special Events
ATTACH;FMTTYPE=image/jpeg:https://unitedskates-assets.sfo3.digitaloceanspaces.com/wp-content/uploads/sites/12/2024/12/superbowl-2025.jpg
END:VEVENT
BEGIN:VEVENT
DTSTART;VALUE=DATE:20250214
DTEND;VALUE=DATE:20250219
DTSTAMP:20260425T181546
CREATED:20250107T150230Z
LAST-MODIFIED:20250123T133443Z
UID:19172-1739509200-1739854799@www.unitedskates.com
SUMMARY:❤️🛼 Presidents Day Weekend 🛼❤️
DESCRIPTION:School’s Out—Let’s Skate This Presidents’ Day Weekend!\nCelebrate the long weekend with us at United Skates of Wickliffe! From exciting themed events and character appearances to family skating and glow fun\, there’s something for everyone to enjoy. Bring your friends and family for an action-packed holiday weekend on wheels! \nWeekend Event Highlights:\nFriday\, February 14: Valentine’s Day Fun! \n\nValentine’s Day Skate: 4:30 PM – 6:30 PM ($6.00 Admission).\nGrinch Stole Valentine’s Day: 6:30 PM – 9:00 PM ($12 Admission).\nRed Light Special Adult Skate (18+ with valid ID): 9:30 PM – 12:30 AM ($12 Admission).\n\nA special Valentine’s edition skate just for adults!\n\n\n\nSaturday\, February 15: Family Fun All Day! \n\nSno Cone Skate: 10:30 AM – 12:30 PM ($10 Admission).\nDucky Day Skate: 12:30 PM – 3:00 PM ($12 Admission).\nFamily Skate Sessions:\n\n4:00 PM – 6:30 PM and 6:30 PM – 9:00 PM ($12 Admission per session).\n\n\nSaturday Night Skate: 7:00 PM – 10:30 PM ($13 Admission).\n\nSunday\, February 16: Meet SpongeBob and More! \n\nPopsicles with SpongeBob: 12:30 PM – 3:00 PM ($12 Admission).\nFamily Skate Sessions:\n\n3:30 PM – 6:00 PM and 6:30 PM – 9:00 PM ($12 Admission per session).\n\n\nAdult Late-Night Skate (18+ with valid ID): 9:30 PM – 2:30 AM ($13 Admission).\n\nMonday\, February 17: Presidents’ Day Skating Fun! \n\nEarly Bird Skate: 10:00 AM – 12:00 PM ($8.00 Admission).\nSpiderman Skate: 12:30 PM – 3:00 PM ($12 Admission).\nPresidents’ Day Skate: 3:30 PM – 6:00 PM ($12 Admission).\nOld School Adult Skate (25+ with valid ID): 7:00 PM – 11:00 PM ($12 Admission).\n\nAffordable Family Fun:\n\nSkate Rentals: $6.00 additional.\nSkate Mate Rentals: $5.00 additional.\n\n📍 Visit us at 30325 Palisades Pkwy\, Wickliffe\, OH 44092.\n📞 Call 440-944-5301 or visit www.UnitedSkates.com/Wickliffe for more details. \nDon’t miss out on this Presidents’ Day Weekend filled with skating fun\, games\, and family-friendly activities. See you at the rink! \nCLICK HERE view special Presidents Day Weekend Schedule
URL:https://www.unitedskates.com/wickliffe/event/%e2%9d%a4%ef%b8%8f%f0%9f%9b%bc-presidents-day-weekend-%f0%9f%9b%bc%e2%9d%a4%ef%b8%8f/
CATEGORIES:Adult Events,Family Events,Public Skates,Special Events
ATTACH;FMTTYPE=image/jpeg:https://unitedskates-assets.sfo3.digitaloceanspaces.com/wp-content/uploads/sites/12/2025/01/Pres-day-weekend-2025-calendar-Front-rink11.jpg
END:VEVENT
BEGIN:VEVENT
DTSTART;TZID=America/New_York:20250214T183000
DTEND;TZID=America/New_York:20250214T210000
DTSTAMP:20260425T181546
CREATED:20241219T190852Z
LAST-MODIFIED:20241219T210540Z
UID:19110-1739557800-1739566800@www.unitedskates.com
SUMMARY:The Grinch Steals Valentine's Day
DESCRIPTION:Oh no! The Grinch is back\, and this time he’s got his sights on stealing Valentine’s Day! \nJoin us in a whimsical adventure as we try to outsmart the mischievous Grinch and save the day! \nFriday\, February 14th 6:30pm-9:00pm \nAdmission $12.00 \nSkate Rental $6.00 \nGet ready for fun activities\, heartwarming moments\, and a chance to spread love and kindness. \nLet’s all come together to show that love conquers all\, even the antics of the Grinch. \nTo help take back the day we can gift the Grinch our favorite balloon animals! A balloon artist will be here from 7:00pm-8:30pm \nTo help make The Grinch’s heart BIGGER wear your favorite Grinch gear!
URL:https://www.unitedskates.com/wickliffe/event/the-grinch-steals-valentines-day/
CATEGORIES:Family Events,Public Skates,Special Events
ATTACH;FMTTYPE=image/jpeg:https://unitedskates-assets.sfo3.digitaloceanspaces.com/wp-content/uploads/sites/12/2024/12/grinch-steals-valentines-day-2025-page-001-1-scaled.jpg
END:VEVENT
BEGIN:VEVENT
DTSTART;TZID=America/New_York:20250215T103000
DTEND;TZID=America/New_York:20250215T123000
DTSTAMP:20260425T181546
CREATED:20241219T181243Z
LAST-MODIFIED:20241219T182004Z
UID:19075-1739615400-1739622600@www.unitedskates.com
SUMMARY:Sno Cone Skate
DESCRIPTION:Kick off your Saturday morning with a delightful treat and some roller-skating fun! \nIt’s FREE Sno Cone Day! \nGlid on over and enjoy a delicious sno cone with your paid admission. \nSaturday\, February 15th 10:30am-12:30pm \nAdmission $10.00 \nSkate Rental $6.00 \nThis is the perfect way to start your weekend on a sweet note. \n 
URL:https://www.unitedskates.com/wickliffe/event/sno-cone-skate-12/
CATEGORIES:Family Events,Public Skates,Special Events
ATTACH;FMTTYPE=image/jpeg:https://unitedskates-assets.sfo3.digitaloceanspaces.com/wp-content/uploads/sites/12/2023/10/sno-cone-tile.jpg
END:VEVENT
BEGIN:VEVENT
DTSTART;TZID=America/New_York:20250215T123000
DTEND;TZID=America/New_York:20250215T150000
DTSTAMP:20260425T181546
CREATED:20241219T192655Z
LAST-MODIFIED:20241219T214947Z
UID:19114-1739622600-1739631600@www.unitedskates.com
SUMMARY:Ducky Day
DESCRIPTION:Do you love rubber duckies? \nWell\, guess what? We’re having a Ducky Day! \nThis is your chance to get your very own rubber duck and enter for a chance to win some quacky prizes! \nSaturday\, February 15th 12:30pm-3:00pm \nAdmission $12.00 \nSkate Rental $6.00 \nJoin us for a fun-filled afternoon of games\, activities\, and all things rubber ducky. \nBring your friends and families for an afternoon filled with laughter! \n 
URL:https://www.unitedskates.com/wickliffe/event/ducky-day/
CATEGORIES:Family Events,Public Skates,Special Events
ATTACH;FMTTYPE=image/jpeg:https://unitedskates-assets.sfo3.digitaloceanspaces.com/wp-content/uploads/sites/12/2024/12/Ducky-Day-Skate-2025-page-001-scaled.jpg
END:VEVENT
END:VCALENDAR