BEGIN:VCALENDAR
VERSION:2.0
PRODID:-//Rink 11 - Wickliffe - ECPv6.15.20//NONSGML v1.0//EN
CALSCALE:GREGORIAN
METHOD:PUBLISH
X-WR-CALNAME:Rink 11 - Wickliffe
X-ORIGINAL-URL:https://www.unitedskates.com/wickliffe
X-WR-CALDESC:Events for Rink 11 - Wickliffe
REFRESH-INTERVAL;VALUE=DURATION:PT1H
X-Robots-Tag:noindex
X-PUBLISHED-TTL:PT1H
BEGIN:VTIMEZONE
TZID:America/New_York
BEGIN:DAYLIGHT
TZOFFSETFROM:-0500
TZOFFSETTO:-0400
TZNAME:EDT
DTSTART:20240310T070000
END:DAYLIGHT
BEGIN:STANDARD
TZOFFSETFROM:-0400
TZOFFSETTO:-0500
TZNAME:EST
DTSTART:20241103T060000
END:STANDARD
BEGIN:DAYLIGHT
TZOFFSETFROM:-0500
TZOFFSETTO:-0400
TZNAME:EDT
DTSTART:20250309T070000
END:DAYLIGHT
BEGIN:STANDARD
TZOFFSETFROM:-0400
TZOFFSETTO:-0500
TZNAME:EST
DTSTART:20251102T060000
END:STANDARD
BEGIN:DAYLIGHT
TZOFFSETFROM:-0500
TZOFFSETTO:-0400
TZNAME:EDT
DTSTART:20260308T070000
END:DAYLIGHT
BEGIN:STANDARD
TZOFFSETFROM:-0400
TZOFFSETTO:-0500
TZNAME:EST
DTSTART:20261101T060000
END:STANDARD
END:VTIMEZONE
BEGIN:VEVENT
DTSTART;TZID=America/New_York:20250112T123000
DTEND;TZID=America/New_York:20250112T150000
DTSTAMP:20260425T155210
CREATED:20241129T212528Z
LAST-MODIFIED:20250120T222429Z
UID:18934-1736685000-1736694000@www.unitedskates.com
SUMMARY:Neon Glow Skate
DESCRIPTION:Are you prepared for an electrifying Sunday Funday? \nJoin us for a Neon Glow Skate that promises to light up your day! \nWe’re super excited\, and we want to see you shine! \nSunday\, January 12th and Sunday\, January 26th 12:30pm-3:00pm \nAdmission $12.00 \nSkate Rental $6.00 \nFree glowstick with paid admission \nCome dressed in your best all-white attire or your brightest\, most vibrant outfits to really stand out on the rink. \nLet’s make this a colorful and unforgettable experience together.
URL:https://www.unitedskates.com/wickliffe/event/neon-glow-skate/2025-01-12/
CATEGORIES:Family Events,Public Skates,Special Events
ATTACH;FMTTYPE=image/jpeg:https://unitedskates-assets.sfo3.digitaloceanspaces.com/wp-content/uploads/sites/12/2024/11/Neon-GLOW-skate-2024-page-001-2-scaled.jpg
END:VEVENT
BEGIN:VEVENT
DTSTART;TZID=America/New_York:20250118T123000
DTEND;TZID=America/New_York:20250118T150000
DTSTAMP:20260425T155210
CREATED:20241129T213131Z
LAST-MODIFIED:20241202T204143Z
UID:18937-1737203400-1737212400@www.unitedskates.com
SUMMARY:Buzz Lightyear Skate
DESCRIPTION:To infinity and beyond! \nWe’re thrilled to announce that Buzz Lightyear is making is grand appearance at United Skates! \nJoin us for an out-of-this-world experience where you can meet the legendary Space Ranger himself! \nSaturday\, January 18th 12:30pm-3:00pm \nAdmission $12.00 \nSkate Rental $6.00 \nWhether you’re a fan of adventure or just looking for a fun time\, this is an event you want to miss. \nGet ready for an incredible day filled with excitement and cosmic fun! \nDon’t forget to bring your friends along for this stellar occasion. \nPs. A great birthday theme idea! Have your toy story themed party and have Buzz Lightyear come!
URL:https://www.unitedskates.com/wickliffe/event/buzz-lightyear-skate/
CATEGORIES:Family Events,Public Skates,Special Events
ATTACH;FMTTYPE=image/jpeg:https://unitedskates-assets.sfo3.digitaloceanspaces.com/wp-content/uploads/sites/12/2024/11/editable-buzz-lightyear-skate-2023-1-page-001-scaled.jpg
END:VEVENT
END:VCALENDAR