BEGIN:VCALENDAR
VERSION:2.0
PRODID:-//Rink 11 - Wickliffe - ECPv6.15.20//NONSGML v1.0//EN
CALSCALE:GREGORIAN
METHOD:PUBLISH
X-ORIGINAL-URL:https://www.unitedskates.com/wickliffe
X-WR-CALDESC:Events for Rink 11 - Wickliffe
REFRESH-INTERVAL;VALUE=DURATION:PT1H
X-Robots-Tag:noindex
X-PUBLISHED-TTL:PT1H
BEGIN:VTIMEZONE
TZID:America/New_York
BEGIN:DAYLIGHT
TZOFFSETFROM:-0500
TZOFFSETTO:-0400
TZNAME:EDT
DTSTART:20230312T070000
END:DAYLIGHT
BEGIN:STANDARD
TZOFFSETFROM:-0400
TZOFFSETTO:-0500
TZNAME:EST
DTSTART:20231105T060000
END:STANDARD
BEGIN:DAYLIGHT
TZOFFSETFROM:-0500
TZOFFSETTO:-0400
TZNAME:EDT
DTSTART:20240310T070000
END:DAYLIGHT
BEGIN:STANDARD
TZOFFSETFROM:-0400
TZOFFSETTO:-0500
TZNAME:EST
DTSTART:20241103T060000
END:STANDARD
BEGIN:DAYLIGHT
TZOFFSETFROM:-0500
TZOFFSETTO:-0400
TZNAME:EDT
DTSTART:20250309T070000
END:DAYLIGHT
BEGIN:STANDARD
TZOFFSETFROM:-0400
TZOFFSETTO:-0500
TZNAME:EST
DTSTART:20251102T060000
END:STANDARD
END:VTIMEZONE
BEGIN:VEVENT
DTSTART;TZID=America/New_York:20241208T123000
DTEND;TZID=America/New_York:20241208T150000
DTSTAMP:20260425T234426
CREATED:20241009T195910Z
LAST-MODIFIED:20241017T190434Z
UID:18185-1733661000-1733670000@www.unitedskates.com
SUMMARY:Skate with Santa
DESCRIPTION:Lace up your skates and get ready for a one-of-a-kind holiday adventure! \nRoll with the legendary Santa Claus! \nSunday\, December 8th 12:30pm-3:00pm \nAdmission $12.00 \nSkate Rental $5.50 \nYou get to experience the joy of the season as you skate to festive music! Enjoy some fun activities and games! \nDon’t forget to get your picture with Santa Claus!! He will be here from 1:15pm-2:45pm \nDon’t forget to snag Santa’s Glow bag for only $5.00
URL:https://www.unitedskates.com/wickliffe/event/skate-with-santa-2/
CATEGORIES:Family Events,Public Skates,Special Events
ATTACH;FMTTYPE=image/jpeg:https://unitedskates-assets.sfo3.digitaloceanspaces.com/wp-content/uploads/sites/12/2024/10/Skate-With-Santa-2024-page-001-scaled.jpg
END:VEVENT
BEGIN:VEVENT
DTSTART;TZID=America/New_York:20241213T163000
DTEND;TZID=America/New_York:20241213T183000
DTSTAMP:20260425T234426
CREATED:20241022T210750Z
LAST-MODIFIED:20250401T170306Z
UID:18552-1734107400-1734114600@www.unitedskates.com
SUMMARY:$6.00 Fridays
DESCRIPTION:We’ve got all the after-school fun you need! \nKick off your weekend on the right skate! \nJoin us for an afternoon of music\, games and non-stop skating action! \nEvery Friday from 4:30pm-6:30pm \nAdmission only $6.00 \nSkate Rental $6.00 \nWhether you’re a seasoned pro or just starting out\, this is perfect for everyone! \nDon’t miss out on all the FUN! \nPs. Want to stay and skate for our 6:30pm-9:00pm only a $6.00 stay over fee!
URL:https://www.unitedskates.com/wickliffe/event/6-00-fridays/2024-12-13/
CATEGORIES:Family Events,Public Skates
ATTACH;FMTTYPE=image/jpeg:https://unitedskates-assets.sfo3.digitaloceanspaces.com/wp-content/uploads/sites/12/2024/10/6-Dollar-Fridays-2024-back-page-001-scaled.jpg
END:VEVENT
BEGIN:VEVENT
DTSTART;TZID=America/New_York:20241213T183000
DTEND;TZID=America/New_York:20241213T210000
DTSTAMP:20260425T234426
CREATED:20241009T135331Z
LAST-MODIFIED:20241017T190932Z
UID:18111-1734114600-1734123600@www.unitedskates.com
SUMMARY:Jack's Nightmare before Christmas
DESCRIPTION:Jack Skellington has returned\, and this time he has his sights on Christmas! \nThe Pumpkin King is determined to take over the holiday season for himself\, and it’s shaping up to be quite the spectacular NIGHTMARE before Christmas! \nHe is planning to take it over on Friday\, December 13th from 6:30pm-9:00pm \nAdmission $12.00 \nSkate Rental $5.50 \nRoll with us while we skate into a whimsical tale filled with enchanting twists and turns\, where Christmas might be turned into Halloween in a spooktacular way. \nGet ready for a celebration that will capture your nightmares and might make Jack’s Nightmare come true! \nMeet Sally Skellington from 7:00pm-8:00pm \nPs. A great theme idea for a birthday party! Book Now! \n 
URL:https://www.unitedskates.com/wickliffe/event/jacks-nightmare-before-christmas/
CATEGORIES:Family Events,Public Skates,Special Events
ATTACH;FMTTYPE=image/jpeg:https://unitedskates-assets.sfo3.digitaloceanspaces.com/wp-content/uploads/sites/12/2024/10/Jacks-Christmas-Nightmare-Friday-13th-page-001-scaled.jpg
END:VEVENT
BEGIN:VEVENT
DTSTART;TZID=America/New_York:20241214T123000
DTEND;TZID=America/New_York:20241214T150000
DTSTAMP:20260425T234426
CREATED:20241009T145005Z
LAST-MODIFIED:20241017T191846Z
UID:18183-1734179400-1734188400@www.unitedskates.com
SUMMARY:Glow in the Dark Grinch Skate
DESCRIPTION:Hold on to your holiday spirit! \nThe Grinch is up to his mischievous ways once again\, and this time he is flipping the script on the season…. \nHe is turning it into a spectacular glow-in-the-dark party! \nSaturday\, December 14th 12:30pm-3:00pm \nAdmission $12.00 \nSkate Rental $5.50 \nFree glow stick with paid admission \nHe has gathered all the lights and transformed them into an enchanting display that will illuminate the skating rink. \nPrepare yourselves for a festive celebration filled with vibrant colors and joyful energy\, unlike anything you’ve ever experienced! \nBook your Grinch loving child’s birthday party!! Book Now!
URL:https://www.unitedskates.com/wickliffe/event/glow-in-the-dark-grinch-skate/
CATEGORIES:Family Events,Public Skates,Special Events
ATTACH;FMTTYPE=image/jpeg:https://unitedskates-assets.sfo3.digitaloceanspaces.com/wp-content/uploads/sites/12/2024/10/Glow-In-the-Dark-Holiday-Party-2024-page-001-scaled.jpg
END:VEVENT
END:VCALENDAR