BEGIN:VCALENDAR
VERSION:2.0
PRODID:-//Rink 11 - Wickliffe - ECPv6.15.20//NONSGML v1.0//EN
CALSCALE:GREGORIAN
METHOD:PUBLISH
X-ORIGINAL-URL:https://www.unitedskates.com/wickliffe
X-WR-CALDESC:Events for Rink 11 - Wickliffe
REFRESH-INTERVAL;VALUE=DURATION:PT1H
X-Robots-Tag:noindex
X-PUBLISHED-TTL:PT1H
BEGIN:VTIMEZONE
TZID:America/New_York
BEGIN:DAYLIGHT
TZOFFSETFROM:-0500
TZOFFSETTO:-0400
TZNAME:EDT
DTSTART:20230312T070000
END:DAYLIGHT
BEGIN:STANDARD
TZOFFSETFROM:-0400
TZOFFSETTO:-0500
TZNAME:EST
DTSTART:20231105T060000
END:STANDARD
BEGIN:DAYLIGHT
TZOFFSETFROM:-0500
TZOFFSETTO:-0400
TZNAME:EDT
DTSTART:20240310T070000
END:DAYLIGHT
BEGIN:STANDARD
TZOFFSETFROM:-0400
TZOFFSETTO:-0500
TZNAME:EST
DTSTART:20241103T060000
END:STANDARD
BEGIN:DAYLIGHT
TZOFFSETFROM:-0500
TZOFFSETTO:-0400
TZNAME:EDT
DTSTART:20250309T070000
END:DAYLIGHT
BEGIN:STANDARD
TZOFFSETFROM:-0400
TZOFFSETTO:-0500
TZNAME:EST
DTSTART:20251102T060000
END:STANDARD
END:VTIMEZONE
BEGIN:VEVENT
DTSTART;TZID=America/New_York:20241103T123000
DTEND;TZID=America/New_York:20241103T150000
DTSTAMP:20260425T212318
CREATED:20241021T205153Z
LAST-MODIFIED:20241022T203536Z
UID:18541-1730637000-1730646000@www.unitedskates.com
SUMMARY:Cookie Crazy Skate
DESCRIPTION:Get ready to roll in style at the ultimate Cookie Crazy Skate Party! \nJoin us for an exhilarating evening filled with skating\, laughter\, and the chance to WIN delicious packs of your favorite cookies\, including classic Oreos\, crunchy Chips Ahoy\, and so much more! \nSunday\, November 3rd 12:30pm-3:00pm \nAdmission $12.00 \nSkate Rental $5.50 \nThis is an event you won’t want to miss\, so grab your friends and come celebrate with the sweetest night of the season! \nMark your calendars and prepare for a cookie-filled adventure!
URL:https://www.unitedskates.com/wickliffe/event/cookie-crazy-skate-2/
CATEGORIES:Family Events,Public Skates,Special Events
ATTACH;FMTTYPE=image/jpeg:https://unitedskates-assets.sfo3.digitaloceanspaces.com/wp-content/uploads/sites/12/2024/10/cookie-crazy-november-page-001-scaled.jpg
END:VEVENT
BEGIN:VEVENT
DTSTART;TZID=America/New_York:20241105T123000
DTEND;TZID=America/New_York:20241105T150000
DTSTAMP:20260425T212318
CREATED:20241001T204125Z
LAST-MODIFIED:20241001T204125Z
UID:17768-1730809800-1730818800@www.unitedskates.com
SUMMARY:Election Day Skate
DESCRIPTION:Happy Election Day! \nWith schools being closed for the day\, it’s the perfect opportunity to celebrate in style! \nThat’s right-it’s time to hit the skate rink! \nTuesday\, November 5th 12:30pm-3:00pm \nAdmission $10.00 \nSkate Rental $5.50 \nGather your friends\, lace up those skates\, and let’s enjoy this well-deserved break! \nGet ready for an awesome time on wheels! \nWe are now booking groups! Call us NOW to reserve 440-944-5301. \nPs. Wear red\, white and blue and get a $1.00 off your admission
URL:https://www.unitedskates.com/wickliffe/event/election-day-skate/
CATEGORIES:Family Events,Public Skates,Special Events
ATTACH;FMTTYPE=image/jpeg:https://unitedskates-assets.sfo3.digitaloceanspaces.com/wp-content/uploads/sites/12/2024/10/election-day-skate-2024-page-001-scaled.jpg
END:VEVENT
BEGIN:VEVENT
DTSTART;TZID=America/New_York:20241105T180000
DTEND;TZID=America/New_York:20241105T200000
DTSTAMP:20260425T212318
CREATED:20240829T195829Z
LAST-MODIFIED:20241031T144448Z
UID:17720-1730829600-1730836800@www.unitedskates.com
SUMMARY:Poppy's Friendsgiving
DESCRIPTION:We’re thrilled to announce that Poppy is hosting her Friendsgiving skate\, and it promises to be an incredible experience! \nCome join us for a festive evening brimming with positive energy\, cherished friendships\, and lots of skating excitement as we take time to celebrate gratitude and togetherness. \nTuesday\, November 5th 6:00pm-8:00pm \n$18.00 includes admission\, skate rental\, unlimited cheese pizza and drinks \n$10.00 non-skating adults includes unlimited cheese pizza and drinks \nPizza and drinks are served from 6:15pm-7:30pm \nThis is an event you won’t want to miss-let’s create lasting memories and enjoy a wonderful night filled with laughter and joy! \nDon’t forget your camera’s! Be ready to take pictures with Poppy and capture your memories! \nAttention Girl Scouts! We are taking reservations!! Receive your Friendsgiving patch\, make friendship bracelets and more! Call Amber today to reserve your troop 440-944-5301 \n 
URL:https://www.unitedskates.com/wickliffe/event/poppy-friendsgiving/
CATEGORIES:Family Events,Public Skates,Special Events
ATTACH;FMTTYPE=image/jpeg:https://unitedskates-assets.sfo3.digitaloceanspaces.com/wp-content/uploads/sites/12/2024/08/Friendsgiving-Troll-Skate-2024-editable-page-001-2-scaled.jpg
END:VEVENT
BEGIN:VEVENT
DTSTART;TZID=America/New_York:20241108T183000
DTEND;TZID=America/New_York:20241108T210000
DTSTAMP:20260425T212318
CREATED:20240724T185229Z
LAST-MODIFIED:20240730T154512Z
UID:17460-1731090600-1731099600@www.unitedskates.com
SUMMARY:Princess and the Frog Skate
DESCRIPTION:Get ready to embark on a magical journey where fairy tales meet the thrill of roller-skating! \nJoin Princess Tiana and her frog prince as they glide through the enchanted rink\, twirling and spinning on wheels of enchantment. \nFriday\, November 8th 6:30pm-9:00pm \nAdmission $13.00 \nSkate Rental $5.50 \nExperience the joy and wonder of the Princess and the Frog like never before\, as the princess finds her true love and discovers the joy of roller-skating. \nLet the music guide your moves as you skate all session long! \nDon’t miss out on this enchanting adventure that combines the magic of beloved fairy tale with the excitement of roller-skating. \nHelp us enchant our rink\, dress up as Princess Tiana or your favorite character from Princess and the Frog. \nParents\, this would be a great theme for a birthday party! Book Now! \nPrincess Tiana will be here from 7:00pm-8:00pm
URL:https://www.unitedskates.com/wickliffe/event/princess-and-the-frog-skate/
CATEGORIES:Family Events,Public Skates,Special Events
ATTACH;FMTTYPE=image/jpeg:https://unitedskates-assets.sfo3.digitaloceanspaces.com/wp-content/uploads/sites/12/2024/07/princess-tianna-skate-2024-page-001-scaled.jpg
END:VEVENT
BEGIN:VEVENT
DTSTART;TZID=America/New_York:20241109T103000
DTEND;TZID=America/New_York:20241109T123000
DTSTAMP:20260425T212318
CREATED:20241009T132108Z
LAST-MODIFIED:20241016T170123Z
UID:17790-1731148200-1731155400@www.unitedskates.com
SUMMARY:Canned Food Drive
DESCRIPTION:Lace up your roller skates and prepare to roll for a worthy cause! \nGrab your friends and families\, bring along your canned goods and join us on the rink! \nSaturday\, November 9th \n10:30am-12:30pm Admission $10.00 \n12:30pm-3:00pm Admission $12.00 \nSkate Rental for both sessions $5.50 \nLet’s skate together to support those in need. \nEach can you donate makes a difference\, so let’s make this a fun and impactful day! \nCome join us and skate for charity and spread love. \nBonus!! Receive $2.00 off your admission with a non-perishable item donation.
URL:https://www.unitedskates.com/wickliffe/event/canned-food-drive/2024-11-09/
CATEGORIES:Family Events,Public Skates,Special Events
ATTACH;FMTTYPE=image/jpeg:https://unitedskates-assets.sfo3.digitaloceanspaces.com/wp-content/uploads/sites/12/2024/10/canned-food-drive-November-page-001-scaled.jpg
END:VEVENT
END:VCALENDAR