BEGIN:VCALENDAR
VERSION:2.0
PRODID:-//Rink 11 - Wickliffe - ECPv6.15.20//NONSGML v1.0//EN
CALSCALE:GREGORIAN
METHOD:PUBLISH
X-ORIGINAL-URL:https://www.unitedskates.com/wickliffe
X-WR-CALDESC:Events for Rink 11 - Wickliffe
REFRESH-INTERVAL;VALUE=DURATION:PT1H
X-Robots-Tag:noindex
X-PUBLISHED-TTL:PT1H
BEGIN:VTIMEZONE
TZID:America/New_York
BEGIN:DAYLIGHT
TZOFFSETFROM:-0500
TZOFFSETTO:-0400
TZNAME:EDT
DTSTART:20230312T070000
END:DAYLIGHT
BEGIN:STANDARD
TZOFFSETFROM:-0400
TZOFFSETTO:-0500
TZNAME:EST
DTSTART:20231105T060000
END:STANDARD
BEGIN:DAYLIGHT
TZOFFSETFROM:-0500
TZOFFSETTO:-0400
TZNAME:EDT
DTSTART:20240310T070000
END:DAYLIGHT
BEGIN:STANDARD
TZOFFSETFROM:-0400
TZOFFSETTO:-0500
TZNAME:EST
DTSTART:20241103T060000
END:STANDARD
BEGIN:DAYLIGHT
TZOFFSETFROM:-0500
TZOFFSETTO:-0400
TZNAME:EDT
DTSTART:20250309T070000
END:DAYLIGHT
BEGIN:STANDARD
TZOFFSETFROM:-0400
TZOFFSETTO:-0500
TZNAME:EST
DTSTART:20251102T060000
END:STANDARD
END:VTIMEZONE
BEGIN:VEVENT
DTSTART;TZID=America/New_York:20241013T123000
DTEND;TZID=America/New_York:20241013T150000
DTSTAMP:20260425T234430
CREATED:20240724T181442Z
LAST-MODIFIED:20240726T171217Z
UID:17451-1728822600-1728831600@www.unitedskates.com
SUMMARY:Mummy Wrap Skate
DESCRIPTION:Unleash your inner mummy on wheels! \nHit the rink for a spooktacular roller-skating adventure. \nSunday\, October 13th 12:30pm-3:00pm \nAdmission $12.00 \nSkate Rental $5.50 \nGet ready to wrap your “mummies” as a mummy! We will have a Mummy Wrapping contest! \nThe fastest wrapper will WIN a Prize! \nGet ready to unravel the fun and unravel your fears! \nJoin us for a ghoulishly good time on the roller-skating floor\, where the “mummies” reign supreme. \nDress up as a Mummy!!
URL:https://www.unitedskates.com/wickliffe/event/mummy-wrap-skate/
CATEGORIES:Family Events,Public Skates,Special Events
ATTACH;FMTTYPE=image/jpeg:https://unitedskates-assets.sfo3.digitaloceanspaces.com/wp-content/uploads/sites/12/2024/07/mummy-wrap-skate-editable-1-page-001-scaled.jpg
END:VEVENT
BEGIN:VEVENT
DTSTART;TZID=America/New_York:20241013T183000
DTEND;TZID=America/New_York:20241013T210000
DTSTAMP:20260425T234430
CREATED:20240808T191554Z
LAST-MODIFIED:20240808T191555Z
UID:17627-1728844200-1728853200@www.unitedskates.com
SUMMARY:Skate with a Vampire
DESCRIPTION:Prepare for an unforgettable evening at our enchanting Vampire Roller Skate Party! \nJoin us for a thrilling night filled with exciting skating\, hauntingly good music\, and plenty of spooky fun. \nSunday\, October 13th 6:30pm-9:00pm \nAdmission $12.00 \nSkate Rental $5.50 \nDon’t forget to don your most creative vampire attire-there’s an enticing prize for the best-dressed ghoul! \nCome meet our charismatic vampire host and immerse yourself in a world of elegance and mystery. \nLet’s create some magical memories together under the neon lights.
URL:https://www.unitedskates.com/wickliffe/event/skate-with-a-vampire/
CATEGORIES:Family Events,Public Skates,Special Events
ATTACH;FMTTYPE=image/jpeg:https://unitedskates-assets.sfo3.digitaloceanspaces.com/wp-content/uploads/sites/12/2024/08/Skate-with-a-Vampire-Flyer-page-001-scaled.jpg
END:VEVENT
BEGIN:VEVENT
DTSTART;TZID=America/New_York:20241018T183000
DTEND;TZID=America/New_York:20241018T210000
DTSTAMP:20260425T234430
CREATED:20240724T173019Z
LAST-MODIFIED:20240726T172030Z
UID:17414-1729276200-1729285200@www.unitedskates.com
SUMMARY:Horror Villain Movie Cosplay Skate
DESCRIPTION:Get ready to skate into the dark side with some spine-chilling Horror Villain’s! \nWhether you’re a Freddy Krueger\, a Michael Myers\, or a Pennywise Fan\, it’s time to bring your favorite horror icons to life! \nFriday\, October 18th 6:30pm-9:00pm \nAdmission $12.00 \nSkate Rental $5.50 \nShow off your killer moves and scare the competition away from your terrifyingly awesome costume. \nDon’t forget your skates and a dash of horror movie magic! \nDress to Impress! There will be a Best Dressed Horror Villain Contest! \nGet a chance to win some Spooky Prizes! \nStudy up your Horror Films\, we will have Trivia!
URL:https://www.unitedskates.com/wickliffe/event/horror-villain-movie-cosplay-skate/
CATEGORIES:Family Events,Public Skates,Special Events
ATTACH;FMTTYPE=image/jpeg:https://unitedskates-assets.sfo3.digitaloceanspaces.com/wp-content/uploads/sites/12/2024/07/Horror-Movie-Villians-Skate-2024-page-001-scaled.jpg
END:VEVENT
BEGIN:VEVENT
DTSTART;TZID=America/New_York:20241019T123000
DTEND;TZID=America/New_York:20241019T150000
DTSTAMP:20260425T234430
CREATED:20240724T165805Z
LAST-MODIFIED:20240821T200959Z
UID:17405-1729341000-1729350000@www.unitedskates.com
SUMMARY:Lunch with Chucky
DESCRIPTION:Get ready for a cheesy and action-packed adventure with Chucky’s Pizza Roller-Skate! \nJoin Chucky\, the haunted mascot as he glides through the eerie rink. \nSaturday\, October 19th 12:30pm-3:00pm \nOnly $16.00 includes admission\, skate rental\, and a slice of cheese pizza \nPizza served from 1:00pm-2:30pm \nPrepare to be spooked by Chucky’s Impressive tactics. \nAre you brave enough to experience the thrill of Chucky’s Pizza Roller-Skate Party? \nStrap your skates on and let the frightful feast begin! \nYou might be lucky enough to get a picture\, so be ready! \n 
URL:https://www.unitedskates.com/wickliffe/event/lunch-with-chucky-3/
CATEGORIES:Family Events,Public Skates,Special Events
ATTACH;FMTTYPE=image/jpeg:https://unitedskates-assets.sfo3.digitaloceanspaces.com/wp-content/uploads/sites/12/2024/07/Chucky-Skate-2024-Lunch-page-001-scaled.jpg
END:VEVENT
END:VCALENDAR