BEGIN:VCALENDAR
VERSION:2.0
PRODID:-//Rink 11 - Wickliffe - ECPv6.15.20//NONSGML v1.0//EN
CALSCALE:GREGORIAN
METHOD:PUBLISH
X-ORIGINAL-URL:https://www.unitedskates.com/wickliffe
X-WR-CALDESC:Events for Rink 11 - Wickliffe
REFRESH-INTERVAL;VALUE=DURATION:PT1H
X-Robots-Tag:noindex
X-PUBLISHED-TTL:PT1H
BEGIN:VTIMEZONE
TZID:America/New_York
BEGIN:DAYLIGHT
TZOFFSETFROM:-0500
TZOFFSETTO:-0400
TZNAME:EDT
DTSTART:20230312T070000
END:DAYLIGHT
BEGIN:STANDARD
TZOFFSETFROM:-0400
TZOFFSETTO:-0500
TZNAME:EST
DTSTART:20231105T060000
END:STANDARD
BEGIN:DAYLIGHT
TZOFFSETFROM:-0500
TZOFFSETTO:-0400
TZNAME:EDT
DTSTART:20240310T070000
END:DAYLIGHT
BEGIN:STANDARD
TZOFFSETFROM:-0400
TZOFFSETTO:-0500
TZNAME:EST
DTSTART:20241103T060000
END:STANDARD
BEGIN:DAYLIGHT
TZOFFSETFROM:-0500
TZOFFSETTO:-0400
TZNAME:EDT
DTSTART:20250309T070000
END:DAYLIGHT
BEGIN:STANDARD
TZOFFSETFROM:-0400
TZOFFSETTO:-0500
TZNAME:EST
DTSTART:20251102T060000
END:STANDARD
END:VTIMEZONE
BEGIN:VEVENT
DTSTART;TZID=America/New_York:20240929T183000
DTEND;TZID=America/New_York:20240929T210000
DTSTAMP:20260425T234420
CREATED:20240724T162908Z
LAST-MODIFIED:20240725T202337Z
UID:17397-1727634600-1727643600@www.unitedskates.com
SUMMARY:Five Night at Freddie's Skate
DESCRIPTION:Get ready for a thrilling night at Freddie’s with a twist! \nFreddie is trading in his stage for a roller rink! \nSunday\, September 29th 6:30pm-9:00pm \nAdmission $12.00 \nSkate Rental $5.50 \nAre you brave enough to face the animatronic on wheels? \nStrap your skates and prepare for a night of terror and roller-skating fun! \nGet a chance to win Five Nights of Freddies Merch all session long! \nJoin our FNAF Scavenger Hunt! \nGet a chance to meet Freddy Fazbear\, he is here from 7:00pm-8:00pm. \n 
URL:https://www.unitedskates.com/wickliffe/event/five-night-at-freddies-skate/
CATEGORIES:Family Events,Public Skates,Special Events
ATTACH;FMTTYPE=image/jpeg:https://unitedskates-assets.sfo3.digitaloceanspaces.com/wp-content/uploads/sites/12/2024/07/5nights-Freddys-Skate-Poster-EDITABLE-page-001-2-1-scaled.jpg
END:VEVENT
BEGIN:VEVENT
DTSTART;TZID=America/New_York:20241004T163000
DTEND;TZID=America/New_York:20241004T183000
DTSTAMP:20260425T234420
CREATED:20240723T202141Z
LAST-MODIFIED:20241022T210352Z
UID:17229-1728059400-1728066600@www.unitedskates.com
SUMMARY:$6.00 Friday Skate
DESCRIPTION:We’ve got all the after-school fun you need! \nKick off your weekend on the right skate! \nJoin us for an afternoon of music\, games and non-stop skating action! \nEvery Friday from 4:30pm-6:30pm \nAdmission only $6.00 \nSkate Rental $5.50 \nWhether you’re a seasoned pro or just starting out\, this is perfect for everyone! \nDon’t miss out on all the FUN! \nPs. Want to stay and skate for our 6:30pm-9:00pm only a $6.00 stay over fee!
URL:https://www.unitedskates.com/wickliffe/event/6-00-friday-skate/2024-10-04/
CATEGORIES:Family Events,Public Skates
ATTACH;FMTTYPE=image/jpeg:https://unitedskates-assets.sfo3.digitaloceanspaces.com/wp-content/uploads/sites/12/2024/07/6-Dollar-Fridays-2024-back-page-001-scaled.jpg
END:VEVENT
BEGIN:VEVENT
DTSTART;TZID=America/New_York:20241004T183000
DTEND;TZID=America/New_York:20241004T210000
DTSTAMP:20260425T234420
CREATED:20240724T163706Z
LAST-MODIFIED:20240725T205727Z
UID:17399-1728066600-1728075600@www.unitedskates.com
SUMMARY:Zombie Skate
DESCRIPTION:Get ready for a thrilling roller-skating adventure in a post-apocalyptic world overrun by zombies! \nDo you dare to come roller-skating? \nFriday\, October 4th 6:30pm-9:00pm \nAdmission $12.00 \nSkate Rental $5.50 \nCan you out zombie our zombie? We will love to see you try! \nBest Dressed Zombie Contest will be happening\, get a chance to WIN Prizes! \nPlus\, we will have Spooky Giveaways ALL Session! \nLace up your skates and join the undead-skating revolution! \n 
URL:https://www.unitedskates.com/wickliffe/event/zombie-skate/
CATEGORIES:Family Events,Public Skates,Special Events
ATTACH;FMTTYPE=image/jpeg:https://unitedskates-assets.sfo3.digitaloceanspaces.com/wp-content/uploads/sites/12/2024/07/ZOMBIE-Roll-Skate-2024-V2-page-001-1-scaled.jpg
END:VEVENT
BEGIN:VEVENT
DTSTART;TZID=America/New_York:20241005T123000
DTEND;TZID=America/New_York:20241005T150000
DTSTAMP:20260425T234420
CREATED:20240724T164506Z
LAST-MODIFIED:20240726T161752Z
UID:17401-1728131400-1728140400@www.unitedskates.com
SUMMARY:Beetlejuice Skate
DESCRIPTION:Get ready to roll with the ghost with the most\, Beetlejuice! \nJoin this mischievous spirit as he takes to the roller rink\, causing chaos and hilarity at every turn. \nSaturday\, October 5th 12:30pm-3:00pm \nAdmission $12.00 \nSkate Rental $5.50 \nAre you ready to skate with the ghostly king of the rink? \nGet your roller skates on and let the Beetlejuice roller disco begin! \nWe want to see your Beetlejuice come alive!! Dress as your favorite character or the Ghostly King Himself! \nMake sure to dress to impress\, we will have a best dressed contest!
URL:https://www.unitedskates.com/wickliffe/event/beetlejuice-skate/
CATEGORIES:Family Events,Public Skates,Special Events
ATTACH;FMTTYPE=image/jpeg:https://unitedskates-assets.sfo3.digitaloceanspaces.com/wp-content/uploads/sites/12/2024/07/Beetlejuice-1-page-001-scaled.jpg
END:VEVENT
END:VCALENDAR