BEGIN:VCALENDAR
VERSION:2.0
PRODID:-//Rink 11 - Wickliffe - ECPv6.15.20//NONSGML v1.0//EN
CALSCALE:GREGORIAN
METHOD:PUBLISH
X-ORIGINAL-URL:https://www.unitedskates.com/wickliffe
X-WR-CALDESC:Events for Rink 11 - Wickliffe
REFRESH-INTERVAL;VALUE=DURATION:PT1H
X-Robots-Tag:noindex
X-PUBLISHED-TTL:PT1H
BEGIN:VTIMEZONE
TZID:America/New_York
BEGIN:DAYLIGHT
TZOFFSETFROM:-0500
TZOFFSETTO:-0400
TZNAME:EDT
DTSTART:20250309T070000
END:DAYLIGHT
BEGIN:STANDARD
TZOFFSETFROM:-0400
TZOFFSETTO:-0500
TZNAME:EST
DTSTART:20251102T060000
END:STANDARD
BEGIN:DAYLIGHT
TZOFFSETFROM:-0500
TZOFFSETTO:-0400
TZNAME:EDT
DTSTART:20260308T070000
END:DAYLIGHT
BEGIN:STANDARD
TZOFFSETFROM:-0400
TZOFFSETTO:-0500
TZNAME:EST
DTSTART:20261101T060000
END:STANDARD
BEGIN:DAYLIGHT
TZOFFSETFROM:-0500
TZOFFSETTO:-0400
TZNAME:EDT
DTSTART:20270314T070000
END:DAYLIGHT
BEGIN:STANDARD
TZOFFSETFROM:-0400
TZOFFSETTO:-0500
TZNAME:EST
DTSTART:20271107T060000
END:STANDARD
END:VTIMEZONE
BEGIN:VEVENT
DTSTART;TZID=America/New_York:20260508T180000
DTEND;TZID=America/New_York:20260508T203000
DTSTAMP:20260419T235821
CREATED:20260401T181953Z
LAST-MODIFIED:20260401T203743Z
UID:24033-1778263200-1778272200@www.unitedskates.com
SUMMARY:Strawberry Shortcake Skate
DESCRIPTION:🍓 Calling All Strawberry Shortcake Fans! 🍓 \nGet ready for a sweet night of fun as we celebrate everything Strawberry Shortcake! Join us for a themed skate night filled with music\, games\, and berry sweet vibes the whole family will love 🛼✨ \nCome dressed in your BEST Strawberry Shortcake-inspired outfit—whether it’s classic\, creative\, or totally unique! 🍰🍓 The best dressed of the night will win a special prize\, so don’t hold back! \n🎉 Enjoy Strawberry Shortcake-themed prizes and surprises all night long\, making this a can’t-miss event for fans of all ages! \n📅 Friday\, May 8th\n⏰ 6:00pm-8:30pm \n🎟️ Admission: $12 Online | $14 At the Door\n🛼 Skate Rental: $6.00 \nSpecial appearance from Strawberry Shortcake from 6:45pm-7:45pm \n🎂 Planning a birthday celebration? Make it extra sweet—book your party with us today! Book Now! \n🚨 Don’t wait—grab your tickets now and join us for a berry fun night! Buy Now!
URL:https://www.unitedskates.com/wickliffe/event/strawberry-shortcake-skate/
CATEGORIES:Family Events,Public Skates,Special Events
ATTACH;FMTTYPE=image/png:https://unitedskates-assets.sfo3.digitaloceanspaces.com/wp-content/uploads/sites/12/2026/04/Strawberry-Shortcake-Skate.png
END:VEVENT
END:VCALENDAR