BEGIN:VCALENDAR
VERSION:2.0
PRODID:-//Rink 11 - Wickliffe - ECPv6.15.20//NONSGML v1.0//EN
CALSCALE:GREGORIAN
METHOD:PUBLISH
X-ORIGINAL-URL:https://www.unitedskates.com/wickliffe
X-WR-CALDESC:Events for Rink 11 - Wickliffe
REFRESH-INTERVAL;VALUE=DURATION:PT1H
X-Robots-Tag:noindex
X-PUBLISHED-TTL:PT1H
BEGIN:VTIMEZONE
TZID:America/New_York
BEGIN:DAYLIGHT
TZOFFSETFROM:-0500
TZOFFSETTO:-0400
TZNAME:EDT
DTSTART:20250309T070000
END:DAYLIGHT
BEGIN:STANDARD
TZOFFSETFROM:-0400
TZOFFSETTO:-0500
TZNAME:EST
DTSTART:20251102T060000
END:STANDARD
BEGIN:DAYLIGHT
TZOFFSETFROM:-0500
TZOFFSETTO:-0400
TZNAME:EDT
DTSTART:20260308T070000
END:DAYLIGHT
BEGIN:STANDARD
TZOFFSETFROM:-0400
TZOFFSETTO:-0500
TZNAME:EST
DTSTART:20261101T060000
END:STANDARD
BEGIN:DAYLIGHT
TZOFFSETFROM:-0500
TZOFFSETTO:-0400
TZNAME:EDT
DTSTART:20270314T070000
END:DAYLIGHT
BEGIN:STANDARD
TZOFFSETFROM:-0400
TZOFFSETTO:-0500
TZNAME:EST
DTSTART:20271107T060000
END:STANDARD
END:VTIMEZONE
BEGIN:VEVENT
DTSTART;TZID=America/New_York:20260318T120000
DTEND;TZID=America/New_York:20260405T190000
DTSTAMP:20260419T174739
CREATED:20260305T124312Z
LAST-MODIFIED:20260305T124312Z
UID:24000-1773835200-1775415600@www.unitedskates.com
SUMMARY:Spring Break Skate Schedule | March 18 – April 5
DESCRIPTION:Spring Break fun is rolling into United Skates Wickliffe! Join us for exciting skating sessions\, themed events\, glow skates\, family skate times\, and special activities happening throughout the break. It’s the perfect place for kids and families to stay active and make great memories while school is out—check the full schedule and plan your visit today! 🛼✨
URL:https://www.unitedskates.com/wickliffe/event/spring-break-skate-schedule-march-18-april-5/
CATEGORIES:Adult Events,Family Events,Public Skates,Special Events
ATTACH;FMTTYPE=image/jpeg:https://unitedskates-assets.sfo3.digitaloceanspaces.com/wp-content/uploads/sites/12/2026/02/11-Spring-Break-2026-front.jpg
END:VEVENT
BEGIN:VEVENT
DTSTART;TZID=America/New_York:20260327T100000
DTEND;TZID=America/New_York:20260327T123000
DTSTAMP:20260419T174739
CREATED:20260201T221228Z
LAST-MODIFIED:20260204T140844Z
UID:23764-1774605600-1774614600@www.unitedskates.com
SUMMARY:Bounce House Skate
DESCRIPTION:🎉🛼🏰 LET’S BOUNCE MORNING 🏰🛼🎉 \nThat’s right — the bounce house is here ALL MORNING! Skate\, bounce\, and play with friends for an unforgettable Spring Break adventure. \n📅 Friday\, March 27th⏰ Morning Session: 10:00am–12:30pm — Admission $11.00🛼 Skate Rental: $6.00 \n🎟️ Now taking bookings for daycares\, school groups\, and more! \n📞 Call Amber today at 440-944-5301 to reserve your spot.🎂 Birthday parties available — book now and let the fun begin! Book Here! \n🌟 Skate\, bounce\, and make your day epic from start to finish! 🎉🛼
URL:https://www.unitedskates.com/wickliffe/event/bounce-house-skate-3/
CATEGORIES:Family Events,Public Skates,Special Events
ATTACH;FMTTYPE=image/jpeg:https://unitedskates-assets.sfo3.digitaloceanspaces.com/wp-content/uploads/sites/12/2024/03/bounce-house-skate.jpg
END:VEVENT
BEGIN:VEVENT
DTSTART;TZID=America/New_York:20260327T123000
DTEND;TZID=America/New_York:20260327T150000
DTSTAMP:20260419T174739
CREATED:20260204T141013Z
LAST-MODIFIED:20260204T141030Z
UID:23849-1774614600-1774623600@www.unitedskates.com
SUMMARY:Bounce House Skate
DESCRIPTION:🎉🛼🏰 LET’S BOUNCE ALL AFTERNOON! 🏰🛼🎉 \nThat’s right — the bounce house is here ALL AFTERNOON LONG! Skate\, bounce\, and play with friends for an unforgettable Spring Break adventure. \n📅 Friday\, March 27th⏰ Afternoon Session: 12:30pm–3:00pm — Admission $12.00 online / $13.00 at the door Buy Tickets Here🛼 Skate Rental: $6.00 \n🎟️ Now taking bookings for daycares\, school groups\, and more! \n📞 Call Amber today at 440-944-5301 to reserve your spot.🎂 Birthday parties available — book now and let the fun begin! Book Here! \n🌟 Skate\, bounce\, and make your day epic from start to finish! 🎉🛼
URL:https://www.unitedskates.com/wickliffe/event/23849/
CATEGORIES:Family Events,Public Skates,Special Events
ATTACH;FMTTYPE=image/jpeg:https://unitedskates-assets.sfo3.digitaloceanspaces.com/wp-content/uploads/sites/12/2024/03/bounce-house-skate.jpg
END:VEVENT
BEGIN:VEVENT
DTSTART;TZID=America/New_York:20260327T160000
DTEND;TZID=America/New_York:20260327T180000
DTSTAMP:20260419T174739
CREATED:20250805T184906Z
LAST-MODIFIED:20260216T200236Z
UID:22783-1774627200-1774634400@www.unitedskates.com
SUMMARY:$8.00 Fridays
DESCRIPTION:🎉 Kick Off Your Weekend Right! 🎉$8.00 Fridays Are Here! 🛼💥 \nWhy wait for the weekend to get exciting? Start the fun early with $8.00 admission every Friday!Skate\, vibe\, and make memories without breaking the bank. \nEvery Friday 4:00pm-6:00pm \n✨ Great music🎯 Fun games🍕 Delicious snacks🛼 Non-stop skating action! \nGrab your friends and roll into the weekend the fun way! \n🎟️ Just $8.00 Admission (Skate rental extra if needed) \nAt the Door Bonus! Get in for the 4pm-6pm and 6pm-8:30pm for only $15.00!! (skate rental extra)
URL:https://www.unitedskates.com/wickliffe/event/8-00-fridays/2026-03-27/
CATEGORIES:Family Events,Public Skates
ATTACH;FMTTYPE=image/jpeg:https://unitedskates-assets.sfo3.digitaloceanspaces.com/wp-content/uploads/sites/12/2025/08/8-Dollar-Fridays-2025-page-001-scaled.jpg
END:VEVENT
BEGIN:VEVENT
DTSTART;TZID=America/New_York:20260327T180000
DTEND;TZID=America/New_York:20260327T203000
DTSTAMP:20260419T174739
CREATED:20260201T210851Z
LAST-MODIFIED:20260204T141318Z
UID:23736-1774634400-1774643400@www.unitedskates.com
SUMMARY:Glow Bunny Skate Jam
DESCRIPTION:🐰✨🛼 THE BUNNY IS BACK! 🛼✨🐰 \nKick off the fun before his BIG DAY! Join us for skating\, music\, and special surprises. \n📅 Friday\, March 27th⏰ 6:00pm–8:30pm \n💲 Admission:🔹 $12.00 online (buy ahead & save!)🔹 $14.00 at the door🔹 Skate Rental: $6.00 \n🌟 FREE glow stick with paid admission! \n🎟️ Buy tickets here \n🎂 Book your birthday party and make it extra magical — the Bunny might even stop by! Book Here!
URL:https://www.unitedskates.com/wickliffe/event/glow-bunny-skate-3/
CATEGORIES:Family Events,Public Skates,Special Events
ATTACH;FMTTYPE=image/jpeg:https://unitedskates-assets.sfo3.digitaloceanspaces.com/wp-content/uploads/sites/12/2026/02/glow-bunny.jpg
END:VEVENT
BEGIN:VEVENT
DTSTART;TZID=America/New_York:20260327T210000
DTEND;TZID=America/New_York:20260327T233000
DTSTAMP:20260419T174739
CREATED:20250805T200609Z
LAST-MODIFIED:20250918T185920Z
UID:21866-1774645200-1774654200@www.unitedskates.com
SUMMARY:Holy Rollers Glow Gospel Skate
DESCRIPTION:🙏✨🛼 Holy Rollers Glow Gospel Skate 🛼✨🙏Light up the rink and your spirit at our Holy Rollers Glow Gospel Skate! Celebrate faith\, fellowship\, and fun with a glowing twist! \n🎶 Uplifting gospel music to keep your heart and feet moving all session long🛼 Skate in a vibrant\, glow-in-the-dark atmosphere with colorful lights and special effects🎉 FREE Glow Stick with every paid admission — bring your light and shine bright as you roll!🤗 Family-friendly and welcoming to all ages and skill levels \n📅 Friday\, March 27th 🕒 9:00pm-11:30pm🎟️ Admission: $12.00 Skate rental $6.00 \nJoin us for a night where faith meets fun — let’s glow and roll together in praise! \n📞 Call Amber at 440-944-5301 to reserve your spot and learn about special group rates and fundraiser options.
URL:https://www.unitedskates.com/wickliffe/event/holy-rollers-glow-gospel-skate/
CATEGORIES:Family Events,Public Skates,Special Events
ATTACH;FMTTYPE=image/jpeg:https://unitedskates-assets.sfo3.digitaloceanspaces.com/wp-content/uploads/sites/12/2025/08/Holy-Rollers-Glow-Skate.jpg
END:VEVENT
END:VCALENDAR