BEGIN:VCALENDAR
VERSION:2.0
PRODID:-//Rink 11 - Wickliffe - ECPv6.15.20//NONSGML v1.0//EN
CALSCALE:GREGORIAN
METHOD:PUBLISH
X-WR-CALNAME:Rink 11 - Wickliffe
X-ORIGINAL-URL:https://www.unitedskates.com/wickliffe
X-WR-CALDESC:Events for Rink 11 - Wickliffe
REFRESH-INTERVAL;VALUE=DURATION:PT1H
X-Robots-Tag:noindex
X-PUBLISHED-TTL:PT1H
BEGIN:VTIMEZONE
TZID:America/New_York
BEGIN:DAYLIGHT
TZOFFSETFROM:-0500
TZOFFSETTO:-0400
TZNAME:EDT
DTSTART:20250309T070000
END:DAYLIGHT
BEGIN:STANDARD
TZOFFSETFROM:-0400
TZOFFSETTO:-0500
TZNAME:EST
DTSTART:20251102T060000
END:STANDARD
BEGIN:DAYLIGHT
TZOFFSETFROM:-0500
TZOFFSETTO:-0400
TZNAME:EDT
DTSTART:20260308T070000
END:DAYLIGHT
BEGIN:STANDARD
TZOFFSETFROM:-0400
TZOFFSETTO:-0500
TZNAME:EST
DTSTART:20261101T060000
END:STANDARD
BEGIN:DAYLIGHT
TZOFFSETFROM:-0500
TZOFFSETTO:-0400
TZNAME:EDT
DTSTART:20270314T070000
END:DAYLIGHT
BEGIN:STANDARD
TZOFFSETFROM:-0400
TZOFFSETTO:-0500
TZNAME:EST
DTSTART:20271107T060000
END:STANDARD
END:VTIMEZONE
BEGIN:VEVENT
DTSTART;TZID=America/New_York:20260318T120000
DTEND;TZID=America/New_York:20260405T190000
DTSTAMP:20260420T030527
CREATED:20260305T124312Z
LAST-MODIFIED:20260305T124312Z
UID:24000-1773835200-1775415600@www.unitedskates.com
SUMMARY:Spring Break Skate Schedule | March 18 – April 5
DESCRIPTION:Spring Break fun is rolling into United Skates Wickliffe! Join us for exciting skating sessions\, themed events\, glow skates\, family skate times\, and special activities happening throughout the break. It’s the perfect place for kids and families to stay active and make great memories while school is out—check the full schedule and plan your visit today! 🛼✨
URL:https://www.unitedskates.com/wickliffe/event/spring-break-skate-schedule-march-18-april-5/
CATEGORIES:Adult Events,Family Events,Public Skates,Special Events
ATTACH;FMTTYPE=image/jpeg:https://unitedskates-assets.sfo3.digitaloceanspaces.com/wp-content/uploads/sites/12/2026/02/11-Spring-Break-2026-front.jpg
END:VEVENT
BEGIN:VEVENT
DTSTART;TZID=America/New_York:20260325T100000
DTEND;TZID=America/New_York:20260325T123000
DTSTAMP:20260420T030527
CREATED:20260201T215911Z
LAST-MODIFIED:20260204T134957Z
UID:23756-1774432800-1774441800@www.unitedskates.com
SUMMARY:Cake Pop Skate
DESCRIPTION:🍰🛼🌸 SPRING BREAK = NO SCHOOL! 🌸🛼🍰 \nKick off your day off with skating\, fun\, and a sweet treat! \n🎉 FIRST-EVER Cake Pop Skate! 🎉Get a FREE Cake Pop with every paid admission — while supplies last! \n📅 Wednesday\, March 25th⏰ 10:00am–12:30pm \n💲 Admission: $11.00🛼 Skate Rental: $6.00 \n🎟️ Now taking bookings for daycares\, school groups\, and more!📞 Call Amber today at 440-944-5301 to reserve your spot. \n🛼 Skate\, snack\, and make your Spring Break sweet and unforgettable! 🌸✨ \n🥳 Birthday Parties Available! Book Here! \nSecure your Spot Online! Buy Now!
URL:https://www.unitedskates.com/wickliffe/event/cake-pop-skate/
CATEGORIES:Family Events,Public Skates,Special Events
ATTACH;FMTTYPE=image/jpeg:https://unitedskates-assets.sfo3.digitaloceanspaces.com/wp-content/uploads/sites/12/2026/02/Cake-Pop-Skate-Party.jpg
END:VEVENT
BEGIN:VEVENT
DTSTART;TZID=America/New_York:20260325T123000
DTEND;TZID=America/New_York:20260325T150000
DTSTAMP:20260420T030527
CREATED:20260201T220236Z
LAST-MODIFIED:20260204T135241Z
UID:23758-1774441800-1774450800@www.unitedskates.com
SUMMARY:Derpy's KPOP Skate
DESCRIPTION:🎤🛼💖 DERPY IS BACK FOR SPRING BREAK! 💖🛼🎤 \nCome skate\, dance\, and jam out to K-POP and Pop music all session long! Don’t miss your chance to see Derpy in action. \n📅 Spring Break Skate Sessions \n💲 Admission:🔹 $12.00 online Buy Here!🔹 $13.00 at the door🔹 Skate Rental: $6.00 \n🎟️ Now taking bookings for daycares\, school groups\, and more!📞 Call Amber today at 440-944-5301 to reserve your spot. \n🛼 Skate\, dance\, and make this Spring Break unforgettable! 🌸✨ \n🥳 Birthday Parties Available! Book Here!
URL:https://www.unitedskates.com/wickliffe/event/derpys-kpop-skate/
CATEGORIES:Family Events,Public Skates,Special Events
ATTACH;FMTTYPE=image/png:https://unitedskates-assets.sfo3.digitaloceanspaces.com/wp-content/uploads/sites/12/2026/02/Spring-Break-Special-DERPY-DAY-1-1.png
END:VEVENT
END:VCALENDAR