BEGIN:VCALENDAR
VERSION:2.0
PRODID:-//Rink 11 - Wickliffe - ECPv6.15.20//NONSGML v1.0//EN
CALSCALE:GREGORIAN
METHOD:PUBLISH
X-ORIGINAL-URL:https://www.unitedskates.com/wickliffe
X-WR-CALDESC:Events for Rink 11 - Wickliffe
REFRESH-INTERVAL;VALUE=DURATION:PT1H
X-Robots-Tag:noindex
X-PUBLISHED-TTL:PT1H
BEGIN:VTIMEZONE
TZID:America/New_York
BEGIN:DAYLIGHT
TZOFFSETFROM:-0500
TZOFFSETTO:-0400
TZNAME:EDT
DTSTART:20250309T070000
END:DAYLIGHT
BEGIN:STANDARD
TZOFFSETFROM:-0400
TZOFFSETTO:-0500
TZNAME:EST
DTSTART:20251102T060000
END:STANDARD
BEGIN:DAYLIGHT
TZOFFSETFROM:-0500
TZOFFSETTO:-0400
TZNAME:EDT
DTSTART:20260308T070000
END:DAYLIGHT
BEGIN:STANDARD
TZOFFSETFROM:-0400
TZOFFSETTO:-0500
TZNAME:EST
DTSTART:20261101T060000
END:STANDARD
BEGIN:DAYLIGHT
TZOFFSETFROM:-0500
TZOFFSETTO:-0400
TZNAME:EDT
DTSTART:20270314T070000
END:DAYLIGHT
BEGIN:STANDARD
TZOFFSETFROM:-0400
TZOFFSETTO:-0500
TZNAME:EST
DTSTART:20271107T060000
END:STANDARD
END:VTIMEZONE
BEGIN:VEVENT
DTSTART;TZID=America/New_York:20260318T120000
DTEND;TZID=America/New_York:20260405T190000
DTSTAMP:20260419T174748
CREATED:20260305T124312Z
LAST-MODIFIED:20260305T124312Z
UID:24000-1773835200-1775415600@www.unitedskates.com
SUMMARY:Spring Break Skate Schedule | March 18 – April 5
DESCRIPTION:Spring Break fun is rolling into United Skates Wickliffe! Join us for exciting skating sessions\, themed events\, glow skates\, family skate times\, and special activities happening throughout the break. It’s the perfect place for kids and families to stay active and make great memories while school is out—check the full schedule and plan your visit today! 🛼✨
URL:https://www.unitedskates.com/wickliffe/event/spring-break-skate-schedule-march-18-april-5/
CATEGORIES:Adult Events,Family Events,Public Skates,Special Events
ATTACH;FMTTYPE=image/jpeg:https://unitedskates-assets.sfo3.digitaloceanspaces.com/wp-content/uploads/sites/12/2026/02/11-Spring-Break-2026-front.jpg
END:VEVENT
BEGIN:VEVENT
DTSTART;TZID=America/New_York:20260323T140000
DTEND;TZID=America/New_York:20260323T170000
DTSTAMP:20260419T174748
CREATED:20260201T215018Z
LAST-MODIFIED:20260202T021208Z
UID:23750-1774274400-1774285200@www.unitedskates.com
SUMMARY:🌸🛼🎮 SPRING BREAK SKATE AND PLAY! 🎮🛼🌸
DESCRIPTION:Don’t miss out — come skate\, play\, and have a blast during Spring Break! Enjoy skating\, laser tag\, and games all in one fun-packed session. \n📅 Monday\, March 23rd⏰ 2:00pm–5:00pm \n💲 Only $13.00 — includes:✔️ Admission✔️ Skate Rental✔️ 1 Game of Laser Tag✔️ 10-Credit Game Card \nAdmission Online $12.00. Buy Here! \n🎟️ Now taking bookings for daycares\, school groups\, and more!📞 Call Amber today at 440-944-5301 to reserve your spot. \n🛼 Fun\, games\, skating — make this Spring Break unforgettable! 🌸✨ \nBirthday Parties Available! Book Here!
URL:https://www.unitedskates.com/wickliffe/event/%f0%9f%8c%b8%f0%9f%9b%bc%f0%9f%8e%ae-spring-break-skate-play-%f0%9f%8e%ae%f0%9f%9b%bc%f0%9f%8c%b8/
CATEGORIES:Family Events,Public Skates,Special Events
ATTACH;FMTTYPE=image/png:https://unitedskates-assets.sfo3.digitaloceanspaces.com/wp-content/uploads/sites/12/2026/02/Spring-Break-Skate-Play.png
END:VEVENT
BEGIN:VEVENT
DTSTART;TZID=America/New_York:20260323T190000
DTEND;TZID=America/New_York:20260323T230000
DTSTAMP:20260419T174748
CREATED:20241023T010008Z
LAST-MODIFIED:20260403T195642Z
UID:22761-1774292400-1774306800@www.unitedskates.com
SUMMARY:Old School Adult Skate
DESCRIPTION:We are taking it back Old School every Monday \nAdults 25+ come skate your Mondays Away \n7:00pm-11:00pm \nFeaturing 80’s\, 90’s\, Jazz and Skate Music  \nMusic spun by DJ Ivory  \nAdmission $12.00 \nSkate Rental $6.00 \n25+ with valid ID \nSkip the line-buy your tickets online! BUY HERE!
URL:https://www.unitedskates.com/wickliffe/event/old-school-adult-skate-4/2026-03-23/
CATEGORIES:Adult Events,Public Skates
ATTACH;FMTTYPE=image/jpeg:https://unitedskates-assets.sfo3.digitaloceanspaces.com/wp-content/uploads/sites/12/2024/10/Old-School-Adult-Skate-rink11-v3.jpg
END:VEVENT
END:VCALENDAR