BEGIN:VCALENDAR
VERSION:2.0
PRODID:-//Rink 11 - Wickliffe - ECPv6.15.20//NONSGML v1.0//EN
CALSCALE:GREGORIAN
METHOD:PUBLISH
X-WR-CALNAME:Rink 11 - Wickliffe
X-ORIGINAL-URL:https://www.unitedskates.com/wickliffe
X-WR-CALDESC:Events for Rink 11 - Wickliffe
REFRESH-INTERVAL;VALUE=DURATION:PT1H
X-Robots-Tag:noindex
X-PUBLISHED-TTL:PT1H
BEGIN:VTIMEZONE
TZID:America/New_York
BEGIN:DAYLIGHT
TZOFFSETFROM:-0500
TZOFFSETTO:-0400
TZNAME:EDT
DTSTART:20250309T070000
END:DAYLIGHT
BEGIN:STANDARD
TZOFFSETFROM:-0400
TZOFFSETTO:-0500
TZNAME:EST
DTSTART:20251102T060000
END:STANDARD
BEGIN:DAYLIGHT
TZOFFSETFROM:-0500
TZOFFSETTO:-0400
TZNAME:EDT
DTSTART:20260308T070000
END:DAYLIGHT
BEGIN:STANDARD
TZOFFSETFROM:-0400
TZOFFSETTO:-0500
TZNAME:EST
DTSTART:20261101T060000
END:STANDARD
BEGIN:DAYLIGHT
TZOFFSETFROM:-0500
TZOFFSETTO:-0400
TZNAME:EDT
DTSTART:20270314T070000
END:DAYLIGHT
BEGIN:STANDARD
TZOFFSETFROM:-0400
TZOFFSETTO:-0500
TZNAME:EST
DTSTART:20271107T060000
END:STANDARD
END:VTIMEZONE
BEGIN:VEVENT
DTSTART;TZID=America/New_York:20260318T120000
DTEND;TZID=America/New_York:20260405T190000
DTSTAMP:20260420T030530
CREATED:20260305T124312Z
LAST-MODIFIED:20260305T124312Z
UID:24000-1773835200-1775415600@www.unitedskates.com
SUMMARY:Spring Break Skate Schedule | March 18 – April 5
DESCRIPTION:Spring Break fun is rolling into United Skates Wickliffe! Join us for exciting skating sessions\, themed events\, glow skates\, family skate times\, and special activities happening throughout the break. It’s the perfect place for kids and families to stay active and make great memories while school is out—check the full schedule and plan your visit today! 🛼✨
URL:https://www.unitedskates.com/wickliffe/event/spring-break-skate-schedule-march-18-april-5/
CATEGORIES:Adult Events,Family Events,Public Skates,Special Events
ATTACH;FMTTYPE=image/jpeg:https://unitedskates-assets.sfo3.digitaloceanspaces.com/wp-content/uploads/sites/12/2026/02/11-Spring-Break-2026-front.jpg
END:VEVENT
BEGIN:VEVENT
DTSTART;TZID=America/New_York:20260320T123000
DTEND;TZID=America/New_York:20260322T193000
DTSTAMP:20260420T030530
CREATED:20260317T123730Z
LAST-MODIFIED:20260317T123730Z
UID:24011-1774009800-1774207800@www.unitedskates.com
SUMMARY:March Madness Skating & Games Weekend – Free Game Card + 2X Arcade Credits
DESCRIPTION:Join us March 20–22 and get a FREE 10-credit game card with admission plus double arcade credits during your visit. Three days only! \nBUY TICKETS HERE: https://bzone.bookingzone.com/IeYnxu
URL:https://www.unitedskates.com/wickliffe/event/march-madness-skating-games-weekend-free-game-card-2x-arcade-credits/
LOCATION:United Skates Of America Wickliffe\, 30325 Palisades Pkwy.\, Wickliffe\, OH\, 44092\, United States
CATEGORIES:Family Events,Public Skates,Special Events
ATTACH;FMTTYPE=image/gif:https://unitedskates-assets.sfo3.digitaloceanspaces.com/wp-content/uploads/sites/12/2026/03/SQUARE-FREE-10-Credit-Game-Card-March-Madness-Roller-Skating-Fun-Facebook-Video-2-low.gif
END:VEVENT
BEGIN:VEVENT
DTSTART;TZID=America/New_York:20260322T120000
DTEND;TZID=America/New_York:20260322T143000
DTSTAMP:20260420T030530
CREATED:20260201T210556Z
LAST-MODIFIED:20260202T204855Z
UID:23734-1774180800-1774189800@www.unitedskates.com
SUMMARY:Cowabunga Pizza Skate
DESCRIPTION:🐢🍕🛼 COWABUNGA — SUNDAY FUNDAY WITH THE TURTLES! 🛼🍕🐢 \nThe Turtles are back and ready to skate… and yes\, they LOVE pizza! Join us for their very own Pizza Skate. \n📅 Sunday\, March 22nd⏰ 12:30pm–3:00pm🍕 Pizza & Drinks Served: 1:00pm–2:30pm \n💲 Only $14.99 — includes:✔️ Admission✔️ Skate Rental✔️ A slice of pizza & a drink \n🎟️ Secure your spots here! \n🎂 Book your birthday party and make it extra special — the Turtles might even stop by! Book Here!
URL:https://www.unitedskates.com/wickliffe/event/cowabunga-pizza-skate/
CATEGORIES:Family Events,Public Skates,Special Events
ATTACH;FMTTYPE=image/png:https://unitedskates-assets.sfo3.digitaloceanspaces.com/wp-content/uploads/sites/12/2026/02/%E2%80%A2Cowabunga-Skate-%E2%80%A2Pizza-Party-1.png
END:VEVENT
BEGIN:VEVENT
DTSTART;TZID=America/New_York:20260322T180000
DTEND;TZID=America/New_York:20260322T203000
DTSTAMP:20260420T030530
CREATED:20250805T183906Z
LAST-MODIFIED:20260403T203103Z
UID:22675-1774202400-1774211400@www.unitedskates.com
SUMMARY:Sunday Night/Birthday Parties
DESCRIPTION:Book your Birthday Party! Birthday Parties available from 6:00pm-8:30pm \nAdmission at the Door $14.00 \nAdmission Online $12.00 \nSkate Rental $6.00 \nFeaturing Pop and R&B Music Mix \nGet your Tickets Here! BUY HERE! \nAll 3–17-year-olds must pay admission and skate rental upon entering the facility.  Adults 18+ not skating may enter for free. All 12–17-year-olds must come into our facility with a parent or guardian that is 25 years or age or older. We are only allowing two (2) 12–17-year-olds per one parent or guardian 25 and over. The parent/guardian must stay with the teenager the entire time while in the facility. If the parent/guardian leaves the facility the teen must leave with parent/guardian. No drop off of teens or children into our facility is permitted. No drop off of teens or children to another parent into our facility is permitted. Teenagers 12-17 with their own skates are permitted without a parent if they skate the entire time. Teens asked to keep skates on repeatedly will be asked to leave with no refund.
URL:https://www.unitedskates.com/wickliffe/event/sunday-funday-birthday-parties-8/2026-03-22/
CATEGORIES:Family Events,Public Skates
ATTACH;FMTTYPE=image/jpeg:https://unitedskates-assets.sfo3.digitaloceanspaces.com/wp-content/uploads/sites/12/2025/08/Sunday-Nights-page-001-1-scaled.jpg
END:VEVENT
BEGIN:VEVENT
DTSTART;TZID=America/New_York:20260322T210000
DTEND;TZID=America/New_York:20260323T003000
DTSTAMP:20260420T030530
CREATED:20251212T232916Z
LAST-MODIFIED:20260403T201956Z
UID:23097-1774213200-1774225800@www.unitedskates.com
SUMMARY:Sunday Adult Night
DESCRIPTION:Sunday Nights are meant for Skating! \nAdults this night is for you and you only! \nEvery Sunday Night 9:00pm-12:30am \nFeaturing R&B\, Hip-Hop and Skate Music  \nMusic Spun by DJ Ivory \nAdmission $12.00 \nSkate Rental $6.00 \n18+ with valid ID \nSkip the line-buy your tickets online! BUY HERE!
URL:https://www.unitedskates.com/wickliffe/event/sunday-adult-night-2/2026-03-22/
CATEGORIES:Adult Events,Public Skates
ATTACH;FMTTYPE=image/jpeg:https://unitedskates-assets.sfo3.digitaloceanspaces.com/wp-content/uploads/sites/12/2025/12/sunday-adult-1.jpg
END:VEVENT
END:VCALENDAR