BEGIN:VCALENDAR
VERSION:2.0
PRODID:-//Rink 11 - Wickliffe - ECPv6.15.20//NONSGML v1.0//EN
CALSCALE:GREGORIAN
METHOD:PUBLISH
X-ORIGINAL-URL:https://www.unitedskates.com/wickliffe
X-WR-CALDESC:Events for Rink 11 - Wickliffe
REFRESH-INTERVAL;VALUE=DURATION:PT1H
X-Robots-Tag:noindex
X-PUBLISHED-TTL:PT1H
BEGIN:VTIMEZONE
TZID:America/New_York
BEGIN:DAYLIGHT
TZOFFSETFROM:-0500
TZOFFSETTO:-0400
TZNAME:EDT
DTSTART:20250309T070000
END:DAYLIGHT
BEGIN:STANDARD
TZOFFSETFROM:-0400
TZOFFSETTO:-0500
TZNAME:EST
DTSTART:20251102T060000
END:STANDARD
BEGIN:DAYLIGHT
TZOFFSETFROM:-0500
TZOFFSETTO:-0400
TZNAME:EDT
DTSTART:20260308T070000
END:DAYLIGHT
BEGIN:STANDARD
TZOFFSETFROM:-0400
TZOFFSETTO:-0500
TZNAME:EST
DTSTART:20261101T060000
END:STANDARD
BEGIN:DAYLIGHT
TZOFFSETFROM:-0500
TZOFFSETTO:-0400
TZNAME:EDT
DTSTART:20270314T070000
END:DAYLIGHT
BEGIN:STANDARD
TZOFFSETFROM:-0400
TZOFFSETTO:-0500
TZNAME:EST
DTSTART:20271107T060000
END:STANDARD
END:VTIMEZONE
BEGIN:VEVENT
DTSTART;TZID=America/New_York:20260315T120000
DTEND;TZID=America/New_York:20260315T143000
DTSTAMP:20260419T192909
CREATED:20260201T204902Z
LAST-MODIFIED:20260203T205452Z
UID:23724-1773576000-1773585000@www.unitedskates.com
SUMMARY:Grinch Steals St. Patrick's Day
DESCRIPTION:🍀💚🎩 THE GRINCH IS AT IT AGAIN! 🎩💚🍀This time\, he’s trying to STEAL ST. PATRICK’S DAY! \nWe need YOUR help to stop him! Come skate\, celebrate\, and catch the Grinch in action during this mischievous St. Patrick’s Day event. \n🛼 Skating • Music • Laughs • Photo ops with the Grinch \n📅 Sunday\, March 15th⏰ Skate Session: 12:00pm–2:30pm👀 Grinch Appearance: 1:00pm–2:00pm \n💲 Admission:🔹 $12.00 online (save when you buy ahead!) Buy Here!🔹 $14.00 at the door🔹 Skate Rental: $6.00 \n🎟️ Don’t let the Grinch win—join the fun! \n🎂 Book your birthday party now and turn your celebration into a character skate adventure! 🍀🛼 Book Here!
URL:https://www.unitedskates.com/wickliffe/event/grinch-steals-st-patricks-day/
CATEGORIES:Family Events,Public Skates,Special Events
ATTACH;FMTTYPE=image/png:https://unitedskates-assets.sfo3.digitaloceanspaces.com/wp-content/uploads/sites/12/2026/02/Grinch-Steals-St.-Patricks-Day.png
END:VEVENT
BEGIN:VEVENT
DTSTART;TZID=America/New_York:20260315T210000
DTEND;TZID=America/New_York:20260316T003000
DTSTAMP:20260419T192909
CREATED:20251212T232916Z
LAST-MODIFIED:20260403T201954Z
UID:23096-1773608400-1773621000@www.unitedskates.com
SUMMARY:Sunday Adult Night
DESCRIPTION:Sunday Nights are meant for Skating! \nAdults this night is for you and you only! \nEvery Sunday Night 9:00pm-12:30am \nFeaturing R&B\, Hip-Hop and Skate Music  \nMusic Spun by DJ Ivory \nAdmission $12.00 \nSkate Rental $6.00 \n18+ with valid ID \nSkip the line-buy your tickets online! BUY HERE!
URL:https://www.unitedskates.com/wickliffe/event/sunday-adult-night-2/2026-03-15/
CATEGORIES:Adult Events,Public Skates
ATTACH;FMTTYPE=image/jpeg:https://unitedskates-assets.sfo3.digitaloceanspaces.com/wp-content/uploads/sites/12/2025/12/sunday-adult-1.jpg
END:VEVENT
END:VCALENDAR