BEGIN:VCALENDAR
VERSION:2.0
PRODID:-//Rink 11 - Wickliffe - ECPv6.15.20//NONSGML v1.0//EN
CALSCALE:GREGORIAN
METHOD:PUBLISH
X-ORIGINAL-URL:https://www.unitedskates.com/wickliffe
X-WR-CALDESC:Events for Rink 11 - Wickliffe
REFRESH-INTERVAL;VALUE=DURATION:PT1H
X-Robots-Tag:noindex
X-PUBLISHED-TTL:PT1H
BEGIN:VTIMEZONE
TZID:America/New_York
BEGIN:DAYLIGHT
TZOFFSETFROM:-0500
TZOFFSETTO:-0400
TZNAME:EDT
DTSTART:20250309T070000
END:DAYLIGHT
BEGIN:STANDARD
TZOFFSETFROM:-0400
TZOFFSETTO:-0500
TZNAME:EST
DTSTART:20251102T060000
END:STANDARD
BEGIN:DAYLIGHT
TZOFFSETFROM:-0500
TZOFFSETTO:-0400
TZNAME:EDT
DTSTART:20260308T070000
END:DAYLIGHT
BEGIN:STANDARD
TZOFFSETFROM:-0400
TZOFFSETTO:-0500
TZNAME:EST
DTSTART:20261101T060000
END:STANDARD
BEGIN:DAYLIGHT
TZOFFSETFROM:-0500
TZOFFSETTO:-0400
TZNAME:EDT
DTSTART:20270314T070000
END:DAYLIGHT
BEGIN:STANDARD
TZOFFSETFROM:-0400
TZOFFSETTO:-0500
TZNAME:EST
DTSTART:20271107T060000
END:STANDARD
END:VTIMEZONE
BEGIN:VEVENT
DTSTART;TZID=America/New_York:20260308T120000
DTEND;TZID=America/New_York:20260308T143000
DTSTAMP:20260419T191842
CREATED:20260201T203445Z
LAST-MODIFIED:20260203T201346Z
UID:23716-1772971200-1772980200@www.unitedskates.com
SUMMARY:Minnie's PJ Skate
DESCRIPTION:🎀🛼 MINNIE MOUSE FANS — THIS ONE IS FOR YOU! 🛼🎀Get ready to roll into a Sunday Funday like no other! Join us at United Skates for a pajama-themed skating adventure with Minnie Mouse herself. Come dressed in your favorite PJs and skate the afternoon away with fun\, music\, and lots of smiles! \n📅 Sunday\, March 8th ⏰ 12:00pm-2:30pm💵 Admission at the door: $14.00 \n💵 Admission Online: $12.00 Buy Here!⛸️ Skate Rental: $6.00 \n🎉 Want to make it even more special?Host a pajama-themed birthday party and have Minnie join the celebration! Book Here! \nBring the kids\, bring the family\, and get ready to skate\, giggle\, and enjoy a magical Minnie Mouse Sunday Funday! ✨ \nSave a $1.00!! Wear your PJ’S!
URL:https://www.unitedskates.com/wickliffe/event/minnies-pj-skate/
CATEGORIES:Family Events,Public Skates,Special Events
ATTACH;FMTTYPE=image/png:https://unitedskates-assets.sfo3.digitaloceanspaces.com/wp-content/uploads/sites/12/2026/02/Minnies-Pajama-Skate-3.png
END:VEVENT
BEGIN:VEVENT
DTSTART;TZID=America/New_York:20260308T180000
DTEND;TZID=America/New_York:20260308T203000
DTSTAMP:20260419T191842
CREATED:20250805T183906Z
LAST-MODIFIED:20260403T203102Z
UID:22673-1772992800-1773001800@www.unitedskates.com
SUMMARY:Sunday Night/Birthday Parties
DESCRIPTION:Book your Birthday Party! Birthday Parties available from 6:00pm-8:30pm \nAdmission at the Door $14.00 \nAdmission Online $12.00 \nSkate Rental $6.00 \nFeaturing Pop and R&B Music Mix \nGet your Tickets Here! BUY HERE! \nAll 3–17-year-olds must pay admission and skate rental upon entering the facility.  Adults 18+ not skating may enter for free. All 12–17-year-olds must come into our facility with a parent or guardian that is 25 years or age or older. We are only allowing two (2) 12–17-year-olds per one parent or guardian 25 and over. The parent/guardian must stay with the teenager the entire time while in the facility. If the parent/guardian leaves the facility the teen must leave with parent/guardian. No drop off of teens or children into our facility is permitted. No drop off of teens or children to another parent into our facility is permitted. Teenagers 12-17 with their own skates are permitted without a parent if they skate the entire time. Teens asked to keep skates on repeatedly will be asked to leave with no refund.
URL:https://www.unitedskates.com/wickliffe/event/sunday-funday-birthday-parties-8/2026-03-08/
CATEGORIES:Family Events,Public Skates
ATTACH;FMTTYPE=image/jpeg:https://unitedskates-assets.sfo3.digitaloceanspaces.com/wp-content/uploads/sites/12/2025/08/Sunday-Nights-page-001-1-scaled.jpg
END:VEVENT
BEGIN:VEVENT
DTSTART;TZID=America/New_York:20260308T210000
DTEND;TZID=America/New_York:20260309T003000
DTSTAMP:20260419T191842
CREATED:20251212T232916Z
LAST-MODIFIED:20260403T201954Z
UID:23095-1773003600-1773016200@www.unitedskates.com
SUMMARY:Sunday Adult Night
DESCRIPTION:Sunday Nights are meant for Skating! \nAdults this night is for you and you only! \nEvery Sunday Night 9:00pm-12:30am \nFeaturing R&B\, Hip-Hop and Skate Music  \nMusic Spun by DJ Ivory \nAdmission $12.00 \nSkate Rental $6.00 \n18+ with valid ID \nSkip the line-buy your tickets online! BUY HERE!
URL:https://www.unitedskates.com/wickliffe/event/sunday-adult-night-2/2026-03-08/
CATEGORIES:Adult Events,Public Skates
ATTACH;FMTTYPE=image/jpeg:https://unitedskates-assets.sfo3.digitaloceanspaces.com/wp-content/uploads/sites/12/2025/12/sunday-adult-1.jpg
END:VEVENT
END:VCALENDAR