BEGIN:VCALENDAR
VERSION:2.0
PRODID:-//Rink 11 - Wickliffe - ECPv6.15.20//NONSGML v1.0//EN
CALSCALE:GREGORIAN
METHOD:PUBLISH
X-ORIGINAL-URL:https://www.unitedskates.com/wickliffe
X-WR-CALDESC:Events for Rink 11 - Wickliffe
REFRESH-INTERVAL;VALUE=DURATION:PT1H
X-Robots-Tag:noindex
X-PUBLISHED-TTL:PT1H
BEGIN:VTIMEZONE
TZID:America/New_York
BEGIN:DAYLIGHT
TZOFFSETFROM:-0500
TZOFFSETTO:-0400
TZNAME:EDT
DTSTART:20250309T070000
END:DAYLIGHT
BEGIN:STANDARD
TZOFFSETFROM:-0400
TZOFFSETTO:-0500
TZNAME:EST
DTSTART:20251102T060000
END:STANDARD
BEGIN:DAYLIGHT
TZOFFSETFROM:-0500
TZOFFSETTO:-0400
TZNAME:EDT
DTSTART:20260308T070000
END:DAYLIGHT
BEGIN:STANDARD
TZOFFSETFROM:-0400
TZOFFSETTO:-0500
TZNAME:EST
DTSTART:20261101T060000
END:STANDARD
BEGIN:DAYLIGHT
TZOFFSETFROM:-0500
TZOFFSETTO:-0400
TZNAME:EDT
DTSTART:20270314T070000
END:DAYLIGHT
BEGIN:STANDARD
TZOFFSETFROM:-0400
TZOFFSETTO:-0500
TZNAME:EST
DTSTART:20271107T060000
END:STANDARD
END:VTIMEZONE
BEGIN:VEVENT
DTSTART;TZID=America/New_York:20260307T103000
DTEND;TZID=America/New_York:20260307T123000
DTSTAMP:20260419T191915
CREATED:20260201T203108Z
LAST-MODIFIED:20260203T201149Z
UID:23714-1772879400-1772886600@www.unitedskates.com
SUMMARY:Donuts with Mickey
DESCRIPTION:🎉🐭✨ MICKEY IS COMING BACK… AND HE’S BRINGING A SWEET SURPRISE! ✨🐭🎉 \nThat’s right—Mickey is BACK and ready to skate\, dance\, and take photos with YOU! Plus\, every guest gets a FREE DONUT 🍩 with paid admission (while supplies last). \n🛼 Music • Skating • Character fun • Sweet treatsThe perfect way to kick off your Saturday morning! \n📅 Saturday\, March 7th⏰ 10:30am–12:30pm \n💲 Admission:🔹 $10.00 online (save when you buy ahead!) Buy Here!🔹 $11.00 at the door🔹 Skate Rental: $6.00 \n🎟️ Don’t miss out—spots fill fast! \n🎂 Planning a birthday party? Make it extra magical with a character skate party! Book Here!
URL:https://www.unitedskates.com/wickliffe/event/donuts-with-mickey/
CATEGORIES:Family Events,Public Skates,Special Events
ATTACH;FMTTYPE=image/png:https://unitedskates-assets.sfo3.digitaloceanspaces.com/wp-content/uploads/sites/12/2026/02/Disney-and-Donuts-Skate-Party.png
END:VEVENT
BEGIN:VEVENT
DTSTART;TZID=America/New_York:20260307T123000
DTEND;TZID=America/New_York:20260307T150000
DTSTAMP:20260419T191915
CREATED:20230717T184805Z
LAST-MODIFIED:20260403T201528Z
UID:22563-1772886600-1772895600@www.unitedskates.com
SUMMARY:Family Skate/Birthday Parties
DESCRIPTION:Book your Birthday Party! Birthday Parties available from 12:30pm-3:00pm \nAdmission $14.00 \nOnline Admission $12.00 \nSkate Rental $6.00 \nFeaturing Pop and R&B Music Mix \nSkip the line-buy your tickets online! BUY HERE! \nAll 3–17-year-olds must pay admission and skate rental upon entering the facility.  Adults 18+ not skating may enter for free. All 12–17-year-olds must come into our facility with a parent or guardian that is 25 years or age or older. We are only allowing two (2) 12–17-year-olds per one parent or guardian 25 and over. The parent/guardian must stay with the teenager the entire time while in the facility. If the parent/guardian leaves the facility the teen must leave with parent/guardian. No drop off of teens or children into our facility is permitted. No drop off of teens or children to another parent into our facility is permitted. Teenagers 12-17 with their own skates are permitted without a parent if they skate the entire time. Teens asked to keep skates on repeatedly will be asked to leave with no refund.
URL:https://www.unitedskates.com/wickliffe/event/family-skate-birthday-parties-14/2026-03-07/
CATEGORIES:Family Events,Public Skates
ATTACH;FMTTYPE=image/jpeg:https://unitedskates-assets.sfo3.digitaloceanspaces.com/wp-content/uploads/sites/12/2023/07/Saturday-Afternoon-Skate-2026-page-001-1-scaled.jpg
END:VEVENT
BEGIN:VEVENT
DTSTART;TZID=America/New_York:20260307T160000
DTEND;TZID=America/New_York:20260307T183000
DTSTAMP:20260419T191915
CREATED:20241022T215909Z
LAST-MODIFIED:20260401T192742Z
UID:22585-1772899200-1772908200@www.unitedskates.com
SUMMARY:Family Skate/Birthday Parties
DESCRIPTION:Book your Birthday Party! Birthday Parties available from 4:00pm-6:30pm \nAdmission at the door $14.00 \nAdmission Online $12.00 \nSkate Rental $6.00 \nFeaturing Pop and R&B Music Mix \nBuy your Tickets Online! BUY HERE! \nAll 3–17-year-olds must pay admission and skate rental upon entering the facility.  Adults 18+ not skating may enter for free. All 12–17-year-olds must come into our facility with a parent or guardian that is 25 years or age or older. We are only allowing two (2) 12–17-year-olds per one parent or guardian 25 and over. The parent/guardian must stay with the teenager the entire time while in the facility. If the parent/guardian leaves the facility the teen must leave with parent/guardian. No drop off of teens or children into our facility is permitted. No drop off of teens or children to another parent into our facility is permitted. Teenagers 12-17 with their own skates are permitted without a parent if they skate the entire time. Teens asked to keep skates on repeatedly will be asked to leave with no refund.
URL:https://www.unitedskates.com/wickliffe/event/family-skate-birthday-parties-21/2026-03-07/
CATEGORIES:Family Events,Public Skates
ATTACH;FMTTYPE=image/jpeg:https://unitedskates-assets.sfo3.digitaloceanspaces.com/wp-content/uploads/sites/12/2023/07/800px-Family-Skate-1200x900-1.jpg
END:VEVENT
BEGIN:VEVENT
DTSTART;TZID=America/New_York:20260307T193000
DTEND;TZID=America/New_York:20260307T220000
DTSTAMP:20260419T191915
CREATED:20250805T182845Z
LAST-MODIFIED:20260401T193642Z
UID:22607-1772911800-1772920800@www.unitedskates.com
SUMMARY:Saturday Night Skate
DESCRIPTION:It’s Saturday night\, and that means it’s time to hit the skate floor! \nJoin us every Saturday from 7:30pm-10:00pm for an incredible night of skating fun! \nAdmission at the door $15.00 \nAdmission Online $13.00 \nSkate Rental $6.00 \nWhether you’re planning a date night\, a family outing\, or a fun evening with friends\, there’s something for everyone to enjoy. \nExperience the excitement of gliding on wheels\, meet new people\, and create lasting memories. \nEnjoy the best of R&B and Hip-Hop music all session \nDon’t miss out on the best way to spend your Saturday night! \nBuy your tickets Now! BUY HERE! \nAll 3–17-year-olds must pay admission and skate rental upon entering the facility. Adults 18+ not skating may enter for free. All 12–17-year-olds must come into our facility with a parent or guardian that is 25 years or age or older. We are only allowing two (2) 12–17-year-olds per one parent or guardian 25 and over. The parent/guardian must stay with the teenager the entire time while in the facility. If the parent/guardian leaves the facility the teen must leave with parent/guardian. No drop off of teens or children into our facility is permitted. No drop off of teens or children to another parent into our facility is permitted. Teenagers 12-17 with their own skates are permitted without a parent if they skate the entire time. Teens asked to keep skates on repeatedly will be asked to leave with no refund
URL:https://www.unitedskates.com/wickliffe/event/saturday-night-skate/2026-03-07/
CATEGORIES:Family Events,Public Skates
ATTACH;FMTTYPE=image/jpeg:https://unitedskates-assets.sfo3.digitaloceanspaces.com/wp-content/uploads/sites/12/2025/08/Saturday-Night-Skate-Night-v-4-scaled.jpg
END:VEVENT
END:VCALENDAR