BEGIN:VCALENDAR
VERSION:2.0
PRODID:-//Rink 11 - Wickliffe - ECPv6.15.20//NONSGML v1.0//EN
CALSCALE:GREGORIAN
METHOD:PUBLISH
X-ORIGINAL-URL:https://www.unitedskates.com/wickliffe
X-WR-CALDESC:Events for Rink 11 - Wickliffe
REFRESH-INTERVAL;VALUE=DURATION:PT1H
X-Robots-Tag:noindex
X-PUBLISHED-TTL:PT1H
BEGIN:VTIMEZONE
TZID:America/New_York
BEGIN:DAYLIGHT
TZOFFSETFROM:-0500
TZOFFSETTO:-0400
TZNAME:EDT
DTSTART:20250309T070000
END:DAYLIGHT
BEGIN:STANDARD
TZOFFSETFROM:-0400
TZOFFSETTO:-0500
TZNAME:EST
DTSTART:20251102T060000
END:STANDARD
BEGIN:DAYLIGHT
TZOFFSETFROM:-0500
TZOFFSETTO:-0400
TZNAME:EDT
DTSTART:20260308T070000
END:DAYLIGHT
BEGIN:STANDARD
TZOFFSETFROM:-0400
TZOFFSETTO:-0500
TZNAME:EST
DTSTART:20261101T060000
END:STANDARD
BEGIN:DAYLIGHT
TZOFFSETFROM:-0500
TZOFFSETTO:-0400
TZNAME:EDT
DTSTART:20270314T070000
END:DAYLIGHT
BEGIN:STANDARD
TZOFFSETFROM:-0400
TZOFFSETTO:-0500
TZNAME:EST
DTSTART:20271107T060000
END:STANDARD
END:VTIMEZONE
BEGIN:VEVENT
DTSTART;TZID=America/New_York:20260116T180000
DTEND;TZID=America/New_York:20260116T203000
DTSTAMP:20260419T235817
CREATED:20251126T195834Z
LAST-MODIFIED:20251201T184405Z
UID:22852-1768586400-1768595400@www.unitedskates.com
SUMMARY:Winter Carnival Skate
DESCRIPTION:❄️🎪 GET READY FOR A WINTER CARNIVAL SKATE! 🎪❄️Step right up and skate right in — the Winter Carnival is coming to United Skates! This magical winter event is packed with carnival excitement\, chilly fun\, and nonstop family entertainment. \nJoin us for a night full of carnival games\, a bounce house\, prizes\, and so much more! It’s the perfect way to beat the winter blues and enjoy a warm\, action-packed evening of skating\, laughter\, and thrills. \nBring the whole family and experience:🎯 Carnival Games🎈 Bounce House Fun🎁 Prizes & Giveaways❄️ Skating + Winter Carnival Energy! \n📅 Friday\, January 16th⏰ 6:00pm–8:30pm💵 Admission: $14.00⛸️ Skate Rental: $6.00💲 Save $1.00 when you buy online! BUY HERE!  \nBundle up\, roll out\, and get ready for a magical winter night of skating and carnival fun!✨ Winter Carnival Skate — where every spin feels like a celebration! ✨
URL:https://www.unitedskates.com/wickliffe/event/winter-carnival-skate/
CATEGORIES:Family Events,Public Skates,Special Events
ATTACH;FMTTYPE=image/jpeg:https://unitedskates-assets.sfo3.digitaloceanspaces.com/wp-content/uploads/sites/12/2025/11/Winter-Carnival-2025-scaled.jpg
END:VEVENT
BEGIN:VEVENT
DTSTART;TZID=America/New_York:20260116T210000
DTEND;TZID=America/New_York:20260116T233000
DTSTAMP:20260419T235817
CREATED:20250805T200233Z
LAST-MODIFIED:20251127T021026Z
UID:21862-1768597200-1768606200@www.unitedskates.com
SUMMARY:Bounce and Roll Gospel Skate
DESCRIPTION:🙏🛼 Bounce and Roll Gospel Skate! 🛼🙏Bring the whole family for a joyful night of faith\, fun\, and fantastic skating — with a special twist for the little ones! \n🎶 Glide to uplifting gospel tunes all session long🛼 Skaters of all ages and skill levels welcome🎉 FREE Bounce House access with paid admission — because the fun doesn’t stop when you take off your skates!🍎 Family-friendly environment perfect for church groups\, families\, and friends \n📅 Friday\, January 16th🕒9:00pm-11:30pm🎟️ Admission: Admission $12.00 Skate Rental $6.00 \nCelebrate fellowship and fun on wheels — plus bounce and play to your heart’s content! \n📞 Call Amber at 440-944-5301 to reserve your spot and learn about special group rates and fundraiser options. \nBuy Tickets Here!
URL:https://www.unitedskates.com/wickliffe/event/bounce-and-roll-gospel-skate/
CATEGORIES:Family Events,Public Skates,Special Events
ATTACH;FMTTYPE=image/jpeg:https://unitedskates-assets.sfo3.digitaloceanspaces.com/wp-content/uploads/sites/12/2025/08/Bounce-and-Roll-Gospel-Skate.jpg
END:VEVENT
END:VCALENDAR