BEGIN:VCALENDAR
VERSION:2.0
PRODID:-//Rink 11 - Wickliffe - ECPv6.15.20//NONSGML v1.0//EN
CALSCALE:GREGORIAN
METHOD:PUBLISH
X-ORIGINAL-URL:https://www.unitedskates.com/wickliffe
X-WR-CALDESC:Events for Rink 11 - Wickliffe
REFRESH-INTERVAL;VALUE=DURATION:PT1H
X-Robots-Tag:noindex
X-PUBLISHED-TTL:PT1H
BEGIN:VTIMEZONE
TZID:America/New_York
BEGIN:DAYLIGHT
TZOFFSETFROM:-0500
TZOFFSETTO:-0400
TZNAME:EDT
DTSTART:20240310T070000
END:DAYLIGHT
BEGIN:STANDARD
TZOFFSETFROM:-0400
TZOFFSETTO:-0500
TZNAME:EST
DTSTART:20241103T060000
END:STANDARD
BEGIN:DAYLIGHT
TZOFFSETFROM:-0500
TZOFFSETTO:-0400
TZNAME:EDT
DTSTART:20250309T070000
END:DAYLIGHT
BEGIN:STANDARD
TZOFFSETFROM:-0400
TZOFFSETTO:-0500
TZNAME:EST
DTSTART:20251102T060000
END:STANDARD
BEGIN:DAYLIGHT
TZOFFSETFROM:-0500
TZOFFSETTO:-0400
TZNAME:EDT
DTSTART:20260308T070000
END:DAYLIGHT
BEGIN:STANDARD
TZOFFSETFROM:-0400
TZOFFSETTO:-0500
TZNAME:EST
DTSTART:20261101T060000
END:STANDARD
BEGIN:DAYLIGHT
TZOFFSETFROM:-0500
TZOFFSETTO:-0400
TZNAME:EDT
DTSTART:20270314T070000
END:DAYLIGHT
BEGIN:STANDARD
TZOFFSETFROM:-0400
TZOFFSETTO:-0500
TZNAME:EST
DTSTART:20271107T060000
END:STANDARD
END:VTIMEZONE
BEGIN:VEVENT
DTSTART;TZID=America/New_York:20251219T180000
DTEND;TZID=America/New_York:20260105T013000
DTSTAMP:20260420T063105
CREATED:20251202T024410Z
LAST-MODIFIED:20251202T024443Z
UID:22999-1766167200-1767576600@www.unitedskates.com
SUMMARY:Winter Break Skate Schedule — School’s Out\, Time to Roll!
DESCRIPTION:School’s out and the fun begins! Join us every day of Winter Break for themed skate sessions\, great music\, family events\, and special holiday celebrations. \nFrom Christmas Eve Skate to New Year’s Eve Parties\, we’ve got something for everyone. \nGet your tickets early and roll into the holiday fun! \nGET TICKETS HERE
URL:https://www.unitedskates.com/wickliffe/event/winter-break-skate-schedule-schools-out-time-to-roll/
CATEGORIES:Family Events,Public Skates,Special Events
ATTACH;FMTTYPE=image/jpeg:https://unitedskates-assets.sfo3.digitaloceanspaces.com/wp-content/uploads/sites/12/2025/12/Rink-11-Winter-Break-2025-18day-1.jpg
END:VEVENT
BEGIN:VEVENT
DTSTART;TZID=America/New_York:20260101T123000
DTEND;TZID=America/New_York:20260101T150000
DTSTAMP:20260420T063105
CREATED:20251030T211902Z
LAST-MODIFIED:20251105T210610Z
UID:22507-1767270600-1767279600@www.unitedskates.com
SUMMARY:Stitch’s Sno Cone Skate
DESCRIPTION:💙✨ STITCH IS BACK FOR MORE FUN! ✨💙 \nStart the new year with an out-of-this-world skate! Come see Stitch at the rink\, glide across the floor\, and enjoy a FREE sno cone with your paid admission — a sweet treat to make your day even more special! 🛸⛸️🍧 \n📅 Thursday\, January 1st🕛 12:30pm–3:00pm \n🎟️ Admission: $12.00🛼 Skate Rental: $6.00 \n🎉 Now booking groups\, daycares\, and more! Call 440-944-5301 to reserve your spot and make this skate session extra memorable. \nSkate\, snack\, and celebrate the new year with Stitch-sized fun! 💙💫 \nSecure your Spot Now! BUY HERE! \nBook your Birthday Party Now! Book Here!
URL:https://www.unitedskates.com/wickliffe/event/stitchs-sno-cone-skate/
CATEGORIES:Family Events,Public Skates,Special Events
ATTACH;FMTTYPE=image/jpeg:https://unitedskates-assets.sfo3.digitaloceanspaces.com/wp-content/uploads/sites/12/2025/10/Sno-cones-with-Stitch-2025-page-001-scaled.jpg
END:VEVENT
BEGIN:VEVENT
DTSTART;TZID=America/New_York:20260101T153000
DTEND;TZID=America/New_York:20260101T180000
DTSTAMP:20260420T063105
CREATED:20251030T203523Z
LAST-MODIFIED:20251104T215305Z
UID:22483-1767281400-1767290400@www.unitedskates.com
SUMMARY:Glow in the Dark Skate
DESCRIPTION:🌟🛼 LET’S GET THIS RINK GLOWING! 🛼🌟 \nWe need YOU to light up the rink! Join us for our Glow in the Dark Skates and skate under the neon lights for an unforgettable\, high-energy experience. Dress in your brightest\, most colorful outfits and shine from head to toe! ✨💡 \n📅 Glow Skate Dates: \n\n\nFriday\, December 26th \n\n\nMonday\, December 29th \n\n\nTuesday\, December 30th \n\n\nThursday\, January 1st \n\n\nFriday\, January 2nd🕞 3:30pm–6:00pm \n\n\n🎟️ Admission: $12.00🛼 Skate Rental: $6.00 \n💫 Don’t forget to stop by our stuff shop to grab all your glow accessories and get ready to shine bright on the rink! \nBring your friends\, your family\, and your glow game — it’s time to make the rink sparkle like never before! 🌈✨ \nGroup Rates Available! Call 440-944-5301 \nSecure your Spots Now! BUY HERE! \nBook your Birthday Party Now! Book Here!
URL:https://www.unitedskates.com/wickliffe/event/glow-in-the-dark-skate-3/2026-01-01/
CATEGORIES:Family Events,Public Skates,Special Events
ATTACH;FMTTYPE=image/png:https://unitedskates-assets.sfo3.digitaloceanspaces.com/wp-content/uploads/sites/12/2025/10/Winter-Break-Glow.png
END:VEVENT
BEGIN:VEVENT
DTSTART;TZID=America/New_York:20260101T183000
DTEND;TZID=America/New_York:20260101T210000
DTSTAMP:20260420T063105
CREATED:20251030T205419Z
LAST-MODIFIED:20251030T205419Z
UID:22731-1767292200-1767301200@www.unitedskates.com
SUMMARY:Free Dinner Night
DESCRIPTION:🍕⛸️ HOLIDAY BREAK FAMILY FUN & PIZZA NIGHT! ⛸️🍕 \nParents\, you deserve a break… from cooking! Let us handle dinner while you enjoy skating\, laughter\, and quality family time. Just bring your family and join us for a festive evening full of fun on wheels! 🎉✨ \n📅 Dates: \n\n\nTuesday\, December 30th \n\n\nThursday\, January 1st🕡 6:30pm–9:00pm \n\n\n🎟️ Only $15.99 – includes:🛼 Skate Rental🍕 A slice of pizza🥤 A drink \n🍽️ Pizza and drinks served: 7:00pm–8:30pm \nSkate\, eat\, and celebrate the holidays without the hassle of cooking. It’s the perfect way to make magical memories with your family this season! ❄️💛 \nSecure your Spots Now! BUY HERE! \nBook your Birthday Party Now! Book Here!
URL:https://www.unitedskates.com/wickliffe/event/free-dinner-night/2026-01-01/
CATEGORIES:Family Events,Public Skates,Special Events
ATTACH;FMTTYPE=image/png:https://unitedskates-assets.sfo3.digitaloceanspaces.com/wp-content/uploads/sites/12/2025/10/free-dinner-wb.png
END:VEVENT
END:VCALENDAR