BEGIN:VCALENDAR
VERSION:2.0
PRODID:-//Rink 11 - Wickliffe - ECPv6.15.20//NONSGML v1.0//EN
CALSCALE:GREGORIAN
METHOD:PUBLISH
X-WR-CALNAME:Rink 11 - Wickliffe
X-ORIGINAL-URL:https://www.unitedskates.com/wickliffe
X-WR-CALDESC:Events for Rink 11 - Wickliffe
REFRESH-INTERVAL;VALUE=DURATION:PT1H
X-Robots-Tag:noindex
X-PUBLISHED-TTL:PT1H
BEGIN:VTIMEZONE
TZID:America/New_York
BEGIN:DAYLIGHT
TZOFFSETFROM:-0500
TZOFFSETTO:-0400
TZNAME:EDT
DTSTART:20240310T070000
END:DAYLIGHT
BEGIN:STANDARD
TZOFFSETFROM:-0400
TZOFFSETTO:-0500
TZNAME:EST
DTSTART:20241103T060000
END:STANDARD
BEGIN:DAYLIGHT
TZOFFSETFROM:-0500
TZOFFSETTO:-0400
TZNAME:EDT
DTSTART:20250309T070000
END:DAYLIGHT
BEGIN:STANDARD
TZOFFSETFROM:-0400
TZOFFSETTO:-0500
TZNAME:EST
DTSTART:20251102T060000
END:STANDARD
BEGIN:DAYLIGHT
TZOFFSETFROM:-0500
TZOFFSETTO:-0400
TZNAME:EDT
DTSTART:20260308T070000
END:DAYLIGHT
BEGIN:STANDARD
TZOFFSETFROM:-0400
TZOFFSETTO:-0500
TZNAME:EST
DTSTART:20261101T060000
END:STANDARD
BEGIN:DAYLIGHT
TZOFFSETFROM:-0500
TZOFFSETTO:-0400
TZNAME:EDT
DTSTART:20270314T070000
END:DAYLIGHT
BEGIN:STANDARD
TZOFFSETFROM:-0400
TZOFFSETTO:-0500
TZNAME:EST
DTSTART:20271107T060000
END:STANDARD
END:VTIMEZONE
BEGIN:VEVENT
DTSTART;TZID=America/New_York:20251219T180000
DTEND;TZID=America/New_York:20260105T013000
DTSTAMP:20260421T012616
CREATED:20251202T024410Z
LAST-MODIFIED:20251202T024443Z
UID:22999-1766167200-1767576600@www.unitedskates.com
SUMMARY:Winter Break Skate Schedule — School’s Out\, Time to Roll!
DESCRIPTION:School’s out and the fun begins! Join us every day of Winter Break for themed skate sessions\, great music\, family events\, and special holiday celebrations. \nFrom Christmas Eve Skate to New Year’s Eve Parties\, we’ve got something for everyone. \nGet your tickets early and roll into the holiday fun! \nGET TICKETS HERE
URL:https://www.unitedskates.com/wickliffe/event/winter-break-skate-schedule-schools-out-time-to-roll/
CATEGORIES:Family Events,Public Skates,Special Events
ATTACH;FMTTYPE=image/jpeg:https://unitedskates-assets.sfo3.digitaloceanspaces.com/wp-content/uploads/sites/12/2025/12/Rink-11-Winter-Break-2025-18day-1.jpg
END:VEVENT
BEGIN:VEVENT
DTSTART;TZID=America/New_York:20251226T123000
DTEND;TZID=America/New_York:20251226T150000
DTSTAMP:20260421T012616
CREATED:20251030T203252Z
LAST-MODIFIED:20251104T214531Z
UID:22477-1766752200-1766761200@www.unitedskates.com
SUMMARY:☃️❄️ INDOOR SNOWBALL FIGHT WITH FROSTY! ❄️☃️
DESCRIPTION:Get ready for a chilly\, thrilling\, and frosty good time! Frosty is back at the rink for an afternoon of skating\, fun\, and a snowball fight you won’t want to miss! Glide\, laugh\, and get ready to toss some “snow” in this exciting holiday event. ⛸️✨ \n📅 Friday\, December 26th🕛 12:30pm–3:00pm❄️ Snowball Fight: 2:45pm–3:00pm \n🎟️ Admission: $12.00🛼 Skate Rental: $6.00 \n🎉 Now booking groups\, daycares\, and more! Call 440-944-5301 to reserve your spot and make this snowy adventure extra special. \nDon’t miss this frosty\, fun-filled afternoon of skating and holiday excitement! ⛄💙 \nSecure your Spots Now! BUY HERE! \nBook your Birthday Party!  Book Here!
URL:https://www.unitedskates.com/wickliffe/event/%e2%98%83%ef%b8%8f%e2%9d%84%ef%b8%8f-indoor-snowball-fight-with-frosty-%e2%9d%84%ef%b8%8f%e2%98%83%ef%b8%8f/
CATEGORIES:Family Events,Public Skates,Special Events
ATTACH;FMTTYPE=image/jpeg:https://unitedskates-assets.sfo3.digitaloceanspaces.com/wp-content/uploads/sites/12/2025/10/snow-ball-fight-2022-1200x1200-1.jpg
END:VEVENT
BEGIN:VEVENT
DTSTART;TZID=America/New_York:20251226T153000
DTEND;TZID=America/New_York:20251226T180000
DTSTAMP:20260421T012616
CREATED:20251030T203523Z
LAST-MODIFIED:20251104T215305Z
UID:22479-1766763000-1766772000@www.unitedskates.com
SUMMARY:Glow in the Dark Skate
DESCRIPTION:🌟🛼 LET’S GET THIS RINK GLOWING! 🛼🌟 \nWe need YOU to light up the rink! Join us for our Glow in the Dark Skates and skate under the neon lights for an unforgettable\, high-energy experience. Dress in your brightest\, most colorful outfits and shine from head to toe! ✨💡 \n📅 Glow Skate Dates: \n\n\nFriday\, December 26th \n\n\nMonday\, December 29th \n\n\nTuesday\, December 30th \n\n\nThursday\, January 1st \n\n\nFriday\, January 2nd🕞 3:30pm–6:00pm \n\n\n🎟️ Admission: $12.00🛼 Skate Rental: $6.00 \n💫 Don’t forget to stop by our stuff shop to grab all your glow accessories and get ready to shine bright on the rink! \nBring your friends\, your family\, and your glow game — it’s time to make the rink sparkle like never before! 🌈✨ \nGroup Rates Available! Call 440-944-5301 \nSecure your Spots Now! BUY HERE! \nBook your Birthday Party Now! Book Here!
URL:https://www.unitedskates.com/wickliffe/event/glow-in-the-dark-skate-3/2025-12-26/
CATEGORIES:Family Events,Public Skates,Special Events
ATTACH;FMTTYPE=image/png:https://unitedskates-assets.sfo3.digitaloceanspaces.com/wp-content/uploads/sites/12/2025/10/Winter-Break-Glow.png
END:VEVENT
BEGIN:VEVENT
DTSTART;TZID=America/New_York:20251226T183000
DTEND;TZID=America/New_York:20251226T210000
DTSTAMP:20260421T012616
CREATED:20251030T203828Z
LAST-MODIFIED:20251104T205518Z
UID:22485-1766773800-1766782800@www.unitedskates.com
SUMMARY:☃️❄️ SNOWMAN SHOWDOWN: FROSTY VS OLAF! ❄️☃️
DESCRIPTION:Get ready for the ultimate snowy face-off! For the first time ever\, Frosty and Olaf are taking over the rink and hosting an indoor snowball fight! Who will you cheer for? Team Frosty or Team Olaf? 🏆⛄ \n📅 Friday\, December 26th🕡 6:30pm–9:00pm❄️ Indoor Snowball Fight: 8:45pm–9:00pm \n🎟️ Admission: $13.00🛼 Skate Rental: $6.00 \nSkate\, laugh\, and join the holiday fun as these two beloved snowmen battle it out in a frosty\, action-packed finale! \n🎉 Want both Frosty AND Olaf to appear at your birthday? Book now and make it the coolest party ever! 🎂❄️ Book Here! \n  Save a $1.00! Buy your tickets online! BUY HERE!
URL:https://www.unitedskates.com/wickliffe/event/%e2%98%83%ef%b8%8f%e2%9d%84%ef%b8%8f-snowman-showdown-frosty-vs-olaf-%e2%9d%84%ef%b8%8f%e2%98%83%ef%b8%8f/
CATEGORIES:Family Events,Public Skates,Special Events
ATTACH;FMTTYPE=image/png:https://unitedskates-assets.sfo3.digitaloceanspaces.com/wp-content/uploads/sites/12/2025/10/Frosty-vs-Olaf-Indoor-Snowball-Fight.png
END:VEVENT
END:VCALENDAR