BEGIN:VCALENDAR
VERSION:2.0
PRODID:-//Rink 11 - Wickliffe - ECPv6.15.20//NONSGML v1.0//EN
CALSCALE:GREGORIAN
METHOD:PUBLISH
X-WR-CALNAME:Rink 11 - Wickliffe
X-ORIGINAL-URL:https://www.unitedskates.com/wickliffe
X-WR-CALDESC:Events for Rink 11 - Wickliffe
REFRESH-INTERVAL;VALUE=DURATION:PT1H
X-Robots-Tag:noindex
X-PUBLISHED-TTL:PT1H
BEGIN:VTIMEZONE
TZID:America/New_York
BEGIN:DAYLIGHT
TZOFFSETFROM:-0500
TZOFFSETTO:-0400
TZNAME:EDT
DTSTART:20240310T070000
END:DAYLIGHT
BEGIN:STANDARD
TZOFFSETFROM:-0400
TZOFFSETTO:-0500
TZNAME:EST
DTSTART:20241103T060000
END:STANDARD
BEGIN:DAYLIGHT
TZOFFSETFROM:-0500
TZOFFSETTO:-0400
TZNAME:EDT
DTSTART:20250309T070000
END:DAYLIGHT
BEGIN:STANDARD
TZOFFSETFROM:-0400
TZOFFSETTO:-0500
TZNAME:EST
DTSTART:20251102T060000
END:STANDARD
BEGIN:DAYLIGHT
TZOFFSETFROM:-0500
TZOFFSETTO:-0400
TZNAME:EDT
DTSTART:20260308T070000
END:DAYLIGHT
BEGIN:STANDARD
TZOFFSETFROM:-0400
TZOFFSETTO:-0500
TZNAME:EST
DTSTART:20261101T060000
END:STANDARD
BEGIN:DAYLIGHT
TZOFFSETFROM:-0500
TZOFFSETTO:-0400
TZNAME:EDT
DTSTART:20270314T070000
END:DAYLIGHT
BEGIN:STANDARD
TZOFFSETFROM:-0400
TZOFFSETTO:-0500
TZNAME:EST
DTSTART:20271107T060000
END:STANDARD
END:VTIMEZONE
BEGIN:VEVENT
DTSTART;TZID=America/New_York:20251219T180000
DTEND;TZID=America/New_York:20260105T013000
DTSTAMP:20260420T210312
CREATED:20251202T024410Z
LAST-MODIFIED:20251202T024443Z
UID:22999-1766167200-1767576600@www.unitedskates.com
SUMMARY:Winter Break Skate Schedule — School’s Out\, Time to Roll!
DESCRIPTION:School’s out and the fun begins! Join us every day of Winter Break for themed skate sessions\, great music\, family events\, and special holiday celebrations. \nFrom Christmas Eve Skate to New Year’s Eve Parties\, we’ve got something for everyone. \nGet your tickets early and roll into the holiday fun! \nGET TICKETS HERE
URL:https://www.unitedskates.com/wickliffe/event/winter-break-skate-schedule-schools-out-time-to-roll/
CATEGORIES:Family Events,Public Skates,Special Events
ATTACH;FMTTYPE=image/jpeg:https://unitedskates-assets.sfo3.digitaloceanspaces.com/wp-content/uploads/sites/12/2025/12/Rink-11-Winter-Break-2025-18day-1.jpg
END:VEVENT
BEGIN:VEVENT
DTSTART;TZID=America/New_York:20251221T120000
DTEND;TZID=America/New_York:20251221T143000
DTSTAMP:20260420T210312
CREATED:20251030T195332Z
LAST-MODIFIED:20251104T210119Z
UID:22455-1766318400-1766327400@www.unitedskates.com
SUMMARY:🎄🧝‍♂️ ELVES TAKEOVER AT THE RINK! 🧝‍♀️🎄
DESCRIPTION:The elves are on a mission to bring holiday cheer to the rink — and they want YOU to join them! Come dressed as your favorite elf and skate into a day full of festive fun! ✨⛸️ \n📅 Sunday\, December 21st🕛 12:00pm-2:30pm \n🎟️ Admission: $13.00🛼 Skate Rental: $6.00 \nGet ready for laughter\, music\, and holiday magic as the elves take over! 🎶🎄🎉 Want an elf at your birthday party? Book here and make it extra festive! 🧝‍♂️🎂  Book Here! \n  Save a $1.00! Buy your tickets online! BUY HERE!
URL:https://www.unitedskates.com/wickliffe/event/%f0%9f%8e%84%f0%9f%a7%9d%e2%99%82%ef%b8%8f-elves-takeover-at-the-rink-%f0%9f%a7%9d%e2%99%80%ef%b8%8f%f0%9f%8e%84/
CATEGORIES:Family Events,Public Skates,Special Events
ATTACH;FMTTYPE=image/png:https://unitedskates-assets.sfo3.digitaloceanspaces.com/wp-content/uploads/sites/12/2025/10/The-Holiday-Elves-Takeover-Roller-Skate.png
END:VEVENT
BEGIN:VEVENT
DTSTART;TZID=America/New_York:20251221T153000
DTEND;TZID=America/New_York:20251221T173000
DTSTAMP:20260420T210312
CREATED:20251030T195524Z
LAST-MODIFIED:20251104T210811Z
UID:22457-1766331000-1766338200@www.unitedskates.com
SUMMARY:Stitchmas
DESCRIPTION:💙✨ STITCH IS BLASTING IN FOR HOLIDAY CHEER! ✨💙 \nGet ready for an out-of-this-world skating adventure! Your favorite blue alien\, Stitch\, is landing at the rink to spread holiday cheer\, laughter\, and fun for the whole family. Skate to the music\, light up the rink with glowing lights\, and make unforgettable memories with Stitch himself! 🛸⛸️💫 \n📅 Sunday\, December 21st🕡 3:00pm-5:30pm \n🎟️ Admission: $13.00🛼 Skate Rental: $6.00 \nDon’t miss this chance to enjoy a magical holiday night filled with skating\, music\, and Stitch-sized fun! Bring your friends\, bring your family\, and get ready for an intergalactic glow party! 🌟 \n🎉 Want Stitch to blast into your birthday party? Book now and make it extra special! 🎂💙  Book Here! \n  Save a $1.00! Buy your tickets online! BUY HERE!
URL:https://www.unitedskates.com/wickliffe/event/stitchmas/
CATEGORIES:Family Events,Public Skates,Special Events
ATTACH;FMTTYPE=image/jpeg:https://unitedskates-assets.sfo3.digitaloceanspaces.com/wp-content/uploads/sites/12/2025/10/Merry-Stitchmas-Skate-2024-page-001-scaled.jpg
END:VEVENT
BEGIN:VEVENT
DTSTART;TZID=America/New_York:20251221T180000
DTEND;TZID=America/New_York:20251221T203000
DTSTAMP:20260420T210312
CREATED:20250805T183906Z
LAST-MODIFIED:20260403T203100Z
UID:23524-1766340000-1766349000@www.unitedskates.com
SUMMARY:Sunday Night/Birthday Parties
DESCRIPTION:Book your Birthday Party! Birthday Parties available from 6:00pm-8:30pm \nAdmission at the Door $14.00 \nAdmission Online $12.00 \nSkate Rental $6.00 \nFeaturing Pop and R&B Music Mix \nGet your Tickets Here! BUY HERE! \nAll 3–17-year-olds must pay admission and skate rental upon entering the facility.  Adults 18+ not skating may enter for free. All 12–17-year-olds must come into our facility with a parent or guardian that is 25 years or age or older. We are only allowing two (2) 12–17-year-olds per one parent or guardian 25 and over. The parent/guardian must stay with the teenager the entire time while in the facility. If the parent/guardian leaves the facility the teen must leave with parent/guardian. No drop off of teens or children into our facility is permitted. No drop off of teens or children to another parent into our facility is permitted. Teenagers 12-17 with their own skates are permitted without a parent if they skate the entire time. Teens asked to keep skates on repeatedly will be asked to leave with no refund.
URL:https://www.unitedskates.com/wickliffe/event/sunday-funday-birthday-parties-8/2025-12-21/
CATEGORIES:Family Events,Public Skates
ATTACH;FMTTYPE=image/jpeg:https://unitedskates-assets.sfo3.digitaloceanspaces.com/wp-content/uploads/sites/12/2025/08/Sunday-Nights-page-001-1-scaled.jpg
END:VEVENT
BEGIN:VEVENT
DTSTART;TZID=America/New_York:20251221T180000
DTEND;TZID=America/New_York:20251221T203000
DTSTAMP:20260420T210312
CREATED:20251030T195804Z
LAST-MODIFIED:20251205T194521Z
UID:22459-1766340000-1766349000@www.unitedskates.com
SUMMARY:💚🎄 THE GRINCH AND HIS DOG MAX SKATE! 🎄💚
DESCRIPTION:He’s baaaack — and he’s bringing Max with him for the most merry and mischievous skate night of the season! 🐾✨ \nJoin us on Sunday\, December 21st from 6:00pm–8:30pm for a night filled with holiday magic\, music\, and mayhem! The Grinch will be on the loose inside the rink — snapping photos\, goofing around\, and maybe even trying to steal a few skates (and hearts)! 💚 \n💲 Admission: $13.00 | Skate Rental: $6.00 \nDon’t miss your chance to meet The Grinch and his dog Max in person\, take fun photos\, and skate to your favorite festive tunes under the lights! 🎶🎅 \nThis is one of our most popular holiday events — it fills up fast every year — so grab your family\, your friends\, and your holiday spirit and join us for a night of laughter\, glowing lights\, and Grinchy good fun! \n💚✨ Don’t miss out — it’s going to be a night you’ll never forget! 🎄🛼 \nBook your Birthday Party Now!  Book Here! \n  Save a $1.00! Buy your tickets online! BUY HERE!
URL:https://www.unitedskates.com/wickliffe/event/%f0%9f%92%9a%f0%9f%8e%84-the-grinch-his-dog-max-skate-%f0%9f%8e%84%f0%9f%92%9a/
CATEGORIES:Family Events,Public Skates,Special Events
ATTACH;FMTTYPE=image/png:https://unitedskates-assets.sfo3.digitaloceanspaces.com/wp-content/uploads/sites/12/2025/10/The-Grinch-and-Max-Skate-.png
END:VEVENT
END:VCALENDAR