BEGIN:VCALENDAR
VERSION:2.0
PRODID:-//Rink 11 - Wickliffe - ECPv6.15.20//NONSGML v1.0//EN
CALSCALE:GREGORIAN
METHOD:PUBLISH
X-ORIGINAL-URL:https://www.unitedskates.com/wickliffe
X-WR-CALDESC:Events for Rink 11 - Wickliffe
REFRESH-INTERVAL;VALUE=DURATION:PT1H
X-Robots-Tag:noindex
X-PUBLISHED-TTL:PT1H
BEGIN:VTIMEZONE
TZID:America/New_York
BEGIN:DAYLIGHT
TZOFFSETFROM:-0500
TZOFFSETTO:-0400
TZNAME:EDT
DTSTART:20240310T070000
END:DAYLIGHT
BEGIN:STANDARD
TZOFFSETFROM:-0400
TZOFFSETTO:-0500
TZNAME:EST
DTSTART:20241103T060000
END:STANDARD
BEGIN:DAYLIGHT
TZOFFSETFROM:-0500
TZOFFSETTO:-0400
TZNAME:EDT
DTSTART:20250309T070000
END:DAYLIGHT
BEGIN:STANDARD
TZOFFSETFROM:-0400
TZOFFSETTO:-0500
TZNAME:EST
DTSTART:20251102T060000
END:STANDARD
BEGIN:DAYLIGHT
TZOFFSETFROM:-0500
TZOFFSETTO:-0400
TZNAME:EDT
DTSTART:20260308T070000
END:DAYLIGHT
BEGIN:STANDARD
TZOFFSETFROM:-0400
TZOFFSETTO:-0500
TZNAME:EST
DTSTART:20261101T060000
END:STANDARD
BEGIN:DAYLIGHT
TZOFFSETFROM:-0500
TZOFFSETTO:-0400
TZNAME:EDT
DTSTART:20270314T070000
END:DAYLIGHT
BEGIN:STANDARD
TZOFFSETFROM:-0400
TZOFFSETTO:-0500
TZNAME:EST
DTSTART:20271107T060000
END:STANDARD
END:VTIMEZONE
BEGIN:VEVENT
DTSTART;TZID=America/New_York:20251219T180000
DTEND;TZID=America/New_York:20260105T013000
DTSTAMP:20260420T223633
CREATED:20251202T024410Z
LAST-MODIFIED:20251202T024443Z
UID:22999-1766167200-1767576600@www.unitedskates.com
SUMMARY:Winter Break Skate Schedule — School’s Out\, Time to Roll!
DESCRIPTION:School’s out and the fun begins! Join us every day of Winter Break for themed skate sessions\, great music\, family events\, and special holiday celebrations. \nFrom Christmas Eve Skate to New Year’s Eve Parties\, we’ve got something for everyone. \nGet your tickets early and roll into the holiday fun! \nGET TICKETS HERE
URL:https://www.unitedskates.com/wickliffe/event/winter-break-skate-schedule-schools-out-time-to-roll/
CATEGORIES:Family Events,Public Skates,Special Events
ATTACH;FMTTYPE=image/jpeg:https://unitedskates-assets.sfo3.digitaloceanspaces.com/wp-content/uploads/sites/12/2025/12/Rink-11-Winter-Break-2025-18day-1.jpg
END:VEVENT
BEGIN:VEVENT
DTSTART;TZID=America/New_York:20251220T103000
DTEND;TZID=America/New_York:20251220T123000
DTSTAMP:20260420T223633
CREATED:20250812T135721Z
LAST-MODIFIED:20260201T221856Z
UID:21977-1766226600-1766233800@www.unitedskates.com
SUMMARY:Saturday Morning Skate
DESCRIPTION:🛼✨ Saturday Mornings = Skate Time! ✨🛼 \nJoin us every Saturday morning from 10:30am – 12:30pm for 2 hours of music\, fun\, and wheels! 🎶🎉 \n💙 FREE Skate Mates are available\, so beginners can roll with confidence!Perfect for families\, friends\, and anyone ready to start the weekend off right. \n🎟️ Admission: $11.00👟 Skate Rental: $6.00 \n📅 Every Saturday🕥 10:30am – 12:30pm \nLet’s roll into the weekend together! 🙌 \nSave a $1.00! Buy your Tickets Here!
URL:https://www.unitedskates.com/wickliffe/event/saturday-morning-skate-2/2025-12-20/
CATEGORIES:Family Events,Public Skates
ATTACH;FMTTYPE=image/jpeg:https://unitedskates-assets.sfo3.digitaloceanspaces.com/wp-content/uploads/sites/12/2025/08/Sat-Morning-Skate-page-001-2-scaled.jpg
END:VEVENT
BEGIN:VEVENT
DTSTART;TZID=America/New_York:20251220T123000
DTEND;TZID=America/New_York:20251220T150000
DTSTAMP:20260420T223633
CREATED:20251030T192211Z
LAST-MODIFIED:20251104T205002Z
UID:22397-1766233800-1766242800@www.unitedskates.com
SUMMARY:☃️💙 FROSTY’S GLOW ROLL! 💙☃️
DESCRIPTION:Get ready to glow and roll into winter fun with everyone’s favorite snowman — Frosty! ❄️✨ \nJoin us for a magical day of skating\, glowing lights\, and frosty fun the whole family will love! Dance\, skate\, and shine bright under the lights while Frosty spreads winter cheer all around the rink. ⛸️💫 \n📅 Saturday\, December 20th🕛 12:30pm–3:00pm & 4:00pm–6:30pm \n🎟️ Admission: $13.00🛼 Skate Rental: $6.00💡 FREE Glow Stick with paid admission! \nDon’t miss this cool holiday event — perfect for families and friends looking to make magical memories this season! 💙☃️🎉 Want to make it extra special? Have Frosty roll into your birthday party!  Book Here! \n  Save a $1.00! Buy your tickets online! BUY HERE!
URL:https://www.unitedskates.com/wickliffe/event/%e2%98%83%ef%b8%8f%f0%9f%92%99-frostys-glow-roll-%f0%9f%92%99%e2%98%83%ef%b8%8f/2025-12-20/
CATEGORIES:Family Events,Public Skates,Special Events
ATTACH;FMTTYPE=image/png:https://unitedskates-assets.sfo3.digitaloceanspaces.com/wp-content/uploads/sites/12/2025/10/Frosty-the-Snowman-Glow-Roll.png
END:VEVENT
BEGIN:VEVENT
DTSTART;TZID=America/New_York:20251220T160000
DTEND;TZID=America/New_York:20251220T183000
DTSTAMP:20260420T223633
CREATED:20241022T215909Z
LAST-MODIFIED:20260401T192739Z
UID:23397-1766246400-1766255400@www.unitedskates.com
SUMMARY:Family Skate/Birthday Parties
DESCRIPTION:Book your Birthday Party! Birthday Parties available from 4:00pm-6:30pm \nAdmission at the door $14.00 \nAdmission Online $12.00 \nSkate Rental $6.00 \nFeaturing Pop and R&B Music Mix \nBuy your Tickets Online! BUY HERE! \nAll 3–17-year-olds must pay admission and skate rental upon entering the facility.  Adults 18+ not skating may enter for free. All 12–17-year-olds must come into our facility with a parent or guardian that is 25 years or age or older. We are only allowing two (2) 12–17-year-olds per one parent or guardian 25 and over. The parent/guardian must stay with the teenager the entire time while in the facility. If the parent/guardian leaves the facility the teen must leave with parent/guardian. No drop off of teens or children into our facility is permitted. No drop off of teens or children to another parent into our facility is permitted. Teenagers 12-17 with their own skates are permitted without a parent if they skate the entire time. Teens asked to keep skates on repeatedly will be asked to leave with no refund.
URL:https://www.unitedskates.com/wickliffe/event/family-skate-birthday-parties-21/2025-12-20/
CATEGORIES:Family Events,Public Skates
ATTACH;FMTTYPE=image/jpeg:https://unitedskates-assets.sfo3.digitaloceanspaces.com/wp-content/uploads/sites/12/2023/07/800px-Family-Skate-1200x900-1.jpg
END:VEVENT
BEGIN:VEVENT
DTSTART;TZID=America/New_York:20251220T160000
DTEND;TZID=America/New_York:20251220T183000
DTSTAMP:20260420T223633
CREATED:20251030T192211Z
LAST-MODIFIED:20251104T205002Z
UID:22399-1766246400-1766255400@www.unitedskates.com
SUMMARY:☃️💙 FROSTY’S GLOW ROLL! 💙☃️
DESCRIPTION:Get ready to glow and roll into winter fun with everyone’s favorite snowman — Frosty! ❄️✨ \nJoin us for a magical day of skating\, glowing lights\, and frosty fun the whole family will love! Dance\, skate\, and shine bright under the lights while Frosty spreads winter cheer all around the rink. ⛸️💫 \n📅 Saturday\, December 20th🕛 12:30pm–3:00pm & 4:00pm–6:30pm \n🎟️ Admission: $13.00🛼 Skate Rental: $6.00💡 FREE Glow Stick with paid admission! \nDon’t miss this cool holiday event — perfect for families and friends looking to make magical memories this season! 💙☃️🎉 Want to make it extra special? Have Frosty roll into your birthday party!  Book Here! \n  Save a $1.00! Buy your tickets online! BUY HERE!
URL:https://www.unitedskates.com/wickliffe/event/%e2%98%83%ef%b8%8f%f0%9f%92%99-frostys-glow-roll-%f0%9f%92%99%e2%98%83%ef%b8%8f/2025-12-20/2/
CATEGORIES:Family Events,Public Skates,Special Events
ATTACH;FMTTYPE=image/png:https://unitedskates-assets.sfo3.digitaloceanspaces.com/wp-content/uploads/sites/12/2025/10/Frosty-the-Snowman-Glow-Roll.png
END:VEVENT
BEGIN:VEVENT
DTSTART;TZID=America/New_York:20251220T193000
DTEND;TZID=America/New_York:20251220T220000
DTSTAMP:20260420T223633
CREATED:20250805T182845Z
LAST-MODIFIED:20260401T193640Z
UID:21594-1766259000-1766268000@www.unitedskates.com
SUMMARY:Saturday Night Skate
DESCRIPTION:It’s Saturday night\, and that means it’s time to hit the skate floor! \nJoin us every Saturday from 7:30pm-10:00pm for an incredible night of skating fun! \nAdmission at the door $15.00 \nAdmission Online $13.00 \nSkate Rental $6.00 \nWhether you’re planning a date night\, a family outing\, or a fun evening with friends\, there’s something for everyone to enjoy. \nExperience the excitement of gliding on wheels\, meet new people\, and create lasting memories. \nEnjoy the best of R&B and Hip-Hop music all session \nDon’t miss out on the best way to spend your Saturday night! \nBuy your tickets Now! BUY HERE! \nAll 3–17-year-olds must pay admission and skate rental upon entering the facility. Adults 18+ not skating may enter for free. All 12–17-year-olds must come into our facility with a parent or guardian that is 25 years or age or older. We are only allowing two (2) 12–17-year-olds per one parent or guardian 25 and over. The parent/guardian must stay with the teenager the entire time while in the facility. If the parent/guardian leaves the facility the teen must leave with parent/guardian. No drop off of teens or children into our facility is permitted. No drop off of teens or children to another parent into our facility is permitted. Teenagers 12-17 with their own skates are permitted without a parent if they skate the entire time. Teens asked to keep skates on repeatedly will be asked to leave with no refund
URL:https://www.unitedskates.com/wickliffe/event/saturday-night-skate/2025-12-20/
CATEGORIES:Family Events,Public Skates
ATTACH;FMTTYPE=image/jpeg:https://unitedskates-assets.sfo3.digitaloceanspaces.com/wp-content/uploads/sites/12/2025/08/Saturday-Night-Skate-Night-v-4-scaled.jpg
END:VEVENT
END:VCALENDAR