BEGIN:VCALENDAR
VERSION:2.0
PRODID:-//Rink 11 - Wickliffe - ECPv6.15.20//NONSGML v1.0//EN
CALSCALE:GREGORIAN
METHOD:PUBLISH
X-ORIGINAL-URL:https://www.unitedskates.com/wickliffe
X-WR-CALDESC:Events for Rink 11 - Wickliffe
REFRESH-INTERVAL;VALUE=DURATION:PT1H
X-Robots-Tag:noindex
X-PUBLISHED-TTL:PT1H
BEGIN:VTIMEZONE
TZID:America/New_York
BEGIN:DAYLIGHT
TZOFFSETFROM:-0500
TZOFFSETTO:-0400
TZNAME:EDT
DTSTART:20240310T070000
END:DAYLIGHT
BEGIN:STANDARD
TZOFFSETFROM:-0400
TZOFFSETTO:-0500
TZNAME:EST
DTSTART:20241103T060000
END:STANDARD
BEGIN:DAYLIGHT
TZOFFSETFROM:-0500
TZOFFSETTO:-0400
TZNAME:EDT
DTSTART:20250309T070000
END:DAYLIGHT
BEGIN:STANDARD
TZOFFSETFROM:-0400
TZOFFSETTO:-0500
TZNAME:EST
DTSTART:20251102T060000
END:STANDARD
BEGIN:DAYLIGHT
TZOFFSETFROM:-0500
TZOFFSETTO:-0400
TZNAME:EDT
DTSTART:20260308T070000
END:DAYLIGHT
BEGIN:STANDARD
TZOFFSETFROM:-0400
TZOFFSETTO:-0500
TZNAME:EST
DTSTART:20261101T060000
END:STANDARD
END:VTIMEZONE
BEGIN:VEVENT
DTSTART;TZID=America/New_York:20251126T123000
DTEND;TZID=America/New_York:20251201T230000
DTSTAMP:20260420T223652
CREATED:20251022T175854Z
LAST-MODIFIED:20251022T175854Z
UID:22360-1764160200-1764630000@www.unitedskates.com
SUMMARY:🦃 Thanksgiving Break Skating Week at United Skates Wickliffe!
DESCRIPTION:School’s Out — Let’s Roll! \nThanksgiving Break just got a whole lot more exciting! From Wednesday\, November 26th through Monday\, December 1st\, \nthe rink is packed with holiday-themed sessions\, special guests\, and non-stop skating fun for the whole family. \nWhether you’re coming for the food\, the music\, or the memories\, there’s something for everyone to enjoy! \n\nHere’s What’s Happening All Week: \n🛼 Wednesday\, November 26 \n\n\nPublic Skate: 12:30PM–3:00PM — $10 Admission \n\n\nThanksgiving with Stitch: 5:30PM–8:00PM — $12 Admission \n\n\nThanksgiving Eve Adult Skate (18+): 9:00PM–1:00AM — $13 Admission \n\n\n🍕 Thursday\, November 27 – Thanksgiving Night Skate \n\n\n7:00PM–10:00PM — $12 AdmissionEnjoy a relaxed night on wheels after the turkey! Try our incredible pizza and ICEE specials. \n\n\n🎅 Friday\, November 28 – Black Friday Fun! \n\n\nPublic Skate: 12:00PM–2:30PM & 3:00PM–5:30PM — $10 Admission \n\n\nSanta’s Holiday Kickoff: 6:30PM–9:30PM — $13 AdmissionMeet Santa from 7:00PM–9:00PM and take photos while skating to your favorite holiday jams! \n\n\n⛄ Saturday\, November 29 – Family Skate Saturday \n\n\nSaturday Morning Skate: 10:30AM–12:30PM — $10 Admission \n\n\nOlaf Sno-Cone Skate: 12:30PM–3:00PM — $13 Admission (includes a free sno-cone!) \n\n\nFamily Skate: 4:00PM–6:30PM — $13 Admission \n\n\nSaturday Night: 7:30PM–10:30PM — $14 Admission \n\n\n🎄 Sunday\, November 30 – Holiday Family Day \n\n\nGrinch’s Indoor Snowball Fight: 12:00PM–2:30PM — $13 Admission (Snowball fight at 2:00PM!) \n\n\nFamily Skates: 3:00PM–5:30PM & 6:00PM–8:30PM — $13 Admission \n\n\nSunday Night Adult Skate (18+): 9:30PM–1:30AM — $12 Admission \n\n\n✨ Monday\, December 1 – Keep the Fun Going! \n\n\nPublic Skate: 12:30PM–3:00PM — $10 Admission \n\n\nOld School Adult Night (25+): 7:00PM–11:00PM — $12 Admission
URL:https://www.unitedskates.com/wickliffe/event/%f0%9f%a6%83-thanksgiving-break-skating-week-at-united-skates-wickliffe/
CATEGORIES:Family Events,Public Skates,Special Events
ATTACH;FMTTYPE=image/jpeg:https://unitedskates-assets.sfo3.digitaloceanspaces.com/wp-content/uploads/sites/12/2025/10/11-Thanksgiving-Break-Roller-Skate-2025-8.5-x-11-in.jpg
END:VEVENT
BEGIN:VEVENT
DTSTART;TZID=America/New_York:20251129T103000
DTEND;TZID=America/New_York:20251129T123000
DTSTAMP:20260420T223652
CREATED:20250812T135721Z
LAST-MODIFIED:20260201T221855Z
UID:21974-1764412200-1764419400@www.unitedskates.com
SUMMARY:Saturday Morning Skate
DESCRIPTION:🛼✨ Saturday Mornings = Skate Time! ✨🛼 \nJoin us every Saturday morning from 10:30am – 12:30pm for 2 hours of music\, fun\, and wheels! 🎶🎉 \n💙 FREE Skate Mates are available\, so beginners can roll with confidence!Perfect for families\, friends\, and anyone ready to start the weekend off right. \n🎟️ Admission: $11.00👟 Skate Rental: $6.00 \n📅 Every Saturday🕥 10:30am – 12:30pm \nLet’s roll into the weekend together! 🙌 \nSave a $1.00! Buy your Tickets Here!
URL:https://www.unitedskates.com/wickliffe/event/saturday-morning-skate-2/2025-11-29/
CATEGORIES:Family Events,Public Skates
ATTACH;FMTTYPE=image/jpeg:https://unitedskates-assets.sfo3.digitaloceanspaces.com/wp-content/uploads/sites/12/2025/08/Sat-Morning-Skate-page-001-2-scaled.jpg
END:VEVENT
BEGIN:VEVENT
DTSTART;TZID=America/New_York:20251129T123000
DTEND;TZID=America/New_York:20251129T150000
DTSTAMP:20260420T223652
CREATED:20251001T144458Z
LAST-MODIFIED:20251001T173330Z
UID:22306-1764419400-1764428400@www.unitedskates.com
SUMMARY:🍧☃️Olaf's Sno Cone Skate🍧☃️
DESCRIPTION:☃️❄️ Let It Glow\, Let It Glow… Olaf is Back! ❄️☃️It’s time for him to shine once again! Come meet your friendliest and funniest snowman\, OLAF\, for a day full of skating fun and smiles at United Skates of America! \n🗓 Saturday\, November 29th🕧 12:30pm – 3:00pm🎟 Admission: $13 | Skate Rental: $6 \n✨ Special Treats & Fun:🍧 Olaf is bringing a sweet surprise – a SNO CONE! Get one FREE with every paid admission.💻 Save $1 when you buy your tickets online – guarantee your spot on the rink! BUY HERE!🎂 Birthday coming up? Book Olaf for your party and make it an unforgettable celebration! BOOK HERE! \nSkate\, laugh\, and enjoy the magic of the season with Olaf – fun\, treats\, and memories await! 🛼❄️✨
URL:https://www.unitedskates.com/wickliffe/event/%f0%9f%8d%a7%e2%98%83%ef%b8%8folafs-sno-cone-skate%f0%9f%8d%a7%e2%98%83%ef%b8%8f/
CATEGORIES:Family Events,Public Skates,Special Events
ATTACH;FMTTYPE=image/png:https://unitedskates-assets.sfo3.digitaloceanspaces.com/wp-content/uploads/sites/12/2025/10/Olaf-Sno-Cone-Skate-.png
END:VEVENT
BEGIN:VEVENT
DTSTART;TZID=America/New_York:20251129T160000
DTEND;TZID=America/New_York:20251129T183000
DTSTAMP:20260420T223652
CREATED:20241022T215909Z
LAST-MODIFIED:20260401T192738Z
UID:22161-1764432000-1764441000@www.unitedskates.com
SUMMARY:Family Skate/Birthday Parties
DESCRIPTION:Book your Birthday Party! Birthday Parties available from 4:00pm-6:30pm \nAdmission at the door $14.00 \nAdmission Online $12.00 \nSkate Rental $6.00 \nFeaturing Pop and R&B Music Mix \nBuy your Tickets Online! BUY HERE! \nAll 3–17-year-olds must pay admission and skate rental upon entering the facility.  Adults 18+ not skating may enter for free. All 12–17-year-olds must come into our facility with a parent or guardian that is 25 years or age or older. We are only allowing two (2) 12–17-year-olds per one parent or guardian 25 and over. The parent/guardian must stay with the teenager the entire time while in the facility. If the parent/guardian leaves the facility the teen must leave with parent/guardian. No drop off of teens or children into our facility is permitted. No drop off of teens or children to another parent into our facility is permitted. Teenagers 12-17 with their own skates are permitted without a parent if they skate the entire time. Teens asked to keep skates on repeatedly will be asked to leave with no refund.
URL:https://www.unitedskates.com/wickliffe/event/family-skate-birthday-parties-21/2025-11-29/
CATEGORIES:Family Events,Public Skates
ATTACH;FMTTYPE=image/jpeg:https://unitedskates-assets.sfo3.digitaloceanspaces.com/wp-content/uploads/sites/12/2023/07/800px-Family-Skate-1200x900-1.jpg
END:VEVENT
BEGIN:VEVENT
DTSTART;TZID=America/New_York:20251129T193000
DTEND;TZID=America/New_York:20251129T220000
DTSTAMP:20260420T223652
CREATED:20250805T182845Z
LAST-MODIFIED:20260401T193639Z
UID:21591-1764444600-1764453600@www.unitedskates.com
SUMMARY:Saturday Night Skate
DESCRIPTION:It’s Saturday night\, and that means it’s time to hit the skate floor! \nJoin us every Saturday from 7:30pm-10:00pm for an incredible night of skating fun! \nAdmission at the door $15.00 \nAdmission Online $13.00 \nSkate Rental $6.00 \nWhether you’re planning a date night\, a family outing\, or a fun evening with friends\, there’s something for everyone to enjoy. \nExperience the excitement of gliding on wheels\, meet new people\, and create lasting memories. \nEnjoy the best of R&B and Hip-Hop music all session \nDon’t miss out on the best way to spend your Saturday night! \nBuy your tickets Now! BUY HERE! \nAll 3–17-year-olds must pay admission and skate rental upon entering the facility. Adults 18+ not skating may enter for free. All 12–17-year-olds must come into our facility with a parent or guardian that is 25 years or age or older. We are only allowing two (2) 12–17-year-olds per one parent or guardian 25 and over. The parent/guardian must stay with the teenager the entire time while in the facility. If the parent/guardian leaves the facility the teen must leave with parent/guardian. No drop off of teens or children into our facility is permitted. No drop off of teens or children to another parent into our facility is permitted. Teenagers 12-17 with their own skates are permitted without a parent if they skate the entire time. Teens asked to keep skates on repeatedly will be asked to leave with no refund
URL:https://www.unitedskates.com/wickliffe/event/saturday-night-skate/2025-11-29/
CATEGORIES:Family Events,Public Skates
ATTACH;FMTTYPE=image/jpeg:https://unitedskates-assets.sfo3.digitaloceanspaces.com/wp-content/uploads/sites/12/2025/08/Saturday-Night-Skate-Night-v-4-scaled.jpg
END:VEVENT
END:VCALENDAR