BEGIN:VCALENDAR
VERSION:2.0
PRODID:-//Rink 11 - Wickliffe - ECPv6.15.20//NONSGML v1.0//EN
CALSCALE:GREGORIAN
METHOD:PUBLISH
X-WR-CALNAME:Rink 11 - Wickliffe
X-ORIGINAL-URL:https://www.unitedskates.com/wickliffe
X-WR-CALDESC:Events for Rink 11 - Wickliffe
REFRESH-INTERVAL;VALUE=DURATION:PT1H
X-Robots-Tag:noindex
X-PUBLISHED-TTL:PT1H
BEGIN:VTIMEZONE
TZID:America/New_York
BEGIN:DAYLIGHT
TZOFFSETFROM:-0500
TZOFFSETTO:-0400
TZNAME:EDT
DTSTART:20240310T070000
END:DAYLIGHT
BEGIN:STANDARD
TZOFFSETFROM:-0400
TZOFFSETTO:-0500
TZNAME:EST
DTSTART:20241103T060000
END:STANDARD
BEGIN:DAYLIGHT
TZOFFSETFROM:-0500
TZOFFSETTO:-0400
TZNAME:EDT
DTSTART:20250309T070000
END:DAYLIGHT
BEGIN:STANDARD
TZOFFSETFROM:-0400
TZOFFSETTO:-0500
TZNAME:EST
DTSTART:20251102T060000
END:STANDARD
BEGIN:DAYLIGHT
TZOFFSETFROM:-0500
TZOFFSETTO:-0400
TZNAME:EDT
DTSTART:20260308T070000
END:DAYLIGHT
BEGIN:STANDARD
TZOFFSETFROM:-0400
TZOFFSETTO:-0500
TZNAME:EST
DTSTART:20261101T060000
END:STANDARD
END:VTIMEZONE
BEGIN:VEVENT
DTSTART;TZID=America/New_York:20251017T183000
DTEND;TZID=America/New_York:20251017T210000
DTSTAMP:20260421T084405
CREATED:20250820T194905Z
LAST-MODIFIED:20250823T235503Z
UID:22068-1760725800-1760734800@www.unitedskates.com
SUMMARY:Pennywise's Carnival Skate
DESCRIPTION:🎪🎃 Step Right Up… If You Dare! 🎃🎪For the FIRST TIME EVER\, the spookiest host of them all—PENNYWISE 🤡—is bringing his very own Halloween Carnival to the rink! \n🗓 Friday\, October 17th⏰ 6:30pm–9:00pm💵 Admission: $13.00 | Skate Rental: $6.00 \n✨ What’s waiting for you:🎃 Halloween-Themed Carnival Games🎁 Spooky Prizes & Surprises🖌 Bonus: Face Painter from 6:30pm–8:30pm – transform into your favorite scary clown or character!🛼 Skating\, screams\, and chills all night long \n🎉 Birthday Parties Available—BOOK NOW before they float away! Book Here! \nDon’t miss Penny Wise’s one-of-a-kind carnival… you’ll float too! \nSave a $1.00 when you buy online. BUY HERE!
URL:https://www.unitedskates.com/wickliffe/event/pennywises-carnival-skate/
CATEGORIES:Family Events,Public Skates,Special Events
ATTACH;FMTTYPE=image/jpeg:https://unitedskates-assets.sfo3.digitaloceanspaces.com/wp-content/uploads/sites/12/2025/08/Pennywise-Carnival-2.jpg
END:VEVENT
BEGIN:VEVENT
DTSTART;TZID=America/New_York:20251017T213000
DTEND;TZID=America/New_York:20251018T000000
DTSTAMP:20260421T084405
CREATED:20250805T194021Z
LAST-MODIFIED:20250824T223645Z
UID:21846-1760736600-1760745600@www.unitedskates.com
SUMMARY:EDM Adult Skate
DESCRIPTION:🎧✨ EDM Adult Skate Night ✨🎧Feel the Beat. Own the Rink.18+ ONLY with Valid ID \nLights down. Volume up. Wheels on.Get ready to skate under the glow of lasers and strobes at the ultimate EDM-fueled night on the rink! \n🛼 Skate to high-energy sets featuring the hottest EDM tracks:🔥 House • Techno • Trap • Future Bass • Dubstep🎶 Featuring bangers from artists like Calvin Harris\, Skrillex\, Zedd\, Deadmau5\, Illenium\, Tiësto\, and more! \n✨ Full light show & blacklight experience🎧 Live DJ mixing tracks all night long🎉 Glow gear\, neon vibes\, and dance breaks ON SKATES🎟️ 18+ ONLY — Valid ID Required \n📅 Friday\, October 17th 🕘9:30pm-12:00am💲 Admission $12.00 Skate Rental $6.00 \nLet the bass drop and your skates roll — this is where the rave meets the rink.Glow up\, show out\, and feel the energy all night long. 🌈🛼💃
URL:https://www.unitedskates.com/wickliffe/event/edm-adult-skate/
CATEGORIES:Adult Events,Public Skates,Special Events
ATTACH;FMTTYPE=image/png:https://unitedskates-assets.sfo3.digitaloceanspaces.com/wp-content/uploads/sites/12/2025/08/EDM-Adult-Night-.png
END:VEVENT
END:VCALENDAR