BEGIN:VCALENDAR
VERSION:2.0
PRODID:-//Rink 11 - Wickliffe - ECPv6.15.20//NONSGML v1.0//EN
CALSCALE:GREGORIAN
METHOD:PUBLISH
X-ORIGINAL-URL:https://www.unitedskates.com/wickliffe
X-WR-CALDESC:Events for Rink 11 - Wickliffe
REFRESH-INTERVAL;VALUE=DURATION:PT1H
X-Robots-Tag:noindex
X-PUBLISHED-TTL:PT1H
BEGIN:VTIMEZONE
TZID:America/New_York
BEGIN:DAYLIGHT
TZOFFSETFROM:-0500
TZOFFSETTO:-0400
TZNAME:EDT
DTSTART:20240310T070000
END:DAYLIGHT
BEGIN:STANDARD
TZOFFSETFROM:-0400
TZOFFSETTO:-0500
TZNAME:EST
DTSTART:20241103T060000
END:STANDARD
BEGIN:DAYLIGHT
TZOFFSETFROM:-0500
TZOFFSETTO:-0400
TZNAME:EDT
DTSTART:20250309T070000
END:DAYLIGHT
BEGIN:STANDARD
TZOFFSETFROM:-0400
TZOFFSETTO:-0500
TZNAME:EST
DTSTART:20251102T060000
END:STANDARD
BEGIN:DAYLIGHT
TZOFFSETFROM:-0500
TZOFFSETTO:-0400
TZNAME:EDT
DTSTART:20260308T070000
END:DAYLIGHT
BEGIN:STANDARD
TZOFFSETFROM:-0400
TZOFFSETTO:-0500
TZNAME:EST
DTSTART:20261101T060000
END:STANDARD
END:VTIMEZONE
BEGIN:VEVENT
DTSTART;TZID=America/New_York:20251010T123000
DTEND;TZID=America/New_York:20251010T153000
DTSTAMP:20260421T031443
CREATED:20250820T192126Z
LAST-MODIFIED:20250923T191506Z
UID:22058-1760099400-1760110200@www.unitedskates.com
SUMMARY:🔥🎶 KPOP DEMON HUNTERS SING-ALONG EVENT! 🎶🔥
DESCRIPTION:No school? No problem! Come spend the afternoon skating\, singing\, and showing off your best cosplay at the rink! 🛼✨ \n📅 Friday\, October 10th🕧 12:30pm – 3:30pm🎭 Anime Cosplay Contest – dress as your favorite character & win prizes!🎤 KPOP Sing-Along – belt out hits from Huntr/x and Saja Boys with fellow fans! \n💲 Admission $12.00 Skate Rental $6.00👯‍♀️ Group rates available – perfect for friends\, clubs & schools! \n📞 Call 440-944-5301 to reserve your group today! \nDon’t miss this one-of-a-kind KPOP Demon Hunter experience – music\, skating\, cosplay\, and fun all in one place! 🎶👹💫 \nBuy your tickets Now! Buy Here!
URL:https://www.unitedskates.com/wickliffe/event/schools-out-skate-4/
CATEGORIES:Family Events,Public Skates,Special Events
ATTACH;FMTTYPE=image/png:https://unitedskates-assets.sfo3.digitaloceanspaces.com/wp-content/uploads/sites/12/2025/08/v3-K-Pop-Demon-Hunters-2025-2.png
END:VEVENT
BEGIN:VEVENT
DTSTART;TZID=America/New_York:20251010T160000
DTEND;TZID=America/New_York:20251010T180000
DTSTAMP:20260421T031443
CREATED:20250805T184906Z
LAST-MODIFIED:20260216T200234Z
UID:21727-1760112000-1760119200@www.unitedskates.com
SUMMARY:$8.00 Fridays
DESCRIPTION:🎉 Kick Off Your Weekend Right! 🎉$8.00 Fridays Are Here! 🛼💥 \nWhy wait for the weekend to get exciting? Start the fun early with $8.00 admission every Friday!Skate\, vibe\, and make memories without breaking the bank. \nEvery Friday 4:00pm-6:00pm \n✨ Great music🎯 Fun games🍕 Delicious snacks🛼 Non-stop skating action! \nGrab your friends and roll into the weekend the fun way! \n🎟️ Just $8.00 Admission (Skate rental extra if needed) \nAt the Door Bonus! Get in for the 4pm-6pm and 6pm-8:30pm for only $15.00!! (skate rental extra)
URL:https://www.unitedskates.com/wickliffe/event/8-00-fridays/2025-10-10/
CATEGORIES:Family Events,Public Skates
ATTACH;FMTTYPE=image/jpeg:https://unitedskates-assets.sfo3.digitaloceanspaces.com/wp-content/uploads/sites/12/2025/08/8-Dollar-Fridays-2025-page-001-scaled.jpg
END:VEVENT
BEGIN:VEVENT
DTSTART;TZID=America/New_York:20251010T180000
DTEND;TZID=America/New_York:20251010T203000
DTSTAMP:20260421T031443
CREATED:20250820T192617Z
LAST-MODIFIED:20250824T031451Z
UID:22060-1760119200-1760128200@www.unitedskates.com
SUMMARY:Scream Skate Night
DESCRIPTION:👻🔪 Calling All Ghost Face Fans! 🔪👻 \nHe’s coming out for one thrilling night you won’t forget!Grab your crew\, lace up your skates\, and get ready for a hauntingly fun evening on the rink. \n📅 Friday\, October 10th⏰ 6:00pm – 8:30pm💲 Admission: $13 | Skate Rental: $6 \n🎃 Ghost Face’s Slashing Deal! Only $35.00🍕 1 Whole Pizza🥤 1 Pitcher of His Favorite Drink✨ 4 Orange Glow Sticks🕸️ 4 Halloween Souvenirs \nAll bundled up for a killer night of FUN! \n🎉 Birthday Parties are also available—book yours NOW and celebrate Halloween-style! Book Here!  \n📢 Don’t miss your chance to skate with Ghost Face and make this spooky season unforgettable! \nSave a $1.00 when you buy online. BUY HERE!
URL:https://www.unitedskates.com/wickliffe/event/scream-skate-night-2/
CATEGORIES:Family Events,Public Skates,Special Events
ATTACH;FMTTYPE=image/jpeg:https://unitedskates-assets.sfo3.digitaloceanspaces.com/wp-content/uploads/sites/12/2025/08/Scream-Skate-Night.jpg
END:VEVENT
END:VCALENDAR