BEGIN:VCALENDAR
VERSION:2.0
PRODID:-//Rink 11 - Wickliffe - ECPv6.15.20//NONSGML v1.0//EN
CALSCALE:GREGORIAN
METHOD:PUBLISH
X-WR-CALNAME:Rink 11 - Wickliffe
X-ORIGINAL-URL:https://www.unitedskates.com/wickliffe
X-WR-CALDESC:Events for Rink 11 - Wickliffe
REFRESH-INTERVAL;VALUE=DURATION:PT1H
X-Robots-Tag:noindex
X-PUBLISHED-TTL:PT1H
BEGIN:VTIMEZONE
TZID:America/New_York
BEGIN:DAYLIGHT
TZOFFSETFROM:-0500
TZOFFSETTO:-0400
TZNAME:EDT
DTSTART:20240310T070000
END:DAYLIGHT
BEGIN:STANDARD
TZOFFSETFROM:-0400
TZOFFSETTO:-0500
TZNAME:EST
DTSTART:20241103T060000
END:STANDARD
BEGIN:DAYLIGHT
TZOFFSETFROM:-0500
TZOFFSETTO:-0400
TZNAME:EDT
DTSTART:20250309T070000
END:DAYLIGHT
BEGIN:STANDARD
TZOFFSETFROM:-0400
TZOFFSETTO:-0500
TZNAME:EST
DTSTART:20251102T060000
END:STANDARD
BEGIN:DAYLIGHT
TZOFFSETFROM:-0500
TZOFFSETTO:-0400
TZNAME:EDT
DTSTART:20260308T070000
END:DAYLIGHT
BEGIN:STANDARD
TZOFFSETFROM:-0400
TZOFFSETTO:-0500
TZNAME:EST
DTSTART:20261101T060000
END:STANDARD
END:VTIMEZONE
BEGIN:VEVENT
DTSTART;TZID=America/New_York:20251005T120000
DTEND;TZID=America/New_York:20251005T143000
DTSTAMP:20260421T072649
CREATED:20250820T191824Z
LAST-MODIFIED:20250820T213406Z
UID:22055-1759665600-1759674600@www.unitedskates.com
SUMMARY:National Roller-Skating Month Skate
DESCRIPTION:🎉🛼 ROLL Into October – It’s National Roller-Skating Month! 🛼🎉 \nWe’re celebrating BIG all weekend long with skating\, music\, prizes & surprises! \n📅 Saturday\, October 4th✨ 12:30pm – 3:00pm | Admission: $13✨ 4:00pm – 6:30pm | Admission: $13✨ 7:30pm – 10:00pm | Admission: $14 \n📅 Sunday\, October 5th✨ 12:00pm – 2:30pm | Admission: $13✨ 3:00pm – 5:30pm | Admission: $13✨ 6:00pm – 8:30pm | Admission: $13 \n🛼 Skate Rental $6.00 \n🎶 Skate to the hottest music all weekend long🎁 Win roller-skate themed prizes at every session👀 And keep your eyes open… you might just spot a special appearance by SKATO! \n🍕 Delicious snacks\, glowing lights\, games & more—it’s a weekend you don’t want to miss! \n📢 Grab your friends\, lace up those skates\, and help us celebrate the sport we LOVE! \nSave a $1.00 when you buy online. BUY HERE!
URL:https://www.unitedskates.com/wickliffe/event/national-roller-skating-month-skate/2025-10-05/
CATEGORIES:Family Events,Public Skates,Special Events
ATTACH;FMTTYPE=image/jpeg:https://unitedskates-assets.sfo3.digitaloceanspaces.com/wp-content/uploads/sites/12/2025/08/national-roller-month-page-001-scaled.jpg
END:VEVENT
BEGIN:VEVENT
DTSTART;TZID=America/New_York:20251005T150000
DTEND;TZID=America/New_York:20251005T170000
DTSTAMP:20260421T072649
CREATED:20250820T191824Z
LAST-MODIFIED:20250820T213406Z
UID:22056-1759676400-1759683600@www.unitedskates.com
SUMMARY:National Roller-Skating Month Skate
DESCRIPTION:🎉🛼 ROLL Into October – It’s National Roller-Skating Month! 🛼🎉 \nWe’re celebrating BIG all weekend long with skating\, music\, prizes & surprises! \n📅 Saturday\, October 4th✨ 12:30pm – 3:00pm | Admission: $13✨ 4:00pm – 6:30pm | Admission: $13✨ 7:30pm – 10:00pm | Admission: $14 \n📅 Sunday\, October 5th✨ 12:00pm – 2:30pm | Admission: $13✨ 3:00pm – 5:30pm | Admission: $13✨ 6:00pm – 8:30pm | Admission: $13 \n🛼 Skate Rental $6.00 \n🎶 Skate to the hottest music all weekend long🎁 Win roller-skate themed prizes at every session👀 And keep your eyes open… you might just spot a special appearance by SKATO! \n🍕 Delicious snacks\, glowing lights\, games & more—it’s a weekend you don’t want to miss! \n📢 Grab your friends\, lace up those skates\, and help us celebrate the sport we LOVE! \nSave a $1.00 when you buy online. BUY HERE!
URL:https://www.unitedskates.com/wickliffe/event/national-roller-skating-month-skate/2025-10-05/2/
CATEGORIES:Family Events,Public Skates,Special Events
ATTACH;FMTTYPE=image/jpeg:https://unitedskates-assets.sfo3.digitaloceanspaces.com/wp-content/uploads/sites/12/2025/08/national-roller-month-page-001-scaled.jpg
END:VEVENT
BEGIN:VEVENT
DTSTART;TZID=America/New_York:20251005T180000
DTEND;TZID=America/New_York:20251005T203000
DTSTAMP:20260421T072649
CREATED:20250805T183906Z
LAST-MODIFIED:20260403T203051Z
UID:23520-1759687200-1759696200@www.unitedskates.com
SUMMARY:Sunday Night/Birthday Parties
DESCRIPTION:Book your Birthday Party! Birthday Parties available from 6:00pm-8:30pm \nAdmission at the Door $14.00 \nAdmission Online $12.00 \nSkate Rental $6.00 \nFeaturing Pop and R&B Music Mix \nGet your Tickets Here! BUY HERE! \nAll 3–17-year-olds must pay admission and skate rental upon entering the facility.  Adults 18+ not skating may enter for free. All 12–17-year-olds must come into our facility with a parent or guardian that is 25 years or age or older. We are only allowing two (2) 12–17-year-olds per one parent or guardian 25 and over. The parent/guardian must stay with the teenager the entire time while in the facility. If the parent/guardian leaves the facility the teen must leave with parent/guardian. No drop off of teens or children into our facility is permitted. No drop off of teens or children to another parent into our facility is permitted. Teenagers 12-17 with their own skates are permitted without a parent if they skate the entire time. Teens asked to keep skates on repeatedly will be asked to leave with no refund.
URL:https://www.unitedskates.com/wickliffe/event/sunday-funday-birthday-parties-8/2025-10-05/
CATEGORIES:Family Events,Public Skates
ATTACH;FMTTYPE=image/jpeg:https://unitedskates-assets.sfo3.digitaloceanspaces.com/wp-content/uploads/sites/12/2025/08/Sunday-Nights-page-001-1-scaled.jpg
END:VEVENT
BEGIN:VEVENT
DTSTART;TZID=America/New_York:20251005T180000
DTEND;TZID=America/New_York:20251005T203000
DTSTAMP:20260421T072649
CREATED:20250820T191824Z
LAST-MODIFIED:20250820T213407Z
UID:22057-1759687200-1759696200@www.unitedskates.com
SUMMARY:National Roller-Skating Month Skate
DESCRIPTION:🎉🛼 ROLL Into October – It’s National Roller-Skating Month! 🛼🎉 \nWe’re celebrating BIG all weekend long with skating\, music\, prizes & surprises! \n📅 Saturday\, October 4th✨ 12:30pm – 3:00pm | Admission: $13✨ 4:00pm – 6:30pm | Admission: $13✨ 7:30pm – 10:00pm | Admission: $14 \n📅 Sunday\, October 5th✨ 12:00pm – 2:30pm | Admission: $13✨ 3:00pm – 5:30pm | Admission: $13✨ 6:00pm – 8:30pm | Admission: $13 \n🛼 Skate Rental $6.00 \n🎶 Skate to the hottest music all weekend long🎁 Win roller-skate themed prizes at every session👀 And keep your eyes open… you might just spot a special appearance by SKATO! \n🍕 Delicious snacks\, glowing lights\, games & more—it’s a weekend you don’t want to miss! \n📢 Grab your friends\, lace up those skates\, and help us celebrate the sport we LOVE! \nSave a $1.00 when you buy online. BUY HERE!
URL:https://www.unitedskates.com/wickliffe/event/national-roller-skating-month-skate/2025-10-05/3/
CATEGORIES:Family Events,Public Skates,Special Events
ATTACH;FMTTYPE=image/jpeg:https://unitedskates-assets.sfo3.digitaloceanspaces.com/wp-content/uploads/sites/12/2025/08/national-roller-month-page-001-scaled.jpg
END:VEVENT
BEGIN:VEVENT
DTSTART;TZID=America/New_York:20251005T213000
DTEND;TZID=America/New_York:20251006T013000
DTSTAMP:20260421T072649
CREATED:20241023T003041Z
LAST-MODIFIED:20251212T232603Z
UID:21674-1759699800-1759714200@www.unitedskates.com
SUMMARY:Sunday Night Adult Skate
DESCRIPTION:Sunday Nights are meant for Skating! \nAdults this night is for you and you only! \nEvery Sunday Night 9:30pm-1:30am \nFeaturing R&B\, Hip-Hop and Skate Music  \nMusic Spun by DJ Ivory \nAdmission $12.00 \nSkate Rental $6.00 \n18+ with valid ID \nSkip the line-buy your tickets online! BUY HERE!
URL:https://www.unitedskates.com/wickliffe/event/sunday-night-adult-skate/2025-10-05/
CATEGORIES:Adult Events,Public Skates
ATTACH;FMTTYPE=image/jpeg:https://unitedskates-assets.sfo3.digitaloceanspaces.com/wp-content/uploads/sites/12/2024/10/new-Sunday-Night-Adult-Skate-r-11-1.jpg
END:VEVENT
END:VCALENDAR