BEGIN:VCALENDAR
VERSION:2.0
PRODID:-//Rink 11 - Wickliffe - ECPv6.15.20//NONSGML v1.0//EN
CALSCALE:GREGORIAN
METHOD:PUBLISH
X-WR-CALNAME:Rink 11 - Wickliffe
X-ORIGINAL-URL:https://www.unitedskates.com/wickliffe
X-WR-CALDESC:Events for Rink 11 - Wickliffe
REFRESH-INTERVAL;VALUE=DURATION:PT1H
X-Robots-Tag:noindex
X-PUBLISHED-TTL:PT1H
BEGIN:VTIMEZONE
TZID:America/New_York
BEGIN:DAYLIGHT
TZOFFSETFROM:-0500
TZOFFSETTO:-0400
TZNAME:EDT
DTSTART:20240310T070000
END:DAYLIGHT
BEGIN:STANDARD
TZOFFSETFROM:-0400
TZOFFSETTO:-0500
TZNAME:EST
DTSTART:20241103T060000
END:STANDARD
BEGIN:DAYLIGHT
TZOFFSETFROM:-0500
TZOFFSETTO:-0400
TZNAME:EDT
DTSTART:20250309T070000
END:DAYLIGHT
BEGIN:STANDARD
TZOFFSETFROM:-0400
TZOFFSETTO:-0500
TZNAME:EST
DTSTART:20251102T060000
END:STANDARD
BEGIN:DAYLIGHT
TZOFFSETFROM:-0500
TZOFFSETTO:-0400
TZNAME:EDT
DTSTART:20260308T070000
END:DAYLIGHT
BEGIN:STANDARD
TZOFFSETFROM:-0400
TZOFFSETTO:-0500
TZNAME:EST
DTSTART:20261101T060000
END:STANDARD
END:VTIMEZONE
BEGIN:VEVENT
DTSTART;TZID=America/New_York:20251004T100000
DTEND;TZID=America/New_York:20251004T120000
DTSTAMP:20260421T013356
CREATED:20250908T193453Z
LAST-MODIFIED:20250908T201231Z
UID:22246-1759572000-1759579200@www.unitedskates.com
SUMMARY:KPOP Demon Hunters Glow Skate
DESCRIPTION:✨🎶 Guess who’s BACK?! 🎶✨She sings to keep the homoon together\, fights off demons\, AND leads the Huntrix… that’s right—it’s RUMI! 🛼💖 \nRumi had so much fun on her last visit that she’s coming back not once… not twice… but THREE times! 🙌 \n📅 Save the Dates: \n\n\nSaturday\, September 20th \n\n\nSaturday\, September 27th \n\n\nSaturday\, October 4th \n\n\n⏰ 10:00am–12:00pm (Rumi meet & greet 10:30am–11:30am) \n🎟️ Admission: Only $12.00👟 Skate Rental: $6.00 (or FREE with your own skates) \nBring your KPOP Demon Hunter–loving kids\, friends\, and family to kick off your Saturday mornings the right way—dancing\, singing\, skating\, and meeting Rumi herself! 💜 \nWILL SELL OUT! BUY YOUR TICKETS NOW!!! GET THEM HERE!
URL:https://www.unitedskates.com/wickliffe/event/kpop-demon-hunters-glow-skate/2025-10-04/
CATEGORIES:Family Events,Public Skates,Special Events
ATTACH;FMTTYPE=image/png:https://unitedskates-assets.sfo3.digitaloceanspaces.com/wp-content/uploads/sites/12/2025/09/K-Pop-Demon-Hunters-2025-1.png
END:VEVENT
BEGIN:VEVENT
DTSTART;TZID=America/New_York:20251004T103000
DTEND;TZID=America/New_York:20251004T123000
DTSTAMP:20260421T013356
CREATED:20250812T135721Z
LAST-MODIFIED:20260201T221848Z
UID:23368-1759573800-1759581000@www.unitedskates.com
SUMMARY:Saturday Morning Skate
DESCRIPTION:🛼✨ Saturday Mornings = Skate Time! ✨🛼 \nJoin us every Saturday morning from 10:30am – 12:30pm for 2 hours of music\, fun\, and wheels! 🎶🎉 \n💙 FREE Skate Mates are available\, so beginners can roll with confidence!Perfect for families\, friends\, and anyone ready to start the weekend off right. \n🎟️ Admission: $11.00👟 Skate Rental: $6.00 \n📅 Every Saturday🕥 10:30am – 12:30pm \nLet’s roll into the weekend together! 🙌 \nSave a $1.00! Buy your Tickets Here!
URL:https://www.unitedskates.com/wickliffe/event/saturday-morning-skate-2/2025-10-04/
CATEGORIES:Family Events,Public Skates
ATTACH;FMTTYPE=image/jpeg:https://unitedskates-assets.sfo3.digitaloceanspaces.com/wp-content/uploads/sites/12/2025/08/Sat-Morning-Skate-page-001-2-scaled.jpg
END:VEVENT
BEGIN:VEVENT
DTSTART;TZID=America/New_York:20251004T123000
DTEND;TZID=America/New_York:20251004T150000
DTSTAMP:20260421T013356
CREATED:20250820T191824Z
LAST-MODIFIED:20250820T213405Z
UID:22051-1759581000-1759590000@www.unitedskates.com
SUMMARY:National Roller-Skating Month Skate
DESCRIPTION:🎉🛼 ROLL Into October – It’s National Roller-Skating Month! 🛼🎉 \nWe’re celebrating BIG all weekend long with skating\, music\, prizes & surprises! \n📅 Saturday\, October 4th✨ 12:30pm – 3:00pm | Admission: $13✨ 4:00pm – 6:30pm | Admission: $13✨ 7:30pm – 10:00pm | Admission: $14 \n📅 Sunday\, October 5th✨ 12:00pm – 2:30pm | Admission: $13✨ 3:00pm – 5:30pm | Admission: $13✨ 6:00pm – 8:30pm | Admission: $13 \n🛼 Skate Rental $6.00 \n🎶 Skate to the hottest music all weekend long🎁 Win roller-skate themed prizes at every session👀 And keep your eyes open… you might just spot a special appearance by SKATO! \n🍕 Delicious snacks\, glowing lights\, games & more—it’s a weekend you don’t want to miss! \n📢 Grab your friends\, lace up those skates\, and help us celebrate the sport we LOVE! \nSave a $1.00 when you buy online. BUY HERE!
URL:https://www.unitedskates.com/wickliffe/event/national-roller-skating-month-skate/2025-10-04/
CATEGORIES:Family Events,Public Skates,Special Events
ATTACH;FMTTYPE=image/jpeg:https://unitedskates-assets.sfo3.digitaloceanspaces.com/wp-content/uploads/sites/12/2025/08/national-roller-month-page-001-scaled.jpg
END:VEVENT
BEGIN:VEVENT
DTSTART;TZID=America/New_York:20251004T160000
DTEND;TZID=America/New_York:20251004T183000
DTSTAMP:20260421T013356
CREATED:20241022T215909Z
LAST-MODIFIED:20260401T192734Z
UID:23394-1759593600-1759602600@www.unitedskates.com
SUMMARY:Family Skate/Birthday Parties
DESCRIPTION:Book your Birthday Party! Birthday Parties available from 4:00pm-6:30pm \nAdmission at the door $14.00 \nAdmission Online $12.00 \nSkate Rental $6.00 \nFeaturing Pop and R&B Music Mix \nBuy your Tickets Online! BUY HERE! \nAll 3–17-year-olds must pay admission and skate rental upon entering the facility.  Adults 18+ not skating may enter for free. All 12–17-year-olds must come into our facility with a parent or guardian that is 25 years or age or older. We are only allowing two (2) 12–17-year-olds per one parent or guardian 25 and over. The parent/guardian must stay with the teenager the entire time while in the facility. If the parent/guardian leaves the facility the teen must leave with parent/guardian. No drop off of teens or children into our facility is permitted. No drop off of teens or children to another parent into our facility is permitted. Teenagers 12-17 with their own skates are permitted without a parent if they skate the entire time. Teens asked to keep skates on repeatedly will be asked to leave with no refund.
URL:https://www.unitedskates.com/wickliffe/event/family-skate-birthday-parties-21/2025-10-04/
CATEGORIES:Family Events,Public Skates
ATTACH;FMTTYPE=image/jpeg:https://unitedskates-assets.sfo3.digitaloceanspaces.com/wp-content/uploads/sites/12/2023/07/800px-Family-Skate-1200x900-1.jpg
END:VEVENT
BEGIN:VEVENT
DTSTART;TZID=America/New_York:20251004T160000
DTEND;TZID=America/New_York:20251004T183000
DTSTAMP:20260421T013356
CREATED:20250820T191824Z
LAST-MODIFIED:20250820T213405Z
UID:22053-1759593600-1759602600@www.unitedskates.com
SUMMARY:National Roller-Skating Month Skate
DESCRIPTION:🎉🛼 ROLL Into October – It’s National Roller-Skating Month! 🛼🎉 \nWe’re celebrating BIG all weekend long with skating\, music\, prizes & surprises! \n📅 Saturday\, October 4th✨ 12:30pm – 3:00pm | Admission: $13✨ 4:00pm – 6:30pm | Admission: $13✨ 7:30pm – 10:00pm | Admission: $14 \n📅 Sunday\, October 5th✨ 12:00pm – 2:30pm | Admission: $13✨ 3:00pm – 5:30pm | Admission: $13✨ 6:00pm – 8:30pm | Admission: $13 \n🛼 Skate Rental $6.00 \n🎶 Skate to the hottest music all weekend long🎁 Win roller-skate themed prizes at every session👀 And keep your eyes open… you might just spot a special appearance by SKATO! \n🍕 Delicious snacks\, glowing lights\, games & more—it’s a weekend you don’t want to miss! \n📢 Grab your friends\, lace up those skates\, and help us celebrate the sport we LOVE! \nSave a $1.00 when you buy online. BUY HERE!
URL:https://www.unitedskates.com/wickliffe/event/national-roller-skating-month-skate/2025-10-04/2/
CATEGORIES:Family Events,Public Skates,Special Events
ATTACH;FMTTYPE=image/jpeg:https://unitedskates-assets.sfo3.digitaloceanspaces.com/wp-content/uploads/sites/12/2025/08/national-roller-month-page-001-scaled.jpg
END:VEVENT
BEGIN:VEVENT
DTSTART;TZID=America/New_York:20251004T193000
DTEND;TZID=America/New_York:20251004T220000
DTSTAMP:20260421T013356
CREATED:20250805T182845Z
LAST-MODIFIED:20260401T193637Z
UID:23442-1759606200-1759615200@www.unitedskates.com
SUMMARY:Saturday Night Skate
DESCRIPTION:It’s Saturday night\, and that means it’s time to hit the skate floor! \nJoin us every Saturday from 7:30pm-10:00pm for an incredible night of skating fun! \nAdmission at the door $15.00 \nAdmission Online $13.00 \nSkate Rental $6.00 \nWhether you’re planning a date night\, a family outing\, or a fun evening with friends\, there’s something for everyone to enjoy. \nExperience the excitement of gliding on wheels\, meet new people\, and create lasting memories. \nEnjoy the best of R&B and Hip-Hop music all session \nDon’t miss out on the best way to spend your Saturday night! \nBuy your tickets Now! BUY HERE! \nAll 3–17-year-olds must pay admission and skate rental upon entering the facility. Adults 18+ not skating may enter for free. All 12–17-year-olds must come into our facility with a parent or guardian that is 25 years or age or older. We are only allowing two (2) 12–17-year-olds per one parent or guardian 25 and over. The parent/guardian must stay with the teenager the entire time while in the facility. If the parent/guardian leaves the facility the teen must leave with parent/guardian. No drop off of teens or children into our facility is permitted. No drop off of teens or children to another parent into our facility is permitted. Teenagers 12-17 with their own skates are permitted without a parent if they skate the entire time. Teens asked to keep skates on repeatedly will be asked to leave with no refund
URL:https://www.unitedskates.com/wickliffe/event/saturday-night-skate/2025-10-04/
CATEGORIES:Family Events,Public Skates
ATTACH;FMTTYPE=image/jpeg:https://unitedskates-assets.sfo3.digitaloceanspaces.com/wp-content/uploads/sites/12/2025/08/Saturday-Night-Skate-Night-v-4-scaled.jpg
END:VEVENT
BEGIN:VEVENT
DTSTART;TZID=America/New_York:20251004T193000
DTEND;TZID=America/New_York:20251004T220000
DTSTAMP:20260421T013356
CREATED:20250820T191824Z
LAST-MODIFIED:20250820T213406Z
UID:22054-1759606200-1759615200@www.unitedskates.com
SUMMARY:National Roller-Skating Month Skate
DESCRIPTION:🎉🛼 ROLL Into October – It’s National Roller-Skating Month! 🛼🎉 \nWe’re celebrating BIG all weekend long with skating\, music\, prizes & surprises! \n📅 Saturday\, October 4th✨ 12:30pm – 3:00pm | Admission: $13✨ 4:00pm – 6:30pm | Admission: $13✨ 7:30pm – 10:00pm | Admission: $14 \n📅 Sunday\, October 5th✨ 12:00pm – 2:30pm | Admission: $13✨ 3:00pm – 5:30pm | Admission: $13✨ 6:00pm – 8:30pm | Admission: $13 \n🛼 Skate Rental $6.00 \n🎶 Skate to the hottest music all weekend long🎁 Win roller-skate themed prizes at every session👀 And keep your eyes open… you might just spot a special appearance by SKATO! \n🍕 Delicious snacks\, glowing lights\, games & more—it’s a weekend you don’t want to miss! \n📢 Grab your friends\, lace up those skates\, and help us celebrate the sport we LOVE! \nSave a $1.00 when you buy online. BUY HERE!
URL:https://www.unitedskates.com/wickliffe/event/national-roller-skating-month-skate/2025-10-04/3/
CATEGORIES:Family Events,Public Skates,Special Events
ATTACH;FMTTYPE=image/jpeg:https://unitedskates-assets.sfo3.digitaloceanspaces.com/wp-content/uploads/sites/12/2025/08/national-roller-month-page-001-scaled.jpg
END:VEVENT
END:VCALENDAR