BEGIN:VCALENDAR
VERSION:2.0
PRODID:-//Rink 11 - Wickliffe - ECPv6.15.20//NONSGML v1.0//EN
CALSCALE:GREGORIAN
METHOD:PUBLISH
X-ORIGINAL-URL:https://www.unitedskates.com/wickliffe
X-WR-CALDESC:Events for Rink 11 - Wickliffe
REFRESH-INTERVAL;VALUE=DURATION:PT1H
X-Robots-Tag:noindex
X-PUBLISHED-TTL:PT1H
BEGIN:VTIMEZONE
TZID:America/New_York
BEGIN:DAYLIGHT
TZOFFSETFROM:-0500
TZOFFSETTO:-0400
TZNAME:EDT
DTSTART:20240310T070000
END:DAYLIGHT
BEGIN:STANDARD
TZOFFSETFROM:-0400
TZOFFSETTO:-0500
TZNAME:EST
DTSTART:20241103T060000
END:STANDARD
BEGIN:DAYLIGHT
TZOFFSETFROM:-0500
TZOFFSETTO:-0400
TZNAME:EDT
DTSTART:20250309T070000
END:DAYLIGHT
BEGIN:STANDARD
TZOFFSETFROM:-0400
TZOFFSETTO:-0500
TZNAME:EST
DTSTART:20251102T060000
END:STANDARD
BEGIN:DAYLIGHT
TZOFFSETFROM:-0500
TZOFFSETTO:-0400
TZNAME:EDT
DTSTART:20260308T070000
END:DAYLIGHT
BEGIN:STANDARD
TZOFFSETFROM:-0400
TZOFFSETTO:-0500
TZNAME:EST
DTSTART:20261101T060000
END:STANDARD
END:VTIMEZONE
BEGIN:VEVENT
DTSTART;TZID=America/New_York:20250914T120000
DTEND;TZID=America/New_York:20250914T143000
DTSTAMP:20260421T133227
CREATED:20250805T191621Z
LAST-MODIFIED:20250805T214355Z
UID:21828-1757851200-1757860200@www.unitedskates.com
SUMMARY:Unlimited Laser Tag Skate
DESCRIPTION:🛼 Unlimited Laser Tag Skate! 🛼Skate. Tag. Repeat. All Night Long! \nGet ready for the ultimate combo of thrills and chills – it’s time to roll AND battle it out in the laser arena! \n🎟️ Unlimited Laser Tag Included with Every Paid Admission🛼 Skate the rink + zap your friends = nonstop fun🎶 Music\, lights\, games & more! \nSunday\, September 14th 12:00pm-2:30pm \nAdmission $13.00 \nSkate Rental $6.00 \nOne admission. Endless action. Are you ready for it?Lace up\, lock on\, and let the games begin! 💥 \nSave a $1.00! Get your Tickets Here!
URL:https://www.unitedskates.com/wickliffe/event/unlimited-laser-tag-skate-3/
CATEGORIES:Family Events,Public Skates,Special Events
ATTACH;FMTTYPE=image/jpeg:https://unitedskates-assets.sfo3.digitaloceanspaces.com/wp-content/uploads/sites/12/2023/04/laser-tag-tile.jpg
END:VEVENT
BEGIN:VEVENT
DTSTART;TZID=America/New_York:20250914T150000
DTEND;TZID=America/New_York:20250914T173000
DTSTAMP:20260421T133227
CREATED:20250828T163810Z
LAST-MODIFIED:20250828T163810Z
UID:22227-1757862000-1757871000@www.unitedskates.com
SUMMARY:Demon Hunters KPOP Skate
DESCRIPTION:🎶✨ KPOP DEMON HUNTERS is taking over Sunday Funday! ✨🎶 \nSpend the afternoon with us jamming to your favorite KPOP hits—including songs straight from the Demon Hunters soundtrack! 🔥 \n👗 Dress to impress as your favorite KPOP artist or Demon Hunters character for a chance to shine! \n🍴 Don’t forget to grab some café specials like: \n\n\nDerpy’s Famous Funnel Fries 🍟 \n\n\nSoja Boy’s Soda Pop 🥤…and so much more! \n\n\n🎤 From sing-alongs to dancing\, this is a party you don’t want to miss! 🎉 \n🎂 Birthday parties available—book yours today! Book Here! \n📅 Sunday\, September 14th🕒 3:00 PM – 5:30 PM \nAdmission $13.00 Skate Rental $6.00 \n⚡Grab your crew and get ready for the ultimate KPOP takeover!⚡ \nSave a $1.00 and buy your tickets online! Buy Now!
URL:https://www.unitedskates.com/wickliffe/event/demon-hunters-kpop-skate/
CATEGORIES:Family Events,Public Skates,Special Events
ATTACH;FMTTYPE=image/png:https://unitedskates-assets.sfo3.digitaloceanspaces.com/wp-content/uploads/sites/12/2025/08/v3-K-Pop-Demon-Hunters-2025.png
END:VEVENT
BEGIN:VEVENT
DTSTART;TZID=America/New_York:20250914T213000
DTEND;TZID=America/New_York:20250915T013000
DTSTAMP:20260421T133227
CREATED:20241023T003041Z
LAST-MODIFIED:20251212T232602Z
UID:21671-1757885400-1757899800@www.unitedskates.com
SUMMARY:Sunday Night Adult Skate
DESCRIPTION:Sunday Nights are meant for Skating! \nAdults this night is for you and you only! \nEvery Sunday Night 9:30pm-1:30am \nFeaturing R&B\, Hip-Hop and Skate Music  \nMusic Spun by DJ Ivory \nAdmission $12.00 \nSkate Rental $6.00 \n18+ with valid ID \nSkip the line-buy your tickets online! BUY HERE!
URL:https://www.unitedskates.com/wickliffe/event/sunday-night-adult-skate/2025-09-14/
CATEGORIES:Adult Events,Public Skates
ATTACH;FMTTYPE=image/jpeg:https://unitedskates-assets.sfo3.digitaloceanspaces.com/wp-content/uploads/sites/12/2024/10/new-Sunday-Night-Adult-Skate-r-11-1.jpg
END:VEVENT
END:VCALENDAR