BEGIN:VCALENDAR
VERSION:2.0
PRODID:-//Rink 11 - Wickliffe - ECPv6.15.20//NONSGML v1.0//EN
CALSCALE:GREGORIAN
METHOD:PUBLISH
X-ORIGINAL-URL:https://www.unitedskates.com/wickliffe
X-WR-CALDESC:Events for Rink 11 - Wickliffe
REFRESH-INTERVAL;VALUE=DURATION:PT1H
X-Robots-Tag:noindex
X-PUBLISHED-TTL:PT1H
BEGIN:VTIMEZONE
TZID:America/New_York
BEGIN:DAYLIGHT
TZOFFSETFROM:-0500
TZOFFSETTO:-0400
TZNAME:EDT
DTSTART:20240310T070000
END:DAYLIGHT
BEGIN:STANDARD
TZOFFSETFROM:-0400
TZOFFSETTO:-0500
TZNAME:EST
DTSTART:20241103T060000
END:STANDARD
BEGIN:DAYLIGHT
TZOFFSETFROM:-0500
TZOFFSETTO:-0400
TZNAME:EDT
DTSTART:20250309T070000
END:DAYLIGHT
BEGIN:STANDARD
TZOFFSETFROM:-0400
TZOFFSETTO:-0500
TZNAME:EST
DTSTART:20251102T060000
END:STANDARD
BEGIN:DAYLIGHT
TZOFFSETFROM:-0500
TZOFFSETTO:-0400
TZNAME:EDT
DTSTART:20260308T070000
END:DAYLIGHT
BEGIN:STANDARD
TZOFFSETFROM:-0400
TZOFFSETTO:-0500
TZNAME:EST
DTSTART:20261101T060000
END:STANDARD
END:VTIMEZONE
BEGIN:VEVENT
DTSTART;TZID=America/New_York:20250906T103000
DTEND;TZID=America/New_York:20250906T123000
DTSTAMP:20260421T102703
CREATED:20250812T135721Z
LAST-MODIFIED:20260201T221847Z
UID:21960-1757154600-1757161800@www.unitedskates.com
SUMMARY:Saturday Morning Skate
DESCRIPTION:🛼✨ Saturday Mornings = Skate Time! ✨🛼 \nJoin us every Saturday morning from 10:30am – 12:30pm for 2 hours of music\, fun\, and wheels! 🎶🎉 \n💙 FREE Skate Mates are available\, so beginners can roll with confidence!Perfect for families\, friends\, and anyone ready to start the weekend off right. \n🎟️ Admission: $11.00👟 Skate Rental: $6.00 \n📅 Every Saturday🕥 10:30am – 12:30pm \nLet’s roll into the weekend together! 🙌 \nSave a $1.00! Buy your Tickets Here!
URL:https://www.unitedskates.com/wickliffe/event/saturday-morning-skate-2/2025-09-06/
CATEGORIES:Family Events,Public Skates
ATTACH;FMTTYPE=image/jpeg:https://unitedskates-assets.sfo3.digitaloceanspaces.com/wp-content/uploads/sites/12/2025/08/Sat-Morning-Skate-page-001-2-scaled.jpg
END:VEVENT
BEGIN:VEVENT
DTSTART;TZID=America/New_York:20250906T123000
DTEND;TZID=America/New_York:20250906T150000
DTSTAMP:20260421T102703
CREATED:20250805T191239Z
LAST-MODIFIED:20250805T234554Z
UID:21824-1757161800-1757170800@www.unitedskates.com
SUMMARY:Sonic's Sno Cone Skate
DESCRIPTION:🌀💙 Sonic Sno Cone Skate! 💙🌀Skate Fast. Chill Hard. \nYour favorite speedy blue hedgehog is rolling into the rink for a cool time you won’t want to miss! \n🛼 FREE Sno Cone with Paid Admission💥 Meet Sonic & snap some pics!🎶 Music\, games\, and nonstop fun for all ages \nSaturday\, September 6th 12:30pm-3:00pm \nAdmission $13.00 \nSkate Rental $6.00 \nZoom into the fun and cool down with a FREE sno cone – only at our Sonic Sno Cone Skate! 🍧💨 \nPs. Great idea for a Birthday Party! \nSave a $1.00! Get your Tickets Here!
URL:https://www.unitedskates.com/wickliffe/event/sonics-sno-cone-skate-2/
CATEGORIES:Family Events,Public Skates,Special Events
ATTACH;FMTTYPE=image/jpeg:https://unitedskates-assets.sfo3.digitaloceanspaces.com/wp-content/uploads/sites/12/2025/08/sonic-sno-cone-page-001-scaled.jpg
END:VEVENT
BEGIN:VEVENT
DTSTART;TZID=America/New_York:20250906T193000
DTEND;TZID=America/New_York:20250906T220000
DTSTAMP:20260421T102703
CREATED:20250805T182845Z
LAST-MODIFIED:20260401T193624Z
UID:21578-1757187000-1757196000@www.unitedskates.com
SUMMARY:Saturday Night Skate
DESCRIPTION:It’s Saturday night\, and that means it’s time to hit the skate floor! \nJoin us every Saturday from 7:30pm-10:00pm for an incredible night of skating fun! \nAdmission at the door $15.00 \nAdmission Online $13.00 \nSkate Rental $6.00 \nWhether you’re planning a date night\, a family outing\, or a fun evening with friends\, there’s something for everyone to enjoy. \nExperience the excitement of gliding on wheels\, meet new people\, and create lasting memories. \nEnjoy the best of R&B and Hip-Hop music all session \nDon’t miss out on the best way to spend your Saturday night! \nBuy your tickets Now! BUY HERE! \nAll 3–17-year-olds must pay admission and skate rental upon entering the facility. Adults 18+ not skating may enter for free. All 12–17-year-olds must come into our facility with a parent or guardian that is 25 years or age or older. We are only allowing two (2) 12–17-year-olds per one parent or guardian 25 and over. The parent/guardian must stay with the teenager the entire time while in the facility. If the parent/guardian leaves the facility the teen must leave with parent/guardian. No drop off of teens or children into our facility is permitted. No drop off of teens or children to another parent into our facility is permitted. Teenagers 12-17 with their own skates are permitted without a parent if they skate the entire time. Teens asked to keep skates on repeatedly will be asked to leave with no refund
URL:https://www.unitedskates.com/wickliffe/event/saturday-night-skate/2025-09-06/
CATEGORIES:Family Events,Public Skates
ATTACH;FMTTYPE=image/jpeg:https://unitedskates-assets.sfo3.digitaloceanspaces.com/wp-content/uploads/sites/12/2025/08/Saturday-Night-Skate-Night-v-4-scaled.jpg
END:VEVENT
END:VCALENDAR