BEGIN:VCALENDAR
VERSION:2.0
PRODID:-//Rink 11 - Wickliffe - ECPv6.15.20//NONSGML v1.0//EN
CALSCALE:GREGORIAN
METHOD:PUBLISH
X-WR-CALNAME:Rink 11 - Wickliffe
X-ORIGINAL-URL:https://www.unitedskates.com/wickliffe
X-WR-CALDESC:Events for Rink 11 - Wickliffe
REFRESH-INTERVAL;VALUE=DURATION:PT1H
X-Robots-Tag:noindex
X-PUBLISHED-TTL:PT1H
BEGIN:VTIMEZONE
TZID:America/New_York
BEGIN:DAYLIGHT
TZOFFSETFROM:-0500
TZOFFSETTO:-0400
TZNAME:EDT
DTSTART:20240310T070000
END:DAYLIGHT
BEGIN:STANDARD
TZOFFSETFROM:-0400
TZOFFSETTO:-0500
TZNAME:EST
DTSTART:20241103T060000
END:STANDARD
BEGIN:DAYLIGHT
TZOFFSETFROM:-0500
TZOFFSETTO:-0400
TZNAME:EDT
DTSTART:20250309T070000
END:DAYLIGHT
BEGIN:STANDARD
TZOFFSETFROM:-0400
TZOFFSETTO:-0500
TZNAME:EST
DTSTART:20251102T060000
END:STANDARD
BEGIN:DAYLIGHT
TZOFFSETFROM:-0500
TZOFFSETTO:-0400
TZNAME:EDT
DTSTART:20260308T070000
END:DAYLIGHT
BEGIN:STANDARD
TZOFFSETFROM:-0400
TZOFFSETTO:-0500
TZNAME:EST
DTSTART:20261101T060000
END:STANDARD
END:VTIMEZONE
BEGIN:VEVENT
DTSTART;TZID=America/New_York:20250831T130000
DTEND;TZID=America/New_York:20250831T153000
DTSTAMP:20260421T100821
CREATED:20250604T174358Z
LAST-MODIFIED:20250615T022400Z
UID:20795-1756645200-1756654200@www.unitedskates.com
SUMMARY:Icee Bear Skate
DESCRIPTION:🧊🐻 The ICEE Bear Is Back at United Skates! 🐻🧊He’s had a blast meeting new friends and sipping tasty ICEEs — and now he’s making his cool comeback! \nJoin us on Sunday\, August 31st | 1:00–3:30 PM for an afternoon of frosty fun with the one and only ICEE Bear! \nAdmission $13.00 \nSkate Rental $6.00 \n🎉 What’s in store:🎁 ICEE-themed prize giveaways all session❄️ Surprise ICEE deals at the café🐾 Meet & greet with the ICEE Bear himself! \nIt’s the chillest way to wrap up your weekend — don’t miss out on the frozen fun! \nSkip the line-buy your tickets online! BUY HERE!
URL:https://www.unitedskates.com/wickliffe/event/icee-bear-skate/
CATEGORIES:Family Events,Public Skates,Special Events
ATTACH;FMTTYPE=image/jpeg:https://unitedskates-assets.sfo3.digitaloceanspaces.com/wp-content/uploads/sites/12/2025/06/icee-bear-skate-editable-august-page-001-scaled.jpg
END:VEVENT
BEGIN:VEVENT
DTSTART;TZID=America/New_York:20250831T153000
DTEND;TZID=America/New_York:20250831T180000
DTSTAMP:20260421T100821
CREATED:20250604T143007Z
LAST-MODIFIED:20250615T014302Z
UID:20543-1756654200-1756663200@www.unitedskates.com
SUMMARY:Sunday Funday Skate
DESCRIPTION:Book your Birthday Party! Birthday Parties available from 3:30pm-6:00pm \nAdmission $13.00 \nSkate Rental $6.00 \nFeaturing Pop and R&B Music Mix \nSkip the line-buy your tickets online! BUY HERE! \nAll 3–17-year-olds must pay admission and skate rental upon entering the facility.  Adults 18+ not skating may enter for free. All 12–17-year-olds must come into our facility with a parent or guardian that is 25 years or age or older. We are only allowing two (2) 12–17-year-olds per one parent or guardian 25 and over. The parent/guardian must stay with the teenager the entire time while in the facility. If the parent/guardian leaves the facility the teen must leave with parent/guardian. No drop off of teens or children into our facility is permitted. No drop off of teens or children to another parent into our facility is permitted. Teenagers 12-17 with their own skates are permitted without a parent if they skate the entire time. Teens asked to keep skates on repeatedly will be asked to leave with no refund.
URL:https://www.unitedskates.com/wickliffe/event/sunday-funday-skate/2025-08-31/
CATEGORIES:Family Events,Public Skates
ATTACH;FMTTYPE=image/jpeg:https://unitedskates-assets.sfo3.digitaloceanspaces.com/wp-content/uploads/sites/12/2023/07/800px-Sunday-Funday-2022-1200x900-1.jpg
END:VEVENT
BEGIN:VEVENT
DTSTART;TZID=America/New_York:20250831T183000
DTEND;TZID=America/New_York:20250831T210000
DTSTAMP:20260421T100821
CREATED:20241019T121436Z
LAST-MODIFIED:20250615T014440Z
UID:19529-1756665000-1756674000@www.unitedskates.com
SUMMARY:Sunday Family Skate/Birthday Parties
DESCRIPTION:Book your Birthday Party! Birthday Parties available from 6:30pm-9:00pm \nAdmission $13.00 \nSkate Rental $6.00 \nFeaturing Pop and R&B Music Mix \nSkip the line-buy your tickets online! BUY HERE! \nAll 3–17-year-olds must pay admission and skate rental upon entering the facility.  Adults 18+ not skating may enter for free. All 12–17-year-olds must come into our facility with a parent or guardian that is 25 years or age or older. We are only allowing two (2) 12–17-year-olds per one parent or guardian 25 and over. The parent/guardian must stay with the teenager the entire time while in the facility. If the parent/guardian leaves the facility the teen must leave with parent/guardian. No drop off of teens or children into our facility is permitted. No drop off of teens or children to another parent into our facility is permitted. Teenagers 12-17 with their own skates are permitted without a parent if they skate the entire time. Teens asked to keep skates on repeatedly will be asked to leave with no refund.
URL:https://www.unitedskates.com/wickliffe/event/sunday-family-skate-birthday-parties/2025-08-31/
CATEGORIES:Family Events,Public Skates
ATTACH;FMTTYPE=image/jpeg:https://unitedskates-assets.sfo3.digitaloceanspaces.com/wp-content/uploads/sites/12/2024/10/Sunday-Nights-page-001-scaled.jpg
END:VEVENT
BEGIN:VEVENT
DTSTART;TZID=America/New_York:20250831T213000
DTEND;TZID=America/New_York:20250901T023000
DTSTAMP:20260421T100821
CREATED:20250805T185708Z
LAST-MODIFIED:20250806T005527Z
UID:21759-1756675800-1756693800@www.unitedskates.com
SUMMARY:Labor Day Adult Late Night
DESCRIPTION:🌙🛼 Labor Day Adult Skate Night! 🛼🌙No work. No worries. Just wheels. \nCelebrate your long weekend the grown-up way — with great music\, good vibes\, and an epic night on the rink! 🎶✨ \nSunday\, August 31st 9:30pm-2:30am \nAdmission $13.00 \nSkate Rental $6.00 \n🎧 DJ spinning your favorite throwbacks & hits🍹 Adult vibes all night (18+ only)🛼 Skate into the holiday with style and energy \nGet your Tickets Here!
URL:https://www.unitedskates.com/wickliffe/event/labor-day-adult-late-night-3/
CATEGORIES:Adult Events,Public Skates,Special Events
ATTACH;FMTTYPE=image/jpeg:https://unitedskates-assets.sfo3.digitaloceanspaces.com/wp-content/uploads/sites/12/2025/08/Labor-day-weekend-party.jpg
END:VEVENT
END:VCALENDAR