BEGIN:VCALENDAR
VERSION:2.0
PRODID:-//Rink 11 - Wickliffe - ECPv6.15.20//NONSGML v1.0//EN
CALSCALE:GREGORIAN
METHOD:PUBLISH
X-ORIGINAL-URL:https://www.unitedskates.com/wickliffe
X-WR-CALDESC:Events for Rink 11 - Wickliffe
REFRESH-INTERVAL;VALUE=DURATION:PT1H
X-Robots-Tag:noindex
X-PUBLISHED-TTL:PT1H
BEGIN:VTIMEZONE
TZID:America/New_York
BEGIN:DAYLIGHT
TZOFFSETFROM:-0500
TZOFFSETTO:-0400
TZNAME:EDT
DTSTART:20240310T070000
END:DAYLIGHT
BEGIN:STANDARD
TZOFFSETFROM:-0400
TZOFFSETTO:-0500
TZNAME:EST
DTSTART:20241103T060000
END:STANDARD
BEGIN:DAYLIGHT
TZOFFSETFROM:-0500
TZOFFSETTO:-0400
TZNAME:EDT
DTSTART:20250309T070000
END:DAYLIGHT
BEGIN:STANDARD
TZOFFSETFROM:-0400
TZOFFSETTO:-0500
TZNAME:EST
DTSTART:20251102T060000
END:STANDARD
BEGIN:DAYLIGHT
TZOFFSETFROM:-0500
TZOFFSETTO:-0400
TZNAME:EDT
DTSTART:20260308T070000
END:DAYLIGHT
BEGIN:STANDARD
TZOFFSETFROM:-0400
TZOFFSETTO:-0500
TZNAME:EST
DTSTART:20261101T060000
END:STANDARD
END:VTIMEZONE
BEGIN:VEVENT
DTSTART;TZID=America/New_York:20250822T180000
DTEND;TZID=America/New_York:20250822T210000
DTSTAMP:20260421T224118
CREATED:20250604T173259Z
LAST-MODIFIED:20250615T022000Z
UID:20787-1755885600-1755896400@www.unitedskates.com
SUMMARY:Free Pizza Friday
DESCRIPTION:🍕🎉 Forget Pizza Tuesdays… It’s All About FREE Pizza Fridays! 🎉🍕Kick off your weekend the cheesy way with our delicious Free Pizza Friday! \nJoin us on Friday\, August 22nd from 6–9 PM for a night of skating\, music\, and mouthwatering pizza — on us! \n 💸Just $19.00 includes:🎟️Admission🛼Skate rental🍕A FREE slice of pizza🥤A FREE drink with your paid admission! \nWhy wait for the weekend to have fun? Grab your friends and roll into Friday with a full belly and a happy heart! \nPizza and Drinks served from 6:30pm-8:30pm \nSkip the line-buy your tickets online! BUY HERE!
URL:https://www.unitedskates.com/wickliffe/event/free-pizza-friday/
CATEGORIES:Family Events,Public Skates,Special Events
ATTACH;FMTTYPE=image/jpeg:https://unitedskates-assets.sfo3.digitaloceanspaces.com/wp-content/uploads/sites/12/2025/06/FREE-PIZZA-FRIDAYS-RINK-11.jpg
END:VEVENT
END:VCALENDAR