BEGIN:VCALENDAR
VERSION:2.0
PRODID:-//Rink 11 - Wickliffe - ECPv6.15.20//NONSGML v1.0//EN
CALSCALE:GREGORIAN
METHOD:PUBLISH
X-ORIGINAL-URL:https://www.unitedskates.com/wickliffe
X-WR-CALDESC:Events for Rink 11 - Wickliffe
REFRESH-INTERVAL;VALUE=DURATION:PT1H
X-Robots-Tag:noindex
X-PUBLISHED-TTL:PT1H
BEGIN:VTIMEZONE
TZID:America/New_York
BEGIN:DAYLIGHT
TZOFFSETFROM:-0500
TZOFFSETTO:-0400
TZNAME:EDT
DTSTART:20240310T070000
END:DAYLIGHT
BEGIN:STANDARD
TZOFFSETFROM:-0400
TZOFFSETTO:-0500
TZNAME:EST
DTSTART:20241103T060000
END:STANDARD
BEGIN:DAYLIGHT
TZOFFSETFROM:-0500
TZOFFSETTO:-0400
TZNAME:EDT
DTSTART:20250309T070000
END:DAYLIGHT
BEGIN:STANDARD
TZOFFSETFROM:-0400
TZOFFSETTO:-0500
TZNAME:EST
DTSTART:20251102T060000
END:STANDARD
BEGIN:DAYLIGHT
TZOFFSETFROM:-0500
TZOFFSETTO:-0400
TZNAME:EDT
DTSTART:20260308T070000
END:DAYLIGHT
BEGIN:STANDARD
TZOFFSETFROM:-0400
TZOFFSETTO:-0500
TZNAME:EST
DTSTART:20261101T060000
END:STANDARD
END:VTIMEZONE
BEGIN:VEVENT
DTSTART;TZID=America/New_York:20250821T180000
DTEND;TZID=America/New_York:20250821T203000
DTSTAMP:20260421T160248
CREATED:20250813T190644Z
LAST-MODIFIED:20250814T151133Z
UID:22046-1755799200-1755808200@www.unitedskates.com
SUMMARY:80s Skate Night
DESCRIPTION:🎶🛼 Totally Rad 80s Skate Night! 🛼🎶 \nBreak out the neon\, tease that hair\, and dust off those leg warmers—it’s time to roll back to the raddest decade ever! \n📅 Thursday\, August 21st 🕒 6:0opm-8:30pm \n🎵 Jam to all your favorite 80s hits🌟 Dress in your best 80s style—think neon\, denim jackets\, and big hair!📸 Snap pics in our totally tubular photo spots🏆 Best Dressed 80s Contest! \n💲 Admission: $6.00👟 Skate Rental: $6.00 \nIt’s gonna be like\, totally awesome—so grab your friends and let’s party like it’s 1985!
URL:https://www.unitedskates.com/wickliffe/event/80s-skate-night-2/
CATEGORIES:Family Events,Public Skates,Special Events
ATTACH;FMTTYPE=image/png:https://unitedskates-assets.sfo3.digitaloceanspaces.com/wp-content/uploads/sites/12/2025/08/Blue-and-Yellow-Illustrative-Retro-Music-Back-to-80s-Event-Flyer-1.png
END:VEVENT
END:VCALENDAR