BEGIN:VCALENDAR
VERSION:2.0
PRODID:-//Rink 11 - Wickliffe - ECPv6.15.20//NONSGML v1.0//EN
CALSCALE:GREGORIAN
METHOD:PUBLISH
X-WR-CALNAME:Rink 11 - Wickliffe
X-ORIGINAL-URL:https://www.unitedskates.com/wickliffe
X-WR-CALDESC:Events for Rink 11 - Wickliffe
REFRESH-INTERVAL;VALUE=DURATION:PT1H
X-Robots-Tag:noindex
X-PUBLISHED-TTL:PT1H
BEGIN:VTIMEZONE
TZID:America/New_York
BEGIN:DAYLIGHT
TZOFFSETFROM:-0500
TZOFFSETTO:-0400
TZNAME:EDT
DTSTART:20240310T070000
END:DAYLIGHT
BEGIN:STANDARD
TZOFFSETFROM:-0400
TZOFFSETTO:-0500
TZNAME:EST
DTSTART:20241103T060000
END:STANDARD
BEGIN:DAYLIGHT
TZOFFSETFROM:-0500
TZOFFSETTO:-0400
TZNAME:EDT
DTSTART:20250309T070000
END:DAYLIGHT
BEGIN:STANDARD
TZOFFSETFROM:-0400
TZOFFSETTO:-0500
TZNAME:EST
DTSTART:20251102T060000
END:STANDARD
BEGIN:DAYLIGHT
TZOFFSETFROM:-0500
TZOFFSETTO:-0400
TZNAME:EDT
DTSTART:20260308T070000
END:DAYLIGHT
BEGIN:STANDARD
TZOFFSETFROM:-0400
TZOFFSETTO:-0500
TZNAME:EST
DTSTART:20261101T060000
END:STANDARD
END:VTIMEZONE
BEGIN:VEVENT
DTSTART;TZID=America/New_York:20250812T123000
DTEND;TZID=America/New_York:20250812T150000
DTSTAMP:20260421T144643
CREATED:20250326T234203Z
LAST-MODIFIED:20250615T021719Z
UID:20150-1755001800-1755010800@www.unitedskates.com
SUMMARY:Free Lunch Skate
DESCRIPTION:Join us for a Free Lunch Skate event that combines fun on wheels with a delicious meal. \nWhether you’re a seasoned skater or a beginner\, this is the perfect opportunity to glide around while enjoying a complimentary meal. \nTuesday\, August 12th 12:30pm-3:00pm \n$12.00 includes skate rental\, a slice of cheese pizza and a drink \nPizza and drinks served from 1:00pm-2:30pm \nThis is a great way to end summer break. \nBook your daycare\, YMCA\, Summer Camp etc. Call our Sales Team 440-944-5301 \nSkip the line-buy your tickets online! BUY HERE!
URL:https://www.unitedskates.com/wickliffe/event/free-lunch-skate/
CATEGORIES:Family Events,Public Skates,Special Events
ATTACH;FMTTYPE=image/jpeg:https://unitedskates-assets.sfo3.digitaloceanspaces.com/wp-content/uploads/sites/12/2025/03/free-summer-lunch-page-001-1-scaled.jpg
END:VEVENT
BEGIN:VEVENT
DTSTART;TZID=America/New_York:20250812T180000
DTEND;TZID=America/New_York:20250812T203000
DTSTAMP:20260421T144643
CREATED:20250127T185222Z
LAST-MODIFIED:20250725T174100Z
UID:19720-1755021600-1755030600@www.unitedskates.com
SUMMARY:Summer Fun Nights
DESCRIPTION:It’s Summer Time!! \nReady for some fun on the rink! \nJoin us Tuesday-Thursday from 6:00pm-8:30pm \nAdmission $10.00 \nSkate Rental $6.00 \nSkip the line-buy your tickets online! BUY HERE!
URL:https://www.unitedskates.com/wickliffe/event/summer-fun-nights/2025-08-12/
CATEGORIES:Family Events,Public Skates
ATTACH;FMTTYPE=image/jpeg:https://unitedskates-assets.sfo3.digitaloceanspaces.com/wp-content/uploads/sites/12/2025/01/Summer-Fun-Skate-1200x1200-1.jpg
END:VEVENT
END:VCALENDAR