BEGIN:VCALENDAR
VERSION:2.0
PRODID:-//Rink 11 - Wickliffe - ECPv6.15.20//NONSGML v1.0//EN
CALSCALE:GREGORIAN
METHOD:PUBLISH
X-ORIGINAL-URL:https://www.unitedskates.com/wickliffe
X-WR-CALDESC:Events for Rink 11 - Wickliffe
REFRESH-INTERVAL;VALUE=DURATION:PT1H
X-Robots-Tag:noindex
X-PUBLISHED-TTL:PT1H
BEGIN:VTIMEZONE
TZID:America/New_York
BEGIN:DAYLIGHT
TZOFFSETFROM:-0500
TZOFFSETTO:-0400
TZNAME:EDT
DTSTART:20240310T070000
END:DAYLIGHT
BEGIN:STANDARD
TZOFFSETFROM:-0400
TZOFFSETTO:-0500
TZNAME:EST
DTSTART:20241103T060000
END:STANDARD
BEGIN:DAYLIGHT
TZOFFSETFROM:-0500
TZOFFSETTO:-0400
TZNAME:EDT
DTSTART:20250309T070000
END:DAYLIGHT
BEGIN:STANDARD
TZOFFSETFROM:-0400
TZOFFSETTO:-0500
TZNAME:EST
DTSTART:20251102T060000
END:STANDARD
BEGIN:DAYLIGHT
TZOFFSETFROM:-0500
TZOFFSETTO:-0400
TZNAME:EDT
DTSTART:20260308T070000
END:DAYLIGHT
BEGIN:STANDARD
TZOFFSETFROM:-0400
TZOFFSETTO:-0500
TZNAME:EST
DTSTART:20261101T060000
END:STANDARD
END:VTIMEZONE
BEGIN:VEVENT
DTSTART;TZID=America/New_York:20250730T123000
DTEND;TZID=America/New_York:20250730T150000
DTSTAMP:20260421T224127
CREATED:20250326T210954Z
LAST-MODIFIED:20250730T155309Z
UID:20092-1753878600-1753887600@www.unitedskates.com
SUMMARY:Game Card Day
DESCRIPTION:Join us for an exciting day filled with fun and games! \nThursday\, June 12th and Wednesday\, July 30th 12:30pm-3:00pm \nAdmission $10.00 \nSkate Rental $6.00 \nEvery paid admission will receive a 10-credit game card \nBring your friends and compete for high scores while making awesome memories. \nBook your daycare\, YMCA\, Summer Camp etc. Call our Sales Team 440-944-5301 \nSkip the line-buy your tickets online! BUY HERE! \n 
URL:https://www.unitedskates.com/wickliffe/event/game-card-day-3/2025-07-30/
CATEGORIES:Family Events,Public Skates,Special Events
ATTACH;FMTTYPE=image/jpeg:https://unitedskates-assets.sfo3.digitaloceanspaces.com/wp-content/uploads/sites/12/2024/03/GAME-card-day-2024.jpg
END:VEVENT
BEGIN:VEVENT
DTSTART;TZID=America/New_York:20250730T180000
DTEND;TZID=America/New_York:20250730T203000
DTSTAMP:20260421T224127
CREATED:20250127T185222Z
LAST-MODIFIED:20250725T174050Z
UID:19715-1753898400-1753907400@www.unitedskates.com
SUMMARY:Summer Fun Nights
DESCRIPTION:It’s Summer Time!! \nReady for some fun on the rink! \nJoin us Tuesday-Thursday from 6:00pm-8:30pm \nAdmission $10.00 \nSkate Rental $6.00 \nSkip the line-buy your tickets online! BUY HERE!
URL:https://www.unitedskates.com/wickliffe/event/summer-fun-nights/2025-07-30/
CATEGORIES:Family Events,Public Skates
ATTACH;FMTTYPE=image/jpeg:https://unitedskates-assets.sfo3.digitaloceanspaces.com/wp-content/uploads/sites/12/2025/01/Summer-Fun-Skate-1200x1200-1.jpg
END:VEVENT
END:VCALENDAR