BEGIN:VCALENDAR
VERSION:2.0
PRODID:-//Rink 11 - Wickliffe - ECPv6.15.20//NONSGML v1.0//EN
CALSCALE:GREGORIAN
METHOD:PUBLISH
X-ORIGINAL-URL:https://www.unitedskates.com/wickliffe
X-WR-CALDESC:Events for Rink 11 - Wickliffe
REFRESH-INTERVAL;VALUE=DURATION:PT1H
X-Robots-Tag:noindex
X-PUBLISHED-TTL:PT1H
BEGIN:VTIMEZONE
TZID:America/New_York
BEGIN:DAYLIGHT
TZOFFSETFROM:-0500
TZOFFSETTO:-0400
TZNAME:EDT
DTSTART:20240310T070000
END:DAYLIGHT
BEGIN:STANDARD
TZOFFSETFROM:-0400
TZOFFSETTO:-0500
TZNAME:EST
DTSTART:20241103T060000
END:STANDARD
BEGIN:DAYLIGHT
TZOFFSETFROM:-0500
TZOFFSETTO:-0400
TZNAME:EDT
DTSTART:20250309T070000
END:DAYLIGHT
BEGIN:STANDARD
TZOFFSETFROM:-0400
TZOFFSETTO:-0500
TZNAME:EST
DTSTART:20251102T060000
END:STANDARD
BEGIN:DAYLIGHT
TZOFFSETFROM:-0500
TZOFFSETTO:-0400
TZNAME:EDT
DTSTART:20260308T070000
END:DAYLIGHT
BEGIN:STANDARD
TZOFFSETFROM:-0400
TZOFFSETTO:-0500
TZNAME:EST
DTSTART:20261101T060000
END:STANDARD
END:VTIMEZONE
BEGIN:VEVENT
DTSTART;TZID=America/New_York:20250720T130000
DTEND;TZID=America/New_York:20250720T153000
DTSTAMP:20260421T224125
CREATED:20250604T153609Z
LAST-MODIFIED:20250615T020337Z
UID:20734-1753016400-1753025400@www.unitedskates.com
SUMMARY:Shark Attack Skate
DESCRIPTION:🦈🛼 Ready to Roll into Shark Week? 🛼🦈Dive into the fun and kick off Shark Week with us in jaws-dropping style! \nCome skate the day away with our fin-tastic friend Jabberjaws the Shark — he’s making waves and handing out shark-tastic prizes all day long! \nSunday\, July 20th 1:00pm-3:30pm\, 3:30pm-6:00pm and 6:30pm-9:00pm \nAdmission $13.00 \nSkate Rental $6.00 \n🌊 Event Highlights:🦈 Meet Jabberjaws🎁 Shark prizes given away throughout the event🥤 Stop by the café for your very own Shark Attack drink — it’s dangerously delicious! \nSkate\, sip\, and celebrate the start of Shark Week like never before — it’s going to be a bite of a good time! \nSkip the line-buy your tickets online! BUY HERE!
URL:https://www.unitedskates.com/wickliffe/event/shark-attack-skate-8/2025-07-20/
CATEGORIES:Family Events,Public Skates,Special Events
ATTACH;FMTTYPE=image/jpeg:https://unitedskates-assets.sfo3.digitaloceanspaces.com/wp-content/uploads/sites/12/2025/06/Shark-Attack-Skate-2024-editable-7-page-001-scaled.jpg
END:VEVENT
END:VCALENDAR