BEGIN:VCALENDAR
VERSION:2.0
PRODID:-//Rink 11 - Wickliffe - ECPv6.15.20//NONSGML v1.0//EN
CALSCALE:GREGORIAN
METHOD:PUBLISH
X-ORIGINAL-URL:https://www.unitedskates.com/wickliffe
X-WR-CALDESC:Events for Rink 11 - Wickliffe
REFRESH-INTERVAL;VALUE=DURATION:PT1H
X-Robots-Tag:noindex
X-PUBLISHED-TTL:PT1H
BEGIN:VTIMEZONE
TZID:America/New_York
BEGIN:DAYLIGHT
TZOFFSETFROM:-0500
TZOFFSETTO:-0400
TZNAME:EDT
DTSTART:20240310T070000
END:DAYLIGHT
BEGIN:STANDARD
TZOFFSETFROM:-0400
TZOFFSETTO:-0500
TZNAME:EST
DTSTART:20241103T060000
END:STANDARD
BEGIN:DAYLIGHT
TZOFFSETFROM:-0500
TZOFFSETTO:-0400
TZNAME:EDT
DTSTART:20250309T070000
END:DAYLIGHT
BEGIN:STANDARD
TZOFFSETFROM:-0400
TZOFFSETTO:-0500
TZNAME:EST
DTSTART:20251102T060000
END:STANDARD
BEGIN:DAYLIGHT
TZOFFSETFROM:-0500
TZOFFSETTO:-0400
TZNAME:EDT
DTSTART:20260308T070000
END:DAYLIGHT
BEGIN:STANDARD
TZOFFSETFROM:-0400
TZOFFSETTO:-0500
TZNAME:EST
DTSTART:20261101T060000
END:STANDARD
END:VTIMEZONE
BEGIN:VEVENT
DTSTART;TZID=America/New_York:20250719T123000
DTEND;TZID=America/New_York:20250719T150000
DTSTAMP:20260421T224117
CREATED:20250604T155005Z
LAST-MODIFIED:20250615T020156Z
UID:20760-1752928200-1752937200@www.unitedskates.com
SUMMARY:Skate and Play Saturday
DESCRIPTION:🛼🎯 Ready to Skate & Play? 🎯🛼Get set for an action-packed Saturday afternoon filled with skating fun and laser tag thrills! \nJoin us on Saturday\, July 19th 12:30pm-3:00pm to skate the day away — and as a bonus\, you’ll get a complimentary game of laser tag with your paid admission! \nAdmission $13.00 \nSkate Rental $6.00 \n🎉 What’s included:🛼 Open skating all afternoon🎯 FREE laser tag game🎶 Great music\, great vibes\, and nonstop fun! \nDon’t miss your chance to roll\, race\, and tag your way through the best Saturday of the summer! \nSkip the line-buy your tickets online! BUY HERE!
URL:https://www.unitedskates.com/wickliffe/event/skate-and-play-saturday/
CATEGORIES:Family Events,Public Skates,Special Events
ATTACH;FMTTYPE=image/jpeg:https://unitedskates-assets.sfo3.digitaloceanspaces.com/wp-content/uploads/sites/12/2025/06/Skate-and-Play-Saturday-editable-1-page-001-1-scaled.jpg
END:VEVENT
END:VCALENDAR