BEGIN:VCALENDAR
VERSION:2.0
PRODID:-//Rink 11 - Wickliffe - ECPv6.15.20//NONSGML v1.0//EN
CALSCALE:GREGORIAN
METHOD:PUBLISH
X-WR-CALNAME:Rink 11 - Wickliffe
X-ORIGINAL-URL:https://www.unitedskates.com/wickliffe
X-WR-CALDESC:Events for Rink 11 - Wickliffe
REFRESH-INTERVAL;VALUE=DURATION:PT1H
X-Robots-Tag:noindex
X-PUBLISHED-TTL:PT1H
BEGIN:VTIMEZONE
TZID:America/New_York
BEGIN:DAYLIGHT
TZOFFSETFROM:-0500
TZOFFSETTO:-0400
TZNAME:EDT
DTSTART:20240310T070000
END:DAYLIGHT
BEGIN:STANDARD
TZOFFSETFROM:-0400
TZOFFSETTO:-0500
TZNAME:EST
DTSTART:20241103T060000
END:STANDARD
BEGIN:DAYLIGHT
TZOFFSETFROM:-0500
TZOFFSETTO:-0400
TZNAME:EDT
DTSTART:20250309T070000
END:DAYLIGHT
BEGIN:STANDARD
TZOFFSETFROM:-0400
TZOFFSETTO:-0500
TZNAME:EST
DTSTART:20251102T060000
END:STANDARD
BEGIN:DAYLIGHT
TZOFFSETFROM:-0500
TZOFFSETTO:-0400
TZNAME:EDT
DTSTART:20260308T070000
END:DAYLIGHT
BEGIN:STANDARD
TZOFFSETFROM:-0400
TZOFFSETTO:-0500
TZNAME:EST
DTSTART:20261101T060000
END:STANDARD
END:VTIMEZONE
BEGIN:VEVENT
DTSTART;TZID=America/New_York:20250711T123000
DTEND;TZID=America/New_York:20250711T150000
DTSTAMP:20260422T000341
CREATED:20250326T223233Z
LAST-MODIFIED:20250615T015557Z
UID:20128-1752237000-1752246000@www.unitedskates.com
SUMMARY:Dino Skate
DESCRIPTION:Are you ready to roar? \nJoin us for a prehistoric adventure where you can skate like a dinosaur! \nYou will also get a chance to WIN dinosaur themed prizes. \nFriday\, July 11th 12:30pm-3:00pm \nAdmission $10.00 \nSkate Rental $6.00 \nGet a free dinosaur with paid admission \nWear your best dino-themed clothing!! \nBonus: You might be able to meet a dinosaur! \nBook your daycare\, YMCA\, Summer Camp etc. Call our Sales Team 440-944-5301 \nSkip the line-buy your tickets online! BUY HERE!
URL:https://www.unitedskates.com/wickliffe/event/dino-skate/
CATEGORIES:Family Events,Public Skates,Special Events
ATTACH;FMTTYPE=image/png:https://unitedskates-assets.sfo3.digitaloceanspaces.com/wp-content/uploads/sites/12/2025/03/dino-tile.png
END:VEVENT
BEGIN:VEVENT
DTSTART;TZID=America/New_York:20250711T180000
DTEND;TZID=America/New_York:20250711T210000
DTSTAMP:20260422T000341
CREATED:20250604T151052Z
LAST-MODIFIED:20250615T015638Z
UID:20714-1752256800-1752267600@www.unitedskates.com
SUMMARY:Christmas in July Celebration
DESCRIPTION:🎄 🛼Christmas in July on Skates! 🛼🎄Get ready to jingle all the way… in the middle of summer! Join us for a magical\, icy-cool holiday celebration like no other – Christmas in July on Skates! \nLace up your skates and glide into the festive fun as we bring the holiday cheer to life with surprise visits from some of your favorite Christmas characters — from the lovable Olaf to the mischievous Grinch (don’t worry\, he’s bringing Max too!). \nFriday\, July 11th 6:00pm-9:00pm \nAdmission $13.00 \nSkate Rental $6.00 \n🎁 What to expect:✨ Festive music & wintery vibes🎅 Character meet & greets🍭 Holiday treats🎉 Joy\, laughter\, and unforgettable memories \nWhether you’re naughty or nice\, come help us spread the joy of Christmas — sunshine-style! Skates on\, spirits up\, and let’s sleigh this summer together! \nBONUS!!! Join in the Epic Snowball Fight from 8:30pm-9:00pm \nSkip the line-buy your tickets online! BUY HERE!
URL:https://www.unitedskates.com/wickliffe/event/christmas-in-july-celebration/
CATEGORIES:Family Events,Public Skates,Special Events
ATTACH;FMTTYPE=image/jpeg:https://unitedskates-assets.sfo3.digitaloceanspaces.com/wp-content/uploads/sites/12/2025/06/Christmas-IN-July-2025-v2-page-001-scaled.jpg
END:VEVENT
END:VCALENDAR